BEGIN:VCALENDAR
VERSION:2.0
PRODID:-//Horseshoe Falls Regional Council - ECPv6.15.20//NONSGML v1.0//EN
CALSCALE:GREGORIAN
METHOD:PUBLISH
X-ORIGINAL-URL:https://hfrcucc.ca
X-WR-CALDESC:Events for Horseshoe Falls Regional Council
REFRESH-INTERVAL;VALUE=DURATION:PT1H
X-Robots-Tag:noindex
X-PUBLISHED-TTL:PT1H
BEGIN:VTIMEZONE
TZID:America/Toronto
BEGIN:DAYLIGHT
TZOFFSETFROM:-0500
TZOFFSETTO:-0400
TZNAME:EDT
DTSTART:20240310T070000
END:DAYLIGHT
BEGIN:STANDARD
TZOFFSETFROM:-0400
TZOFFSETTO:-0500
TZNAME:EST
DTSTART:20241103T060000
END:STANDARD
BEGIN:DAYLIGHT
TZOFFSETFROM:-0500
TZOFFSETTO:-0400
TZNAME:EDT
DTSTART:20250309T070000
END:DAYLIGHT
BEGIN:STANDARD
TZOFFSETFROM:-0400
TZOFFSETTO:-0500
TZNAME:EST
DTSTART:20251102T060000
END:STANDARD
BEGIN:DAYLIGHT
TZOFFSETFROM:-0500
TZOFFSETTO:-0400
TZNAME:EDT
DTSTART:20260308T070000
END:DAYLIGHT
BEGIN:STANDARD
TZOFFSETFROM:-0400
TZOFFSETTO:-0500
TZNAME:EST
DTSTART:20261101T060000
END:STANDARD
END:VTIMEZONE
BEGIN:VEVENT
DTSTART;VALUE=DATE:20250614
DTEND;VALUE=DATE:20250615
DTSTAMP:20260419T094512
CREATED:20241125T162334Z
LAST-MODIFIED:20250317T170707Z
UID:15582-1749859200-1749945599@hfrcucc.ca
SUMMARY:HFRC Spring Meeting 2025 (Hybrid)
DESCRIPTION:Hybrid and In-Person \nWhen: Saturday June14th\nWhere: St. Andrew’s United Church\, Hamilton \nCelebration of Ministry: St. Andrew’s United Church\, Hamilton at 4pm\, In-person and Livestreamed on YouTube
URL:https://hfrcucc.ca/event/hfrc-spring-meeting-2025-hybrid-2/
CATEGORIES:Community,Events,Learning Opportunity,Regional Council Meeting,Speakers
ATTACH;FMTTYPE=image/png:https://hfrcucc.ca/wp-content/uploads/2025/03/HF-Spring-2025.png
END:VEVENT
END:VCALENDAR