BEGIN:VCALENDAR
VERSION:2.0
PRODID:-//Horseshoe Falls Regional Council - ECPv6.15.20//NONSGML v1.0//EN
CALSCALE:GREGORIAN
METHOD:PUBLISH
X-WR-CALNAME:Horseshoe Falls Regional Council
X-ORIGINAL-URL:https://hfrcucc.ca
X-WR-CALDESC:Events for Horseshoe Falls Regional Council
REFRESH-INTERVAL;VALUE=DURATION:PT1H
X-Robots-Tag:noindex
X-PUBLISHED-TTL:PT1H
BEGIN:VTIMEZONE
TZID:America/New_York
BEGIN:DAYLIGHT
TZOFFSETFROM:-0500
TZOFFSETTO:-0400
TZNAME:EDT
DTSTART:20210314T070000
END:DAYLIGHT
BEGIN:STANDARD
TZOFFSETFROM:-0400
TZOFFSETTO:-0500
TZNAME:EST
DTSTART:20211107T060000
END:STANDARD
BEGIN:DAYLIGHT
TZOFFSETFROM:-0500
TZOFFSETTO:-0400
TZNAME:EDT
DTSTART:20220313T070000
END:DAYLIGHT
BEGIN:STANDARD
TZOFFSETFROM:-0400
TZOFFSETTO:-0500
TZNAME:EST
DTSTART:20221106T060000
END:STANDARD
BEGIN:DAYLIGHT
TZOFFSETFROM:-0500
TZOFFSETTO:-0400
TZNAME:EDT
DTSTART:20230312T070000
END:DAYLIGHT
BEGIN:STANDARD
TZOFFSETFROM:-0400
TZOFFSETTO:-0500
TZNAME:EST
DTSTART:20231105T060000
END:STANDARD
END:VTIMEZONE
BEGIN:VEVENT
DTSTART;TZID=America/New_York:20220531T193000
DTEND;TZID=America/New_York:20220531T193000
DTSTAMP:20260419T132038
CREATED:20220509T141511Z
LAST-MODIFIED:20220511T130226Z
UID:7229-1654025400-1654025400@hfrcucc.ca
SUMMARY:Online Spiritual Gathering with Sacred Fire and Film Screening
DESCRIPTION:Online Spiritual Gathering with Sacred Fire and Film Screening \nTuesday May 31st\, 2022 @ 7:30 PM Eastern (6:30 PM Central) via Zoom \nJoin the SW Ontario Tri-Regions for an Online spiritual gathering and screening of NFB Film: Honour to Senator Murray Sinclair. This film is newly released and includes the then Senator Sinclair speaking\, and clips of Residential School Survivors speaking to the TRC. The film is brief but moving\, and includes some painful but important sharing. Watch the film trailer: https://www.nfb.ca/film/honour-to-senator-murray-sinclair/. \nThe Spiritual Gathering will be led from Sandy-Saulteaux Spiritual Center\, by three leaders from Cape Croker United Church in Neyaashiinigmiing: \nSheila Robson – Ishkoodeh Kwe (Fire Woman)\, Bear Clan on her Father’s side and Turtle Clan on her Mother’s Side\, was raised and currently lives at Neyaashiinigmiing. She has been training under the wings of many Grandmothers\, Grandfathers and Healers for over 20. (please read bio here) \nKen Albert is a fire keeper from Deshkaan Ziibing which is Chippewas of The Thames First Nation\, and now lives at Neyaashiinigmiing. He is Deer Clan and Son of Joyce Johnston. He will be keeping fire for us outside Sandy-Saulteaux Spiritual Center. \nJoyce Johnston is a wise teacher\, spiritual leader and grandmother who serves as student minister at Cape Croker United Church in Neyaashiinigmiing. \nTo join us\, register for this event: https://united-church.zoom.us/meeting/register/tZctcu6trz4jGtCetslXZKu5Ke5g3B5IKhra \nAfter registering\, you will receive a confirmation email containing information about joining the meeting. \nThis event is sponsored by: \nAntler River Watershed\, Horseshoe Falls and Western Ontario Waterways Regional Councils of The United Church of Canada.\nThank you to the NFB for their support in making this event happen.\nThank you to Sandy-Saulteaux Spiritual Centre for sharing their space for this event. \nFor more information contact: \n Thérèse Samuel (she/her) tsamuel@united-church.ca\nMinister\, Right Relations and Social Justice\nAntler River Watershed\, Western Ontario Waterways\, Horseshoe Falls\nThe United Church of Canada\n1-833-236-0280 ext. 9\n905-659-3343 ext. 9
URL:https://hfrcucc.ca/event/online-spiritual-gathering-with-sacred-fire-and-film-screening/
LOCATION:Online via Zoom
CATEGORIES:Anti-Racism,Community,Events,Indigenous Justice,Learning Opportunity,Online Gathering,Social Justice,Speakers
END:VEVENT
BEGIN:VEVENT
DTSTART;TZID=America/New_York:20220112T130000
DTEND;TZID=America/New_York:20220112T143000
DTSTAMP:20260419T132038
CREATED:20211221T184113Z
LAST-MODIFIED:20211221T184113Z
UID:6466-1641992400-1641997800@hfrcucc.ca
SUMMARY:Anti-Racism and Your Music Ministry
DESCRIPTION:
URL:https://hfrcucc.ca/event/anti-racism-and-your-music-ministry/
LOCATION:Online via Zoom
CATEGORIES:Anti-Racism,Community,Learning Opportunity,Music,Online Gathering
ATTACH;FMTTYPE=image/jpeg:https://hfrcucc.ca/wp-content/uploads/2021/12/350x197_Anti_Racism-Music.jpg
END:VEVENT
END:VCALENDAR