BEGIN:VCALENDAR
VERSION:2.0
PRODID:-//Horseshoe Falls Regional Council - ECPv6.15.20//NONSGML v1.0//EN
CALSCALE:GREGORIAN
METHOD:PUBLISH
X-WR-CALNAME:Horseshoe Falls Regional Council
X-ORIGINAL-URL:https://hfrcucc.ca
X-WR-CALDESC:Events for Horseshoe Falls Regional Council
REFRESH-INTERVAL;VALUE=DURATION:PT1H
X-Robots-Tag:noindex
X-PUBLISHED-TTL:PT1H
BEGIN:VTIMEZONE
TZID:America/Toronto
BEGIN:DAYLIGHT
TZOFFSETFROM:-0500
TZOFFSETTO:-0400
TZNAME:EDT
DTSTART:20240310T070000
END:DAYLIGHT
BEGIN:STANDARD
TZOFFSETFROM:-0400
TZOFFSETTO:-0500
TZNAME:EST
DTSTART:20241103T060000
END:STANDARD
BEGIN:DAYLIGHT
TZOFFSETFROM:-0500
TZOFFSETTO:-0400
TZNAME:EDT
DTSTART:20250309T070000
END:DAYLIGHT
BEGIN:STANDARD
TZOFFSETFROM:-0400
TZOFFSETTO:-0500
TZNAME:EST
DTSTART:20251102T060000
END:STANDARD
BEGIN:DAYLIGHT
TZOFFSETFROM:-0500
TZOFFSETTO:-0400
TZNAME:EDT
DTSTART:20260308T070000
END:DAYLIGHT
BEGIN:STANDARD
TZOFFSETFROM:-0400
TZOFFSETTO:-0500
TZNAME:EST
DTSTART:20261101T060000
END:STANDARD
END:VTIMEZONE
BEGIN:VEVENT
DTSTART;TZID=America/Toronto:20251204T130000
DTEND;TZID=America/Toronto:20251204T140000
DTSTAMP:20260419T111902
CREATED:20251107T200632Z
LAST-MODIFIED:20251107T201211Z
UID:26682-1764853200-1764856800@hfrcucc.ca
SUMMARY:HFRC Zoom Clergy Gathering
DESCRIPTION:CLERGY ZOOM GATHERING \n“HOLDING SPACE FOR YOURSELF: \nCLERGY SELF-CARE DURING ADVENT & CHRISTMAS” \nThe Advent and Christmas season invites us to proclaim joy and hope — yet for many in ministry\, it is also the most demanding time of year. As clergy\, we pour our hearts into creating meaningful worship\, caring for others\, and sustaining community life. \nLaurie Stevenson\, Minister of Pastoral Support\, invites you to join her as she offers you gentle reminders and practical tools to nurture your own spirit through the busy season\, so that you can serve with renewed energy\, health\, and joy. \nZoom gatherings will be held for each Regional Council\, however\, if the time of another RC gathering works best for you feel free to join in! \nANTLER RIVER: Thursday\, December 4\, 10am-11am \nHORSESHOE FALLS: Thursday\, December 4\, 1pm- 2pm \nWESTERN ONTARIO WATERWAYS: Friday\, December 5\, 10am-11am \nRegister Now: CLERGY ZOOM GATHERING – Fill out form
URL:https://hfrcucc.ca/event/hfrc-zoom-clergy-gathering/
LOCATION:Online via Zoom
CATEGORIES:Clergy Gathering,Community,Events,Online Gathering
ATTACH;FMTTYPE=image/png:https://hfrcucc.ca/wp-content/uploads/2025/11/CLERGY-ZOOM-GATHERING-HOLDING-SPACE-FOR-YOURSELF-CLERGY-SELF-CARE-DURING-ADVENT-CHRISTMASv2.png
END:VEVENT
END:VCALENDAR