BEGIN:VCALENDAR
VERSION:2.0
PRODID:-//Horseshoe Falls Regional Council - ECPv6.15.20//NONSGML v1.0//EN
CALSCALE:GREGORIAN
METHOD:PUBLISH
X-WR-CALNAME:Horseshoe Falls Regional Council
X-ORIGINAL-URL:https://hfrcucc.ca
X-WR-CALDESC:Events for Horseshoe Falls Regional Council
REFRESH-INTERVAL;VALUE=DURATION:PT1H
X-Robots-Tag:noindex
X-PUBLISHED-TTL:PT1H
BEGIN:VTIMEZONE
TZID:America/New_York
BEGIN:DAYLIGHT
TZOFFSETFROM:-0500
TZOFFSETTO:-0400
TZNAME:EDT
DTSTART:20240310T070000
END:DAYLIGHT
BEGIN:STANDARD
TZOFFSETFROM:-0400
TZOFFSETTO:-0500
TZNAME:EST
DTSTART:20241103T060000
END:STANDARD
BEGIN:DAYLIGHT
TZOFFSETFROM:-0500
TZOFFSETTO:-0400
TZNAME:EDT
DTSTART:20250309T070000
END:DAYLIGHT
BEGIN:STANDARD
TZOFFSETFROM:-0400
TZOFFSETTO:-0500
TZNAME:EST
DTSTART:20251102T060000
END:STANDARD
BEGIN:DAYLIGHT
TZOFFSETFROM:-0500
TZOFFSETTO:-0400
TZNAME:EDT
DTSTART:20260308T070000
END:DAYLIGHT
BEGIN:STANDARD
TZOFFSETFROM:-0400
TZOFFSETTO:-0500
TZNAME:EST
DTSTART:20261101T060000
END:STANDARD
END:VTIMEZONE
BEGIN:VTIMEZONE
TZID:America/Toronto
BEGIN:DAYLIGHT
TZOFFSETFROM:-0500
TZOFFSETTO:-0400
TZNAME:EDT
DTSTART:20240310T070000
END:DAYLIGHT
BEGIN:STANDARD
TZOFFSETFROM:-0400
TZOFFSETTO:-0500
TZNAME:EST
DTSTART:20241103T060000
END:STANDARD
BEGIN:DAYLIGHT
TZOFFSETFROM:-0500
TZOFFSETTO:-0400
TZNAME:EDT
DTSTART:20250309T070000
END:DAYLIGHT
BEGIN:STANDARD
TZOFFSETFROM:-0400
TZOFFSETTO:-0500
TZNAME:EST
DTSTART:20251102T060000
END:STANDARD
BEGIN:DAYLIGHT
TZOFFSETFROM:-0500
TZOFFSETTO:-0400
TZNAME:EDT
DTSTART:20260308T070000
END:DAYLIGHT
BEGIN:STANDARD
TZOFFSETFROM:-0400
TZOFFSETTO:-0500
TZNAME:EST
DTSTART:20261101T060000
END:STANDARD
BEGIN:DAYLIGHT
TZOFFSETFROM:-0500
TZOFFSETTO:-0400
TZNAME:EDT
DTSTART:20270314T070000
END:DAYLIGHT
BEGIN:STANDARD
TZOFFSETFROM:-0400
TZOFFSETTO:-0500
TZNAME:EST
DTSTART:20271107T060000
END:STANDARD
END:VTIMEZONE
BEGIN:VEVENT
DTSTART;TZID=America/New_York:20250122T150000
DTEND;TZID=America/New_York:20250122T160000
DTSTAMP:20260422T181510
CREATED:20250103T214657Z
LAST-MODIFIED:20250103T214657Z
UID:15768-1737558000-1737561600@hfrcucc.ca
SUMMARY:HF Online Clergy Gathering
DESCRIPTION:
URL:https://hfrcucc.ca/event/hf-online-clergy-gathering-10/
LOCATION:Online via Zoom
CATEGORIES:Clergy Gathering,Community,Events,Learning Opportunity,Meeting,Ministry Personnel,Online Gathering
ATTACH;FMTTYPE=image/png:https://hfrcucc.ca/wp-content/uploads/2025/01/January-2025-KS.png
ORGANIZER;CN="Kevin Steeper":MAILTO:KSteeper@united-church.ca
END:VEVENT
BEGIN:VEVENT
DTSTART;TZID=America/New_York:20250123T140000
DTEND;TZID=America/New_York:20250123T150000
DTSTAMP:20260422T181510
CREATED:20250103T214728Z
LAST-MODIFIED:20250103T214728Z
UID:15769-1737640800-1737644400@hfrcucc.ca
SUMMARY:WOW Online Clergy Gathering
DESCRIPTION:
URL:https://hfrcucc.ca/event/wow-online-clergy-gathering-11/
LOCATION:Online via Zoom
CATEGORIES:Clergy Gathering,Community,Events,Learning Opportunity,Meeting,Ministry Personnel,Online Gathering
ORGANIZER;CN="Kevin Steeper":MAILTO:KSteeper@united-church.ca
END:VEVENT
BEGIN:VEVENT
DTSTART;TZID=America/New_York:20250218T140000
DTEND;TZID=America/New_York:20250218T150000
DTSTAMP:20260422T181510
CREATED:20250203T172452Z
LAST-MODIFIED:20250203T172452Z
UID:16384-1739887200-1739890800@hfrcucc.ca
SUMMARY:ARW Online Clergy Gathering
DESCRIPTION:As you continue your preparations for the Lenten season\, you are invited to come and join with colleagues in ministry for a time of conversation\, support and information sharing.\n\nARW gathering  Feb. 18\, 2025 – 2pm\nHF gathering Feb. 19\, 2025 – 3pm\nWOW gathering Feb. 20\, 2025 – 2pm\n\nThe meeting link will be sent the week of the gathering.
URL:https://hfrcucc.ca/event/arw-online-clergy-gathering-12/
LOCATION:Online via Zoom
CATEGORIES:Clergy Gathering,Community,Events,Learning Opportunity,Meeting,Ministry Personnel,Online Gathering
ORGANIZER;CN="Kevin Steeper":MAILTO:KSteeper@united-church.ca
END:VEVENT
BEGIN:VEVENT
DTSTART;TZID=America/New_York:20250219T150000
DTEND;TZID=America/New_York:20250219T160000
DTSTAMP:20260422T181510
CREATED:20250203T172600Z
LAST-MODIFIED:20250203T172600Z
UID:16387-1739977200-1739980800@hfrcucc.ca
SUMMARY:HF Online Clergy Gathering
DESCRIPTION:As you continue your preparations for the Lenten season\, you are invited to come and join with colleagues in ministry for a time of conversation\, support and information sharing.\n\nARW gathering  Feb. 18\, 2025 – 2pm\nHF gathering Feb. 19\, 2025 – 3pm\nWOW gathering Feb. 20\, 2025 – 2pm\n\nThe meeting link will be sent the week of the gathering.
URL:https://hfrcucc.ca/event/hf-online-clergy-gathering-11/
LOCATION:Online via Zoom
CATEGORIES:Clergy Gathering,Community,Events,Learning Opportunity,Meeting,Ministry Personnel,Online Gathering
ATTACH;FMTTYPE=image/png:https://hfrcucc.ca/wp-content/uploads/2025/02/February-2025.png
ORGANIZER;CN="Kevin Steeper":MAILTO:KSteeper@united-church.ca
END:VEVENT
BEGIN:VEVENT
DTSTART;TZID=America/New_York:20250220T140000
DTEND;TZID=America/New_York:20250220T150000
DTSTAMP:20260422T181510
CREATED:20250203T172657Z
LAST-MODIFIED:20250203T172657Z
UID:16389-1740060000-1740063600@hfrcucc.ca
SUMMARY:WOW Online Clergy Gathering
DESCRIPTION:As you continue your preparations for the Lenten season\, you are invited to come and join with colleagues in ministry for a time of conversation\, support and information sharing.\n\nARW gathering  Feb. 18\, 2025 – 2pm\nHF gathering Feb. 19\, 2025 – 3pm\nWOW gathering Feb. 20\, 2025 – 2pm\n\nThe meeting link will be sent the week of the gathering.
URL:https://hfrcucc.ca/event/wow-online-clergy-gathering-12/
LOCATION:Online via Zoom
CATEGORIES:Clergy Gathering,Community,Events,Learning Opportunity,Meeting,Ministry Personnel,Online Gathering
ORGANIZER;CN="Kevin Steeper":MAILTO:KSteeper@united-church.ca
END:VEVENT
BEGIN:VEVENT
DTSTART;TZID=America/Toronto:20250829T093000
DTEND;TZID=America/Toronto:20250829T103000
DTSTAMP:20260422T181510
CREATED:20250829T174714Z
LAST-MODIFIED:20250829T174714Z
UID:23856-1756459800-1756463400@hfrcucc.ca
SUMMARY:Zoom Clergy Coffee with the HFRC President
DESCRIPTION:Fridays from 9:30-10:30 a.m. \nDrop in any time – no agenda. \nFor clergy to gather\, hang out\, chat with each other and the regional prez. \nClergy coffee with the prez Fridays 9:30-10:30\nDrop in and chat – no agenda\nJoin Zoom Meeting\nhttps://us02web.zoom.us/j/88578115957?pwd=GXrmwkRyB0eSu7PDqSby9HFuEJ7UEG.1 \nMeeting ID: 885 7811 5957\nPasscode: 123456 \nSee you soon! HFRC President Sula Anne Kosacky
URL:https://hfrcucc.ca/event/zoom-clergy-coffee-with-the-hfrc-president/
LOCATION:Online via Zoom
CATEGORIES:Clergy Gathering,Community,Ministry Personnel,Online Gathering
ATTACH;FMTTYPE=image/png:https://hfrcucc.ca/wp-content/uploads/2025/08/HF-Clergy-Coffee-Time.png
END:VEVENT
BEGIN:VEVENT
DTSTART;TZID=America/Toronto:20250905T093000
DTEND;TZID=America/Toronto:20250905T103000
DTSTAMP:20260422T181510
CREATED:20250829T174737Z
LAST-MODIFIED:20250829T174737Z
UID:23859-1757064600-1757068200@hfrcucc.ca
SUMMARY:Zoom Clergy Coffee with the HFRC President
DESCRIPTION:Fridays from 9:30-10:30 a.m. \nDrop in any time – no agenda. \nFor clergy to gather\, hang out\, chat with each other and the regional prez. \nClergy coffee with the prez Fridays 9:30-10:30\nDrop in and chat – no agenda\nJoin Zoom Meeting\nhttps://us02web.zoom.us/j/88578115957?pwd=GXrmwkRyB0eSu7PDqSby9HFuEJ7UEG.1 \nMeeting ID: 885 7811 5957\nPasscode: 123456 \nSee you soon! HFRC President Sula Anne Kosacky
URL:https://hfrcucc.ca/event/zoom-clergy-coffee-with-the-hfrc-president-2/
LOCATION:Online via Zoom
CATEGORIES:Clergy Gathering,Community,Ministry Personnel,Online Gathering
ATTACH;FMTTYPE=image/png:https://hfrcucc.ca/wp-content/uploads/2025/08/HF-Clergy-Coffee-Time.png
END:VEVENT
BEGIN:VEVENT
DTSTART;TZID=America/Toronto:20250912T093000
DTEND;TZID=America/Toronto:20250912T103000
DTSTAMP:20260422T181510
CREATED:20250829T174800Z
LAST-MODIFIED:20250829T174800Z
UID:23861-1757669400-1757673000@hfrcucc.ca
SUMMARY:Zoom Clergy Coffee with the HFRC President
DESCRIPTION:Fridays from 9:30-10:30 a.m. \nDrop in any time – no agenda. \nFor clergy to gather\, hang out\, chat with each other and the regional prez. \nClergy coffee with the prez Fridays 9:30-10:30\nDrop in and chat – no agenda\nJoin Zoom Meeting\nhttps://us02web.zoom.us/j/88578115957?pwd=GXrmwkRyB0eSu7PDqSby9HFuEJ7UEG.1 \nMeeting ID: 885 7811 5957\nPasscode: 123456 \nSee you soon! HFRC President Sula Anne Kosacky
URL:https://hfrcucc.ca/event/zoom-clergy-coffee-with-the-hfrc-president-3/
LOCATION:Online via Zoom
CATEGORIES:Clergy Gathering,Community,Ministry Personnel,Online Gathering
ATTACH;FMTTYPE=image/png:https://hfrcucc.ca/wp-content/uploads/2025/08/HF-Clergy-Coffee-Time.png
END:VEVENT
BEGIN:VEVENT
DTSTART;TZID=America/Toronto:20250919T093000
DTEND;TZID=America/Toronto:20250919T103000
DTSTAMP:20260422T181510
CREATED:20250829T174825Z
LAST-MODIFIED:20250829T174825Z
UID:23863-1758274200-1758277800@hfrcucc.ca
SUMMARY:Zoom Clergy Coffee with the HFRC President
DESCRIPTION:Fridays from 9:30-10:30 a.m. \nDrop in any time – no agenda. \nFor clergy to gather\, hang out\, chat with each other and the regional prez. \nClergy coffee with the prez Fridays 9:30-10:30\nDrop in and chat – no agenda\nJoin Zoom Meeting\nhttps://us02web.zoom.us/j/88578115957?pwd=GXrmwkRyB0eSu7PDqSby9HFuEJ7UEG.1 \nMeeting ID: 885 7811 5957\nPasscode: 123456 \nSee you soon! HFRC President Sula Anne Kosacky
URL:https://hfrcucc.ca/event/zoom-clergy-coffee-with-the-hfrc-president-4/
LOCATION:Online via Zoom
CATEGORIES:Clergy Gathering,Community,Ministry Personnel,Online Gathering
ATTACH;FMTTYPE=image/png:https://hfrcucc.ca/wp-content/uploads/2025/08/HF-Clergy-Coffee-Time.png
END:VEVENT
BEGIN:VEVENT
DTSTART;TZID=America/Toronto:20250926T093000
DTEND;TZID=America/Toronto:20250926T103000
DTSTAMP:20260422T181510
CREATED:20250829T174858Z
LAST-MODIFIED:20250829T174858Z
UID:23865-1758879000-1758882600@hfrcucc.ca
SUMMARY:Zoom Clergy Coffee with the HFRC President
DESCRIPTION:Fridays from 9:30-10:30 a.m. \nDrop in any time – no agenda. \nFor clergy to gather\, hang out\, chat with each other and the regional prez. \nClergy coffee with the prez Fridays 9:30-10:30\nDrop in and chat – no agenda\nJoin Zoom Meeting\nhttps://us02web.zoom.us/j/88578115957?pwd=GXrmwkRyB0eSu7PDqSby9HFuEJ7UEG.1 \nMeeting ID: 885 7811 5957\nPasscode: 123456 \nSee you soon! HFRC President Sula Anne Kosacky
URL:https://hfrcucc.ca/event/zoom-clergy-coffee-with-the-hfrc-president-5/
LOCATION:Online via Zoom
CATEGORIES:Clergy Gathering,Community,Ministry Personnel,Online Gathering
ATTACH;FMTTYPE=image/png:https://hfrcucc.ca/wp-content/uploads/2025/08/HF-Clergy-Coffee-Time.png
END:VEVENT
BEGIN:VEVENT
DTSTART;TZID=America/Toronto:20251204T130000
DTEND;TZID=America/Toronto:20251204T140000
DTSTAMP:20260422T181510
CREATED:20251107T200632Z
LAST-MODIFIED:20251107T201211Z
UID:26682-1764853200-1764856800@hfrcucc.ca
SUMMARY:HFRC Zoom Clergy Gathering
DESCRIPTION:CLERGY ZOOM GATHERING \n“HOLDING SPACE FOR YOURSELF: \nCLERGY SELF-CARE DURING ADVENT & CHRISTMAS” \nThe Advent and Christmas season invites us to proclaim joy and hope — yet for many in ministry\, it is also the most demanding time of year. As clergy\, we pour our hearts into creating meaningful worship\, caring for others\, and sustaining community life. \nLaurie Stevenson\, Minister of Pastoral Support\, invites you to join her as she offers you gentle reminders and practical tools to nurture your own spirit through the busy season\, so that you can serve with renewed energy\, health\, and joy. \nZoom gatherings will be held for each Regional Council\, however\, if the time of another RC gathering works best for you feel free to join in! \nANTLER RIVER: Thursday\, December 4\, 10am-11am \nHORSESHOE FALLS: Thursday\, December 4\, 1pm- 2pm \nWESTERN ONTARIO WATERWAYS: Friday\, December 5\, 10am-11am \nRegister Now: CLERGY ZOOM GATHERING – Fill out form
URL:https://hfrcucc.ca/event/hfrc-zoom-clergy-gathering/
LOCATION:Online via Zoom
CATEGORIES:Clergy Gathering,Community,Events,Online Gathering
ATTACH;FMTTYPE=image/png:https://hfrcucc.ca/wp-content/uploads/2025/11/CLERGY-ZOOM-GATHERING-HOLDING-SPACE-FOR-YOURSELF-CLERGY-SELF-CARE-DURING-ADVENT-CHRISTMASv2.png
END:VEVENT
BEGIN:VEVENT
DTSTART;TZID=America/Toronto:20260122T130000
DTEND;TZID=America/Toronto:20260122T141500
DTSTAMP:20260422T181510
CREATED:20260107T165318Z
LAST-MODIFIED:20260107T165318Z
UID:40803-1769086800-1769091300@hfrcucc.ca
SUMMARY:Zoom Clergy Gathering - Making the Most of Study Leave
DESCRIPTION:Zoom link:\n\nTopic: Workshop on Study Leave\nTime: Jan 22\, 2026 01:00 PM America/Toronto\nJoin Zoom Meeting\nhttps://us06web.zoom.us/j/81883645749?pwd=hs4SdjxdDqypIihF2BdQbz7Wts6mfn.1\n\nMeeting ID: 818 8364 5749\nPasscode: 246188
URL:https://hfrcucc.ca/event/zoom-clergy-gathering-making-the-most-of-study-leave/
LOCATION:Online via Zoom
CATEGORIES:Clergy Gathering,Events,Learning Opportunity,Online Gathering,Regional Council,Sabbatical
ATTACH;FMTTYPE=image/png:https://hfrcucc.ca/wp-content/uploads/2026/01/clergygatheringjanuary2026.png
ORGANIZER;CN="Laurie Stevenson":MAILTO:LStevenson@united-church.ca
END:VEVENT
BEGIN:VEVENT
DTSTART;TZID=America/Toronto:20260312T130000
DTEND;TZID=America/Toronto:20260312T130000
DTSTAMP:20260422T181510
CREATED:20260224T162452Z
LAST-MODIFIED:20260224T162452Z
UID:41569-1773320400-1773320400@hfrcucc.ca
SUMMARY:Clergy Gathering
DESCRIPTION:Hosted by Laurie Stevenson\, Minister Pastoral Support\nNo Registration Required – Join Zoom Meeting\nhttps://us06web.zoom.us/j/83894431649?pwd=Je8cszpfphSaGa6z8ymGb3XrYTra3O.1\nMeeting ID: 838 9443 1649\nPasscode: 990324
URL:https://hfrcucc.ca/event/clergy-gathering/
LOCATION:Online by Zoom link
CATEGORIES:Clergy Gathering,Community,Events,Learning Opportunity,Online Gathering
ATTACH;FMTTYPE=image/jpeg:https://hfrcucc.ca/wp-content/uploads/2026/02/Sabbatical-Clergy-Event.jpg
ORGANIZER;CN="Laurie Stevenson":MAILTO:LStevenson@united-church.ca
END:VEVENT
BEGIN:VEVENT
DTSTART;VALUE=DATE:20260603
DTEND;VALUE=DATE:20260606
DTSTAMP:20260422T181510
CREATED:20260420T210219Z
LAST-MODIFIED:20260420T210219Z
UID:41949-1780444800-1780703999@hfrcucc.ca
SUMMARY:Clergy Retreat - Rooted and Rising
DESCRIPTION:
URL:https://hfrcucc.ca/event/clergy-retreat-rooted-and-rising/
LOCATION:Five Oaks Education and Retreat Centre\, 1 Bethel Road\, Paris\, Ontario\, N3L 3E3\, Canada
CATEGORIES:Camps & Retreats,Clergy Gathering,Community,Events,Learning Opportunity,Regional Council,Speakers
ATTACH;FMTTYPE=image/png:https://hfrcucc.ca/wp-content/uploads/2026/04/Clergy-Retreat-Poster-2.png
ORGANIZER;CN="Laurie Stevenson":MAILTO:LStevenson@united-church.ca
END:VEVENT
END:VCALENDAR