BEGIN:VCALENDAR
VERSION:2.0
PRODID:-//Horseshoe Falls Regional Council - ECPv6.15.20//NONSGML v1.0//EN
CALSCALE:GREGORIAN
METHOD:PUBLISH
X-WR-CALNAME:Horseshoe Falls Regional Council
X-ORIGINAL-URL:https://hfrcucc.ca
X-WR-CALDESC:Events for Horseshoe Falls Regional Council
REFRESH-INTERVAL;VALUE=DURATION:PT1H
X-Robots-Tag:noindex
X-PUBLISHED-TTL:PT1H
BEGIN:VTIMEZONE
TZID:America/New_York
BEGIN:DAYLIGHT
TZOFFSETFROM:-0500
TZOFFSETTO:-0400
TZNAME:EDT
DTSTART:20230312T070000
END:DAYLIGHT
BEGIN:STANDARD
TZOFFSETFROM:-0400
TZOFFSETTO:-0500
TZNAME:EST
DTSTART:20231105T060000
END:STANDARD
BEGIN:DAYLIGHT
TZOFFSETFROM:-0500
TZOFFSETTO:-0400
TZNAME:EDT
DTSTART:20240310T070000
END:DAYLIGHT
BEGIN:STANDARD
TZOFFSETFROM:-0400
TZOFFSETTO:-0500
TZNAME:EST
DTSTART:20241103T060000
END:STANDARD
BEGIN:DAYLIGHT
TZOFFSETFROM:-0500
TZOFFSETTO:-0400
TZNAME:EDT
DTSTART:20250309T070000
END:DAYLIGHT
BEGIN:STANDARD
TZOFFSETFROM:-0400
TZOFFSETTO:-0500
TZNAME:EST
DTSTART:20251102T060000
END:STANDARD
END:VTIMEZONE
BEGIN:VEVENT
DTSTART;TZID=America/New_York:20241023T150000
DTEND;TZID=America/New_York:20241023T160000
DTSTAMP:20260420T002146
CREATED:20241009T141718Z
LAST-MODIFIED:20241009T141718Z
UID:14286-1729695600-1729699200@hfrcucc.ca
SUMMARY:HF Online Clergy Gathering
DESCRIPTION:
URL:https://hfrcucc.ca/event/hf-online-clergy-gathering-7/
LOCATION:Online via Zoom
CATEGORIES:Clergy Gathering,Community,Events,Learning Opportunity,Meeting,Ministry Personnel,Online Gathering
ATTACH;FMTTYPE=image/png:https://hfrcucc.ca/wp-content/uploads/2024/10/October-2024.png
ORGANIZER;CN="Kevin Steeper":MAILTO:KSteeper@united-church.ca
END:VEVENT
END:VCALENDAR