BEGIN:VCALENDAR
VERSION:2.0
PRODID:-//Horseshoe Falls Regional Council - ECPv6.15.20//NONSGML v1.0//EN
CALSCALE:GREGORIAN
METHOD:PUBLISH
X-WR-CALNAME:Horseshoe Falls Regional Council
X-ORIGINAL-URL:https://hfrcucc.ca
X-WR-CALDESC:Events for Horseshoe Falls Regional Council
REFRESH-INTERVAL;VALUE=DURATION:PT1H
X-Robots-Tag:noindex
X-PUBLISHED-TTL:PT1H
BEGIN:VTIMEZONE
TZID:America/Toronto
BEGIN:DAYLIGHT
TZOFFSETFROM:-0500
TZOFFSETTO:-0400
TZNAME:EDT
DTSTART:20230312T070000
END:DAYLIGHT
BEGIN:STANDARD
TZOFFSETFROM:-0400
TZOFFSETTO:-0500
TZNAME:EST
DTSTART:20231105T060000
END:STANDARD
BEGIN:DAYLIGHT
TZOFFSETFROM:-0500
TZOFFSETTO:-0400
TZNAME:EDT
DTSTART:20240310T070000
END:DAYLIGHT
BEGIN:STANDARD
TZOFFSETFROM:-0400
TZOFFSETTO:-0500
TZNAME:EST
DTSTART:20241103T060000
END:STANDARD
BEGIN:DAYLIGHT
TZOFFSETFROM:-0500
TZOFFSETTO:-0400
TZNAME:EDT
DTSTART:20250309T070000
END:DAYLIGHT
BEGIN:STANDARD
TZOFFSETFROM:-0400
TZOFFSETTO:-0500
TZNAME:EST
DTSTART:20251102T060000
END:STANDARD
BEGIN:DAYLIGHT
TZOFFSETFROM:-0500
TZOFFSETTO:-0400
TZNAME:EDT
DTSTART:20260308T070000
END:DAYLIGHT
BEGIN:STANDARD
TZOFFSETFROM:-0400
TZOFFSETTO:-0500
TZNAME:EST
DTSTART:20261101T060000
END:STANDARD
END:VTIMEZONE
BEGIN:VTIMEZONE
TZID:America/New_York
BEGIN:DAYLIGHT
TZOFFSETFROM:-0500
TZOFFSETTO:-0400
TZNAME:EDT
DTSTART:20220313T070000
END:DAYLIGHT
BEGIN:STANDARD
TZOFFSETFROM:-0400
TZOFFSETTO:-0500
TZNAME:EST
DTSTART:20221106T060000
END:STANDARD
BEGIN:DAYLIGHT
TZOFFSETFROM:-0500
TZOFFSETTO:-0400
TZNAME:EDT
DTSTART:20230312T070000
END:DAYLIGHT
BEGIN:STANDARD
TZOFFSETFROM:-0400
TZOFFSETTO:-0500
TZNAME:EST
DTSTART:20231105T060000
END:STANDARD
BEGIN:DAYLIGHT
TZOFFSETFROM:-0500
TZOFFSETTO:-0400
TZNAME:EDT
DTSTART:20240310T070000
END:DAYLIGHT
BEGIN:STANDARD
TZOFFSETFROM:-0400
TZOFFSETTO:-0500
TZNAME:EST
DTSTART:20241103T060000
END:STANDARD
BEGIN:DAYLIGHT
TZOFFSETFROM:-0500
TZOFFSETTO:-0400
TZNAME:EDT
DTSTART:20250309T070000
END:DAYLIGHT
BEGIN:STANDARD
TZOFFSETFROM:-0400
TZOFFSETTO:-0500
TZNAME:EST
DTSTART:20251102T060000
END:STANDARD
END:VTIMEZONE
BEGIN:VEVENT
DTSTART;TZID=America/Toronto:20250922T083000
DTEND;TZID=America/Toronto:20250922T083000
DTSTAMP:20260419T085744
CREATED:20250829T172412Z
LAST-MODIFIED:20250829T172412Z
UID:23843-1758529800-1758529800@hfrcucc.ca
SUMMARY:Mission Support Grant Deadline
DESCRIPTION:More information here: \nMission Support Grants
URL:https://hfrcucc.ca/event/mission-support-grant-deadline/
CATEGORIES:Mission Support Grants,Regional Council,Social Justice
ATTACH;FMTTYPE=image/png:https://hfrcucc.ca/wp-content/uploads/2025/06/MSGrants2026.png
END:VEVENT
BEGIN:VEVENT
DTSTART;TZID=America/Toronto:20240918T190000
DTEND;TZID=America/Toronto:20240918T200000
DTSTAMP:20260419T085744
CREATED:20240628T181238Z
LAST-MODIFIED:20240628T181238Z
UID:12251-1726686000-1726689600@hfrcucc.ca
SUMMARY:Ask An Expert
DESCRIPTION:We’re trying something new. We’re introducing an Ask An Expert series in partnership with the General Council Office. You ask the questions\, and we’ll provide the expertise. \nWho are the experts? Well\, it depends on the topic and staff availability. \nMaybe you want to know more about the insurance partnership between the GCO and Communities of Faith. Or what you do when the local newspaper calls (or when you want to get a good story out). Or what the new government relations officer does. Or what the cost-of-living-adjustment is. \nIt’s kind of like a Pick-Your-Own-Adventure book. Here’s how it works: \n1. You send us your questions here: https://forms.office.com/r/q7UM9spU9z \n2. We find the expert who can answer them. \n3. We all tune in on Wednesday September 18th\, 7-8 p.m. by Zoom here: https://united-church.zoom.us/j/89972136949 \n4. As many questions will be answered as can be within the allotted time. Unanswered questions will carry over to the next session\, or we’ll answer them on our Regional Council Facebook group. \n5. Tough questions are okay. We’ll do our best to answer them\, and if we can’t on the spot\, we’ll follow up with the right information. \nSo\, pick your adventure. Will it be insurance? Or grants? Climate justice? Governance? Media relations? Government relations? Global partnerships? Or something else? \nYou pick. Ask your question here: https://forms.office.com/r/q7UM9spU9z.  Join us on Wednesday September 18th at 7 p.m. to get an answer in real time. Don’t have a question right now? Listeners welcome! \nThis session will be facilitated by: Michelle Owens
URL:https://hfrcucc.ca/event/ask-an-expert/
LOCATION:Online via Zoom
CATEGORIES:2SLGBTQIA,Affirming,Anti-Racism,Camps & Retreats,Climate Change,Community,Events,General Council,Indigenous Justice,Intercultural Ministry,Learning Opportunity,Meeting,Ministry Personnel,Mission Support Grants,Music,Online Gathering,Regional Council,Social Justice,Speakers,Staff,Stewardship,UCW,Youth & Kids
ATTACH;FMTTYPE=image/png:https://hfrcucc.ca/wp-content/uploads/2024/06/Ask-An-Expert-v5.png
END:VEVENT
BEGIN:VEVENT
DTSTART;VALUE=DATE:20240524
DTEND;VALUE=DATE:20240527
DTSTAMP:20260419T085744
CREATED:20240118T172942Z
LAST-MODIFIED:20240305T014530Z
UID:10288-1716508800-1716767999@hfrcucc.ca
SUMMARY:Save the Dates: Spring 2024 Tri Regional Council Meeting
DESCRIPTION:Spring 2024 Tri-Regional Council Meeting \nREGISTER for the Tri-Regional Council Meeting\nTime will be designated for each individual Regional Council to meet separately. Each Regional Council will be electing their GC45 Commissioners\, President Elect and slate of Executive/Commission members.\nFriday May 24: 2 PM start & Friday evening The Right Rev. Dr. Carmen Lansdowne will speak\nSaturday\, May 25: All day. Includes Celebration of Ministries Service in the afternoon\nSunday\, May 26: 9 AM to Noon: Includes Honouring of Retirees\, Jubilands\, In Memoriam\, Community of Faith Life Cycle Changes
URL:https://hfrcucc.ca/event/save-the-dates-spring-2024-tri-regional-council-meeting/
CATEGORIES:2SLGBTQIA,Affirming,Anti-Racism,Camps & Retreats,Clergy Gathering,Climate Change,Community,Events,General Council,Indigenous Justice,Learning Opportunity,Meeting,Ministry Personnel,Mission Support Grants,Music,Online Gathering,Regional Council,Regional Council Meeting,Registration,Social Justice,Speakers,Staff,Stewardship,UCW
ATTACH;FMTTYPE=image/png:https://hfrcucc.ca/wp-content/uploads/2024/01/Tri-RCMeeting2024-2.png
END:VEVENT
BEGIN:VEVENT
DTSTART;TZID=America/New_York:20240220T190000
DTEND;TZID=America/New_York:20240220T190000
DTSTAMP:20260419T085744
CREATED:20240130T155338Z
LAST-MODIFIED:20240130T155338Z
UID:10382-1708455600-1708455600@hfrcucc.ca
SUMMARY:Good News: How to Share the Impact of your Ministry
DESCRIPTION:Good News: How to Share the Impact of your Ministry \n\nLearn how to inspire current and potential donors with the story of your ministry\, project or outreach initiative\nHear how to tell your story when reporting to grant organizations or applying for a grant\nInspire other communities of faith as we share the good news of God at work in our regions\n\nSession will include examples of inspiring stories from right here in our regions as well as time for discussion and Q&A. \nRegister here: https://united-church.zoom.us/meeting/register/tZMpfuyhqTgsEtJu7zpRbldzViJPzpRPXqvz#/registration \nThe session will be recorded and posted to region websites.
URL:https://hfrcucc.ca/event/good-news-how-to-share-the-impact-of-your-ministry/
LOCATION:Online via Zoom
CATEGORIES:Community,Events,Learning Opportunity,Meeting,Mission Support Grants,Online Gathering,Regional Council,Social Justice,Speakers,Stewardship
ATTACH;FMTTYPE=image/png:https://hfrcucc.ca/wp-content/uploads/2024/01/GoodNewsv2.png
END:VEVENT
BEGIN:VEVENT
DTSTART;VALUE=DATE:20231027
DTEND;VALUE=DATE:20231029
DTSTAMP:20260419T085744
CREATED:20230828T160507Z
LAST-MODIFIED:20230828T160507Z
UID:8902-1698364800-1698537599@hfrcucc.ca
SUMMARY:Antler River Watershed Fall Regional Council Meeting
DESCRIPTION:
URL:https://hfrcucc.ca/event/antler-river-watershed-fall-regional-council-meeting/
LOCATION:Online via Zoom
CATEGORIES:2SLGBTQIA,Affirming,Anti-Racism,Clergy Gathering,Climate Change,Community,Events,General Council,Indigenous Justice,Learning Opportunity,Meeting,Ministry Personnel,Mission Support Grants,Music,Online Gathering,Regional Council,Regional Council Meeting,Social Justice,Speakers,Staff,Stewardship,UCW
ATTACH;FMTTYPE=image/png:https://hfrcucc.ca/wp-content/uploads/2023/08/arwfall2023.png
END:VEVENT
BEGIN:VEVENT
DTSTART;VALUE=DATE:20230928
DTEND;VALUE=DATE:20231002
DTSTAMP:20260419T085744
CREATED:20230828T161424Z
LAST-MODIFIED:20230828T161424Z
UID:8906-1695859200-1696204799@hfrcucc.ca
SUMMARY:Western Ontario Waterways Fall Regional Council Meeting
DESCRIPTION:
URL:https://hfrcucc.ca/event/western-ontario-waterways-fall-regional-council-meeting/
CATEGORIES:2SLGBTQIA,Affirming,Anti-Racism,Clergy Gathering,Climate Change,Community,Events,General Council,Indigenous Justice,Learning Opportunity,Meeting,Ministry Personnel,Mission Support Grants,Music,Online Gathering,Regional Council,Regional Council Meeting,Social Justice,Speakers,Stewardship,UCW,Youth & Kids
ATTACH;FMTTYPE=image/png:https://hfrcucc.ca/wp-content/uploads/2023/08/wowfall2023.png
END:VEVENT
BEGIN:VEVENT
DTSTART;TZID=America/New_York:20230530T160000
DTEND;TZID=America/New_York:20230530T170000
DTSTAMP:20260419T085744
CREATED:20230503T160527Z
LAST-MODIFIED:20230503T160527Z
UID:8540-1685462400-1685466000@hfrcucc.ca
SUMMARY:Support Workshop for Mission Support Grants
DESCRIPTION:MISSION & SUPPORT GRANTS\nJoin us for an important support workshop on applying for Mission Support Grants. 💲💲💲\n\n \n\n\nWhen & Where: Tuesday May 30th from 4-5pm via Zoom and will be recorded.\n\n\n \n\n\nEmail: Kathy Douglas at KDouglas@United-Church.ca for the Zoom link.
URL:https://hfrcucc.ca/event/support-workshop-for-mission-support-grants/
LOCATION:Online via Zoom
CATEGORIES:2SLGBTQIA,Affirming,Anti-Racism,Camps & Retreats,Climate Change,Community,Events,Indigenous Justice,Learning Opportunity,Mission Support Grants,Online Gathering,Regional Council,Social Justice
ATTACH;FMTTYPE=image/jpeg:https://hfrcucc.ca/wp-content/uploads/2023/05/Support-Workshop-Mission-Support-Grants.jpg
END:VEVENT
END:VCALENDAR