BEGIN:VCALENDAR
VERSION:2.0
PRODID:-//Horseshoe Falls Regional Council - ECPv6.15.20//NONSGML v1.0//EN
CALSCALE:GREGORIAN
METHOD:PUBLISH
X-WR-CALNAME:Horseshoe Falls Regional Council
X-ORIGINAL-URL:https://hfrcucc.ca
X-WR-CALDESC:Events for Horseshoe Falls Regional Council
REFRESH-INTERVAL;VALUE=DURATION:PT1H
X-Robots-Tag:noindex
X-PUBLISHED-TTL:PT1H
BEGIN:VTIMEZONE
TZID:America/New_York
BEGIN:DAYLIGHT
TZOFFSETFROM:-0500
TZOFFSETTO:-0400
TZNAME:EDT
DTSTART:20230312T070000
END:DAYLIGHT
BEGIN:STANDARD
TZOFFSETFROM:-0400
TZOFFSETTO:-0500
TZNAME:EST
DTSTART:20231105T060000
END:STANDARD
BEGIN:DAYLIGHT
TZOFFSETFROM:-0500
TZOFFSETTO:-0400
TZNAME:EDT
DTSTART:20240310T070000
END:DAYLIGHT
BEGIN:STANDARD
TZOFFSETFROM:-0400
TZOFFSETTO:-0500
TZNAME:EST
DTSTART:20241103T060000
END:STANDARD
BEGIN:DAYLIGHT
TZOFFSETFROM:-0500
TZOFFSETTO:-0400
TZNAME:EDT
DTSTART:20250309T070000
END:DAYLIGHT
BEGIN:STANDARD
TZOFFSETFROM:-0400
TZOFFSETTO:-0500
TZNAME:EST
DTSTART:20251102T060000
END:STANDARD
END:VTIMEZONE
BEGIN:VEVENT
DTSTART;VALUE=DATE:20240607
DTEND;VALUE=DATE:20240609
DTSTAMP:20260423T170112
CREATED:20240408T194349Z
LAST-MODIFIED:20240408T195928Z
UID:11390-1717718400-1717891199@hfrcucc.ca
SUMMARY:Kids Across the Regions 2024
DESCRIPTION:Camp Bimini\, St. Paul’s\, Ontario (Google map) \nKids Across the Regions is a fun\, faith-filled weekend for children (in grades 4-8) from across the three regional councils of Antler River Watershed\, Western Ontario Waterways and Horseshoe Falls of The United Church of Canada! \nPlease note: your GPS and/or Google Maps will not lead you to the camp! Download a Camp Map and Directions\, Participant Letter\, Permission Form and Packing List.\nThese are also attached in the Confirmation Email once you submit your registration. \nKnowing that families have different financial realities\, we offer a Voluntary Three-Tier Pricing System. Participants can choose the tier that is most suitable for their family: $50\, $60\, $70 (closest to actual cost). There is no cost for Leaders. \nPayment is by E-Transfer to hfrc@united-church.ca. \nAPPLICATION DEADLINE: MAY 24th Your application\, signatures & payment are required to complete your registration. If you don’t receive a Confirmation Email after submitting the registration form please call Kathy Douglas at 519-441-0656 to confirm we have received your registration. \nRegister Now:\nEvent Leader Registration\n  \nChild Participant Registration
URL:https://hfrcucc.ca/event/kids-across-the-region-2024/
LOCATION:Camp Bimini\, 3180 Perth Road\, St. Paul’s\, Ontario\, N0K 1V0\, Canada
CATEGORIES:2SLGBTQIA,Affirming,Anti-Racism,Camps & Retreats,Community,Events,Learning Opportunity,Regional Council,Youth & Kids
ATTACH;FMTTYPE=image/png:https://hfrcucc.ca/wp-content/uploads/2024/04/KAR2024Header.png
END:VEVENT
BEGIN:VEVENT
DTSTART;TZID=America/New_York:20240608T100000
DTEND;TZID=America/New_York:20240608T143000
DTSTAMP:20260423T170112
CREATED:20240131T164151Z
LAST-MODIFIED:20240526T134427Z
UID:10410-1717840800-1717857000@hfrcucc.ca
SUMMARY:The Day of Fellowship - Horseshoe Falls
DESCRIPTION:Register Now\n  \nSave the Date: \nThe Day of Fellowship will launch us into the year long Centenary Celebration of the United Church with Greetings from General Secretary\, The Rev. Michael Blair. \nRenewal and Transformation … A Season of Hope \nThe day will begin with Gathering at 10:00am \nMorning service 10:30am – 12:00 noon \nLunch Break 12:00 noon – 1:00pm \nAfternoon Session from 1-2:30pm (cultural expressions from around the region). \n  \nWatch this video:
URL:https://hfrcucc.ca/event/the-day-of-fellowship-horseshoe-falls/
CATEGORIES:Community,Events,Festival,Music,Regional Council,Speakers
ATTACH;FMTTYPE=image/png:https://hfrcucc.ca/wp-content/uploads/2024/01/DAYOFFELLOWSHIPHF-2.png
END:VEVENT
BEGIN:VEVENT
DTSTART;TZID=America/New_York:20240613T113000
DTEND;TZID=America/New_York:20240613T150000
DTSTAMP:20260423T170112
CREATED:20240227T154928Z
LAST-MODIFIED:20240607T170014Z
UID:10918-1718278200-1718290800@hfrcucc.ca
SUMMARY:ARW Regional Council Orientation
DESCRIPTION:To be held at: St. Andrews United Church\, Chatham\, ON
URL:https://hfrcucc.ca/event/arw-executive-and-commissions-orientation/
CATEGORIES:Meeting,Regional Council
END:VEVENT
BEGIN:VEVENT
DTSTART;TZID=America/New_York:20240625T190000
DTEND;TZID=America/New_York:20240625T210000
DTSTAMP:20260423T170112
CREATED:20240205T193057Z
LAST-MODIFIED:20240205T193057Z
UID:10541-1719342000-1719349200@hfrcucc.ca
SUMMARY:The Basics: Ministry & Personnel Committee Workshops
DESCRIPTION:The Basics: Ministry & Personnel Committee Workshops\nOnline by Zoom\, Spring 2024 dates:\nFebruary 15th 2-4pm\, March 19th 7-9pm\, May 8th 2-4pm and June 25th 7-9pm\nwith Micol Cottrell\, Minister\, Pastoral Relations \n \nOrdered ministers and designated lay ministers while in paid accountable ministry positions are office holders within The United Church of Canada. \nWhile there may be elements similar to employment\, \nthe essential nature of the relationship is a covenant.  \n~ Statement on Ministry in The United Church of Canada (2012) \nNew members are often elected to the vital Ministry & Personnel Committee near the start of the year\, although M&P Committee membership can change for many other reasons throughout the year. \nThe Basics will help a new member learn the essentials of this crucial role. More experienced members of M&P Committees are invited to take this workshop as a refresher with their team\, and keep up with changing United Church practices and policies. This workshop is open to members from Western Ontario Waterways\, Antler River Watershed and Horseshoe Falls Regional Councils! \nPlease Note: each member of your M&P Committee attending this workshop is required to register. \nIn your Confirmation Email\, you will receive the Zoom link and material in preparation for the meeting to make the most of our time together. If you have questions about the content\, please email Micol Cottrell\, Minister\, Pastoral Relations\, at MCottrell@united-church.ca\, or better yet\, write down the questions to bring with you.
URL:https://hfrcucc.ca/event/the-basics-ministry-personnel-committee-workshops-4/
LOCATION:Online via Zoom
CATEGORIES:Events,Learning Opportunity,Ministry Personnel,Regional Council
ORGANIZER;CN="Micol Cottrell":MAILTO:MCottrell@united-church.ca
END:VEVENT
BEGIN:VEVENT
DTSTART;TZID=America/New_York:20240626T090000
DTEND;TZID=America/New_York:20240626T090000
DTSTAMP:20260423T170112
CREATED:20240227T155033Z
LAST-MODIFIED:20240227T155751Z
UID:10920-1719392400-1719392400@hfrcucc.ca
SUMMARY:HF Regional Council Orientation
DESCRIPTION:
URL:https://hfrcucc.ca/event/hf-executive-and-commissions-orientation-3/
CATEGORIES:Meeting,Regional Council
END:VEVENT
END:VCALENDAR