BEGIN:VCALENDAR
VERSION:2.0
PRODID:-//Horseshoe Falls Regional Council - ECPv6.15.20//NONSGML v1.0//EN
CALSCALE:GREGORIAN
METHOD:PUBLISH
X-WR-CALNAME:Horseshoe Falls Regional Council
X-ORIGINAL-URL:https://hfrcucc.ca
X-WR-CALDESC:Events for Horseshoe Falls Regional Council
REFRESH-INTERVAL;VALUE=DURATION:PT1H
X-Robots-Tag:noindex
X-PUBLISHED-TTL:PT1H
BEGIN:VTIMEZONE
TZID:America/New_York
BEGIN:DAYLIGHT
TZOFFSETFROM:-0500
TZOFFSETTO:-0400
TZNAME:EDT
DTSTART:20240310T070000
END:DAYLIGHT
BEGIN:STANDARD
TZOFFSETFROM:-0400
TZOFFSETTO:-0500
TZNAME:EST
DTSTART:20241103T060000
END:STANDARD
BEGIN:DAYLIGHT
TZOFFSETFROM:-0500
TZOFFSETTO:-0400
TZNAME:EDT
DTSTART:20250309T070000
END:DAYLIGHT
BEGIN:STANDARD
TZOFFSETFROM:-0400
TZOFFSETTO:-0500
TZNAME:EST
DTSTART:20251102T060000
END:STANDARD
BEGIN:DAYLIGHT
TZOFFSETFROM:-0500
TZOFFSETTO:-0400
TZNAME:EDT
DTSTART:20260308T070000
END:DAYLIGHT
BEGIN:STANDARD
TZOFFSETFROM:-0400
TZOFFSETTO:-0500
TZNAME:EST
DTSTART:20261101T060000
END:STANDARD
END:VTIMEZONE
BEGIN:VTIMEZONE
TZID:America/Toronto
BEGIN:DAYLIGHT
TZOFFSETFROM:-0500
TZOFFSETTO:-0400
TZNAME:EDT
DTSTART:20240310T070000
END:DAYLIGHT
BEGIN:STANDARD
TZOFFSETFROM:-0400
TZOFFSETTO:-0500
TZNAME:EST
DTSTART:20241103T060000
END:STANDARD
BEGIN:DAYLIGHT
TZOFFSETFROM:-0500
TZOFFSETTO:-0400
TZNAME:EDT
DTSTART:20250309T070000
END:DAYLIGHT
BEGIN:STANDARD
TZOFFSETFROM:-0400
TZOFFSETTO:-0500
TZNAME:EST
DTSTART:20251102T060000
END:STANDARD
BEGIN:DAYLIGHT
TZOFFSETFROM:-0500
TZOFFSETTO:-0400
TZNAME:EDT
DTSTART:20260308T070000
END:DAYLIGHT
BEGIN:STANDARD
TZOFFSETFROM:-0400
TZOFFSETTO:-0500
TZNAME:EST
DTSTART:20261101T060000
END:STANDARD
END:VTIMEZONE
BEGIN:VEVENT
DTSTART;TZID=America/New_York:20250219T150000
DTEND;TZID=America/New_York:20250219T160000
DTSTAMP:20260419T171241
CREATED:20250203T172600Z
LAST-MODIFIED:20250203T172600Z
UID:16387-1739977200-1739980800@hfrcucc.ca
SUMMARY:HF Online Clergy Gathering
DESCRIPTION:As you continue your preparations for the Lenten season\, you are invited to come and join with colleagues in ministry for a time of conversation\, support and information sharing.\n\nARW gathering  Feb. 18\, 2025 – 2pm\nHF gathering Feb. 19\, 2025 – 3pm\nWOW gathering Feb. 20\, 2025 – 2pm\n\nThe meeting link will be sent the week of the gathering.
URL:https://hfrcucc.ca/event/hf-online-clergy-gathering-11/
LOCATION:Online via Zoom
CATEGORIES:Clergy Gathering,Community,Events,Learning Opportunity,Meeting,Ministry Personnel,Online Gathering
ATTACH;FMTTYPE=image/png:https://hfrcucc.ca/wp-content/uploads/2025/02/February-2025.png
ORGANIZER;CN="Kevin Steeper":MAILTO:KSteeper@united-church.ca
END:VEVENT
BEGIN:VEVENT
DTSTART;TZID=America/New_York:20250219T093000
DTEND;TZID=America/New_York:20250219T113000
DTSTAMP:20260419T171241
CREATED:20250203T210914Z
LAST-MODIFIED:20250203T210914Z
UID:16408-1739957400-1739964600@hfrcucc.ca
SUMMARY:WOW Regional Council Executive Meeting
DESCRIPTION:
URL:https://hfrcucc.ca/event/wow-regional-council-executive-meeting-12/
CATEGORIES:Meeting
END:VEVENT
BEGIN:VEVENT
DTSTART;TZID=America/New_York:20250218T140000
DTEND;TZID=America/New_York:20250218T150000
DTSTAMP:20260419T171241
CREATED:20250203T172452Z
LAST-MODIFIED:20250203T172452Z
UID:16384-1739887200-1739890800@hfrcucc.ca
SUMMARY:ARW Online Clergy Gathering
DESCRIPTION:As you continue your preparations for the Lenten season\, you are invited to come and join with colleagues in ministry for a time of conversation\, support and information sharing.\n\nARW gathering  Feb. 18\, 2025 – 2pm\nHF gathering Feb. 19\, 2025 – 3pm\nWOW gathering Feb. 20\, 2025 – 2pm\n\nThe meeting link will be sent the week of the gathering.
URL:https://hfrcucc.ca/event/arw-online-clergy-gathering-12/
LOCATION:Online via Zoom
CATEGORIES:Clergy Gathering,Community,Events,Learning Opportunity,Meeting,Ministry Personnel,Online Gathering
ORGANIZER;CN="Kevin Steeper":MAILTO:KSteeper@united-church.ca
END:VEVENT
BEGIN:VEVENT
DTSTART;TZID=America/New_York:20250218T100000
DTEND;TZID=America/New_York:20250218T120000
DTSTAMP:20260419T171241
CREATED:20250203T210805Z
LAST-MODIFIED:20250203T210805Z
UID:16406-1739872800-1739880000@hfrcucc.ca
SUMMARY:WOW Pastoral Relations Commission Meeting
DESCRIPTION:
URL:https://hfrcucc.ca/event/wow-pastoral-relations-commission-meeting/
CATEGORIES:Meeting
END:VEVENT
BEGIN:VEVENT
DTSTART;TZID=America/Toronto:20250214T130000
DTEND;TZID=America/Toronto:20250214T143000
DTSTAMP:20260419T171241
CREATED:20250128T165003Z
LAST-MODIFIED:20250128T165456Z
UID:16244-1739538000-1739543400@hfrcucc.ca
SUMMARY:Black History Month Event
DESCRIPTION:
URL:https://hfrcucc.ca/event/black-history-month-event/
LOCATION:Online via Zoom
CATEGORIES:Anti-Racism,Community,Events,Learning Opportunity,Online Gathering,Regional Council,Social Justice
ATTACH;FMTTYPE=image/png:https://hfrcucc.ca/wp-content/uploads/2025/01/BHMEventFeb142025v2.png
ORGANIZER;CN="Th%C3%A9r%C3%A8se Samuel":MAILTO:tsamuel@united-church.ca
END:VEVENT
BEGIN:VEVENT
DTSTART;TZID=America/New_York:20250213T100000
DTEND;TZID=America/New_York:20250213T100000
DTSTAMP:20260419T171241
CREATED:20250203T210633Z
LAST-MODIFIED:20250203T210633Z
UID:16404-1739440800-1739440800@hfrcucc.ca
SUMMARY:HF Congregational Support Commission Meeting
DESCRIPTION:
URL:https://hfrcucc.ca/event/hf-congregational-support-commission-meeting-16/
END:VEVENT
BEGIN:VEVENT
DTSTART;TZID=America/New_York:20250212T100000
DTEND;TZID=America/New_York:20250212T120000
DTSTAMP:20260419T171241
CREATED:20250203T210513Z
LAST-MODIFIED:20250203T210513Z
UID:16402-1739354400-1739361600@hfrcucc.ca
SUMMARY:ARW Regional Council Executive Meeting
DESCRIPTION:
URL:https://hfrcucc.ca/event/arw-regional-council-executive-meeting-13/
CATEGORIES:Meeting
END:VEVENT
BEGIN:VEVENT
DTSTART;TZID=America/New_York:20250211T100000
DTEND;TZID=America/New_York:20250211T100000
DTSTAMP:20260419T171241
CREATED:20250203T210414Z
LAST-MODIFIED:20250203T210414Z
UID:16400-1739268000-1739268000@hfrcucc.ca
SUMMARY:ARW Discipleship & Justice Meeting
DESCRIPTION:
URL:https://hfrcucc.ca/event/arw-discipleship-justice-meeting-13/
LOCATION:Online via Zoom
CATEGORIES:Meeting,Regional Council
END:VEVENT
BEGIN:VEVENT
DTSTART;TZID=America/New_York:20250211T090000
DTEND;TZID=America/New_York:20250211T090000
DTSTAMP:20260419T171241
CREATED:20250203T210320Z
LAST-MODIFIED:20250203T210320Z
UID:16398-1739264400-1739264400@hfrcucc.ca
SUMMARY:ARW Pastoral Relations Commission Meeting
DESCRIPTION:
URL:https://hfrcucc.ca/event/arw-pastoral-relations-commission-meeting/
CATEGORIES:Meeting
END:VEVENT
BEGIN:VEVENT
DTSTART;TZID=America/New_York:20250210T090000
DTEND;TZID=America/New_York:20250210T090000
DTSTAMP:20260419T171241
CREATED:20260203T204300Z
LAST-MODIFIED:20260203T204300Z
UID:41304-1739178000-1739178000@hfrcucc.ca
SUMMARY:ARW Human Resources Commission Meeting
DESCRIPTION:
URL:https://hfrcucc.ca/event/arw-human-resources-commission-meeting-17/
CATEGORIES:Meeting
END:VEVENT
BEGIN:VEVENT
DTSTART;TZID=America/Toronto:20250208T090000
DTEND;TZID=America/Toronto:20250208T150000
DTSTAMP:20260419T171241
CREATED:20241205T185324Z
LAST-MODIFIED:20241217T192624Z
UID:15672-1739005200-1739026800@hfrcucc.ca
SUMMARY:HFRC GC45 Proposals Special Meeting
DESCRIPTION:Please join us for a Horseshoe Falls Regional Council Special Meeting for GC45 proposals on Saturday February 8th from 9am-3pm with a Learning Session for questions of clarification on Tuesday\, February 4th from 6:30-8pm (for attendance to ask clarifying questions meeting registration is required). Proposals will be posted on Horseshoe Falls Regional Council website here: https://hfrcucc.ca/regional-council-meeting/ on January 30th\, 2025.  Registration will open Monday January 6th\, 2025.
URL:https://hfrcucc.ca/event/hfrc-gc45proposals-meeting-2025/
LOCATION:Online via Zoom
CATEGORIES:Events,General Council,Meeting,Online Gathering,Regional Council,Regional Council Meeting
ATTACH;FMTTYPE=image/png:https://hfrcucc.ca/wp-content/uploads/2024/12/hfrc-gc45-meeting-2025-2.png
END:VEVENT
BEGIN:VEVENT
DTSTART;TZID=America/Toronto:20250206T140000
DTEND;TZID=America/Toronto:20250206T160000
DTSTAMP:20260419T171241
CREATED:20240904T142407Z
LAST-MODIFIED:20240904T142407Z
UID:13511-1738850400-1738857600@hfrcucc.ca
SUMMARY:Ministry and Personnel The Basics Workshop
DESCRIPTION:‘The Basics’: Ministry & Personnel Committee Workshops \nOnline by Zoom\, Upcoming dates:\nOctober 3rd\, December 5th\, February 6th\, April 3rd\nwith Micol Cottrell\, Minister\, Pastoral Relations \n\nOrdered ministers and designated lay ministers while in paid accountable ministry positions are office holders within The United Church of Canada. While there may be elements similar to employment\, the essential nature of the relationship is a covenant.  \n~ Statement on Ministry in The United Church of Canada (2012) \n\nNew members are often elected to the vital Ministry & Personnel Committee near the start of the year\, although M&P Committee membership can change for many other reasons throughout the year. \nThe Basics will help a new member learn the essentials of this crucial role. More experienced members of M&P Committees are invited to take this workshop as a refresher with their team\, and keep up with changing United Church practices and policies. This workshop is open to members from Western Ontario Waterways\, Antler River Watershed and Horseshoe Falls Regional Councils! \nPlease Note: each member of your M&P Committee attending this workshop is required to register. \nIn your Confirmation Email\, you will receive the Zoom link and material in preparation for the meeting to make the most of our time together. If you have questions about the content\, please email Micol Cottrell\, Minister\, Pastoral Relations\, at MCottrell@united-church.ca\, or better yet\, write down the questions to bring with you.
URL:https://hfrcucc.ca/event/ministry-and-personnel-the-basics-workshop-3/
LOCATION:Online via Zoom
CATEGORIES:Events,Meeting,Training
END:VEVENT
BEGIN:VEVENT
DTSTART;TZID=America/New_York:20250206T110000
DTEND;TZID=America/New_York:20250206T121500
DTSTAMP:20260419T171241
CREATED:20250117T183134Z
LAST-MODIFIED:20250117T183134Z
UID:15890-1738839600-1738844100@hfrcucc.ca
SUMMARY:Lent & Easter Round Table - Children and Youth Ministry
DESCRIPTION:Sharing ideas and challenges\n\n\nCome prepared to share your ideas and/or listen to others \n\n\nContact Kathy Douglas for ZOOM link\n\n\nkdouglas@united-church.ca
URL:https://hfrcucc.ca/event/lent-easter-round-table-children-and-youth-ministry/
LOCATION:Online via Zoom
CATEGORIES:Community,Events,Learning Opportunity,Meeting,Online Gathering,Youth & Kids
ATTACH;FMTTYPE=image/png:https://hfrcucc.ca/wp-content/uploads/2025/01/LentEasterRoundtablev2.png
ORGANIZER;CN="Kathy Douglas":MAILTO:kdouglas@united-church.ca
END:VEVENT
BEGIN:VEVENT
DTSTART;TZID=America/New_York:20250206T093000
DTEND;TZID=America/New_York:20250206T113000
DTSTAMP:20260419T171241
CREATED:20250203T210101Z
LAST-MODIFIED:20250203T210101Z
UID:16394-1738834200-1738841400@hfrcucc.ca
SUMMARY:Regional Council Staff Meeting
DESCRIPTION:
URL:https://hfrcucc.ca/event/regional-council-staff-meeting-62/
LOCATION:Online via Zoom
CATEGORIES:Meeting
END:VEVENT
BEGIN:VEVENT
DTSTART;TZID=America/New_York:20250205T190000
DTEND;TZID=America/New_York:20250205T201500
DTSTAMP:20260419T171241
CREATED:20250117T183048Z
LAST-MODIFIED:20250117T183048Z
UID:15887-1738782000-1738786500@hfrcucc.ca
SUMMARY:Lent & Easter Round Table - Children and Youth Ministry
DESCRIPTION:Sharing ideas and challenges\n\n\nCome prepared to share your ideas and/or listen to others \n\n\nContact Kathy Douglas for ZOOM link\n\n\nkdouglas@united-church.ca
URL:https://hfrcucc.ca/event/lent-easter-round-table/
LOCATION:Online via Zoom
CATEGORIES:Community,Events,Learning Opportunity,Meeting,Online Gathering,Youth & Kids
ATTACH;FMTTYPE=image/png:https://hfrcucc.ca/wp-content/uploads/2025/01/LentEasterRoundtablev2.png
ORGANIZER;CN="Kathy Douglas":MAILTO:kdouglas@united-church.ca
END:VEVENT
BEGIN:VEVENT
DTSTART;TZID=America/New_York:20250205T090000
DTEND;TZID=America/New_York:20250205T110000
DTSTAMP:20260419T171241
CREATED:20250203T205936Z
LAST-MODIFIED:20250203T205936Z
UID:16392-1738746000-1738753200@hfrcucc.ca
SUMMARY:ARW Congregational Support Meeting
DESCRIPTION:
URL:https://hfrcucc.ca/event/arw-congregational-support-meeting-13/
LOCATION:Online via Zoom
CATEGORIES:Meeting
END:VEVENT
BEGIN:VEVENT
DTSTART;TZID=America/Toronto:20250204T190000
DTEND;TZID=America/Toronto:20250204T203000
DTSTAMP:20260419T171241
CREATED:20241129T162331Z
LAST-MODIFIED:20241129T162331Z
UID:15620-1738695600-1738701000@hfrcucc.ca
SUMMARY:Preaching with an Ecological Lens
DESCRIPTION:Ministry Personnel and LLWLs\, \nAre you looking for ways to address the climate crisis from the pulpit? \nJoin us online Tuesday Feb 4th\, 2025 7:00-8:30PM \nPreaching with an Ecological Lens \nA workshop offered by the Rev. Dr. HyeRan Kim Cragg\, \nPrincipal and Professor of Preaching at Emmanuel College. \n\nThe Rev. Dr. HyeRan Kim-Cragg is the 14th Principal and Professor of Preaching at Emmanuel College. She is the first racialized person holding both roles. Kim-Cragg received the Distinguished Alumni Award in 2020\, the highest honor granted to Emmanuel Alumni. She has been actively involved in the preaching life of the United Church of Canada\, a denomination that has been aspiring to become an intercultural and anti-racist church for the last 25 years. As a leading postcolonial scholar\, she has written or contributed to over 15 books including her monographs Interdependence: A Postcolonial Feminist Practical Theology (2018) Postcolonial Preaching: Creating a Ripple Effect (2021)\, both are claimed as original contributions in homiletics and practical theology. Her most recent book is Moments in Time: Sermons from the United Church of Canada 1910-2020 (UCPH\, 2024). Currently\, she is preparing a manuscript for preaching addressing the climate crisis and ecological justice with a tentative title\, A Homiletic of the EARTH. She is grateful to share some of her current research in this workshop. \nWorkshop: Preaching with an Ecological Lens \nIn this workshop Rev. Dr. HyeRan Kim-Cragg will share her insights into challenges faced by those of us who wish to address the climate crisis from the pulpit. She proposes five homiletical strategies that may help preachers and congregations face these challenges and tackle this crisis. The five strategies can be remembered using the acronym of E.A.R.T.H. which stand for the Elements of Life\, Animals in the Bible\, Rhythm of Life\, Tree of Life\, and Hesed (God’s unconditional love). Once briefly reviewing these five\, Kim-Cragg will note the Elements of Life as Water\, Fire\, Air\, and Soil that are prevalent in the Bible and well used as theological metaphors. She will focus on air\, Ruah in Hebrew. With the deepened appreciation of this sacred element of life\, Kim-Cragg will offer how to proclaim the Gospel for the sake of the Planet Earth. \nThere is no registration fee. The costs of this workshop are fully covered by Antler River Watershed\, Horseshoe Falls and Western Ontario Waterways Regional Councils. \nFor more information contact Thérèse Samuel (Minister\, Right Relations and Social Justice) tsamuel@united-church.ca \nClick to register for “Preaching with an Ecological Lens” online workshop. \nThe costs of this workshop are fully covered by Antler River Watershed\, Horseshoe Falls and Western Ontario Waterways Regional Councils.
URL:https://hfrcucc.ca/event/preaching-with-an-ecological-lens/
LOCATION:Online via Zoom
CATEGORIES:Climate Change,Community,Events,Learning Opportunity,Online Gathering,Social Justice,Speakers
ATTACH;FMTTYPE=image/jpeg:https://hfrcucc.ca/wp-content/uploads/2024/11/photo-with-the-gown-on.jpg
END:VEVENT
BEGIN:VEVENT
DTSTART;TZID=America/Toronto:20250204T183000
DTEND;TZID=America/Toronto:20250204T200000
DTSTAMP:20260419T171241
CREATED:20241205T185428Z
LAST-MODIFIED:20241217T192529Z
UID:15675-1738693800-1738699200@hfrcucc.ca
SUMMARY:HFRC Learning Session for GC45 Proposals Special Meeting
DESCRIPTION:Please join us for a Horseshoe Falls Regional Council Special Meeting for GC45 proposals on Saturday February 8th from 9am-3pm with a Learning Session for questions of clarification on Tuesday\, February 4th from 6:30-8pm (for attendance to ask clarifying questions meeting registration is required). Proposals will be posted on Horseshoe Falls Regional Council website here: https://hfrcucc.ca/regional-council-meeting/ on January 30th\, 2025.  Registration will open Monday January 6th\, 2025.
URL:https://hfrcucc.ca/event/hfrc-learning-session-for-gc45-proposals-special-meeting/
LOCATION:Online via Zoom
CATEGORIES:Events,General Council,Meeting,Online Gathering,Regional Council,Regional Council Meeting
ATTACH;FMTTYPE=image/png:https://hfrcucc.ca/wp-content/uploads/2024/12/hfrc-gc45-meeting-2025-2.png
END:VEVENT
BEGIN:VEVENT
DTSTART;VALUE=DATE:20250131
DTEND;VALUE=DATE:20250203
DTSTAMP:20260419T171241
CREATED:20241219T215059Z
LAST-MODIFIED:20241219T215059Z
UID:15722-1738281600-1738540799@hfrcucc.ca
SUMMARY:Worshiplude 2025
DESCRIPTION:Sign Up Now!\n\n\nWorshiplude 2025 \n\n\n\n\nFri. Jan. 31st – Sun. Feb. 2nd Ottawa\, Ontario Join us for a weekend in Ottawa for Winterlude activities\, a museum experience and gather with us for Dinner and Worship Saturday night at Southminster United Church (15 Aylmer Ave\, Ottawa)\n\n\n\n\n\n\n$75 per participant (Registration fee) plus spending money and enough $ for 2 lunches and 1 supper extra.\n\n\n\n\n\n\nYouth and youth groups will need to be accompanied by an adult. (At least one adult for every 7-9 youth)\n\n\n\n\n\n\nGrades 7+\n\n\n\n\n\n\nBus will begin in Beamsville\, ON and travel along the QEW to 401 and on to Ottawa. We can discuss pick up locations along the route\, once we begin to get registrations.\n\n\n\n\n\n\nWe will be billeted at a church in Ottawa. Participants can bring sleeping needs (sleeping bags\, pillows\, mattresses etc)\n\n\n\n\nRegister Now (spots are limited):https://regionalcouncil789.formstack.com/forms/worshiplude
URL:https://hfrcucc.ca/event/worshiplude-2025/
CATEGORIES:Affirming,Anti-Racism,Camps & Retreats,Community,Events,Learning Opportunity,Seasonal,Youth & Kids
ATTACH;FMTTYPE=image/png:https://hfrcucc.ca/wp-content/uploads/2024/12/Youre-invited-to.png
END:VEVENT
BEGIN:VEVENT
DTSTART;TZID=America/Toronto:20250128T190000
DTEND;TZID=America/Toronto:20250128T190000
DTSTAMP:20260419T171241
CREATED:20250117T184123Z
LAST-MODIFIED:20250117T184123Z
UID:15892-1738090800-1738090800@hfrcucc.ca
SUMMARY:Liaisons Gathering
DESCRIPTION:A time for connection\, mutual support\, and information sharing. \nWe are meeting on Tuesdays January 28th\, March 25th\, and May 27th at 7PM on Zoom. \nFor more information contact Micol Cottrell at mcottrell@united-church.ca \nRegister now here: https://regionalcouncil789.formstack.com/forms/liaisons_gathering
URL:https://hfrcucc.ca/event/liaisons-gathering/
LOCATION:Online via Zoom
CATEGORIES:Events,Learning Opportunity,Meeting,Online Gathering,Pastoral Relations,Regional Council
END:VEVENT
BEGIN:VEVENT
DTSTART;TZID=America/New_York:20250123T140000
DTEND;TZID=America/New_York:20250123T150000
DTSTAMP:20260419T171241
CREATED:20250103T214728Z
LAST-MODIFIED:20250103T214728Z
UID:15769-1737640800-1737644400@hfrcucc.ca
SUMMARY:WOW Online Clergy Gathering
DESCRIPTION:
URL:https://hfrcucc.ca/event/wow-online-clergy-gathering-11/
LOCATION:Online via Zoom
CATEGORIES:Clergy Gathering,Community,Events,Learning Opportunity,Meeting,Ministry Personnel,Online Gathering
ORGANIZER;CN="Kevin Steeper":MAILTO:KSteeper@united-church.ca
END:VEVENT
BEGIN:VEVENT
DTSTART;TZID=America/New_York:20250123T093000
DTEND;TZID=America/New_York:20250123T113000
DTSTAMP:20260419T171241
CREATED:20250106T181615Z
LAST-MODIFIED:20250106T181615Z
UID:15791-1737624600-1737631800@hfrcucc.ca
SUMMARY:Regional Council Staff Meeting
DESCRIPTION:
URL:https://hfrcucc.ca/event/regional-council-staff-meeting-61/
LOCATION:Online via Zoom
CATEGORIES:Meeting
END:VEVENT
BEGIN:VEVENT
DTSTART;TZID=America/New_York:20250122T160000
DTEND;TZID=America/New_York:20250122T160000
DTSTAMP:20260419T171241
CREATED:20250106T182458Z
LAST-MODIFIED:20250106T182458Z
UID:15808-1737561600-1737561600@hfrcucc.ca
SUMMARY:HF Regional Council Executive Meeting
DESCRIPTION:
URL:https://hfrcucc.ca/event/hf-regional-council-executive-meeting-11/
CATEGORIES:Meeting
END:VEVENT
BEGIN:VEVENT
DTSTART;TZID=America/New_York:20250122T150000
DTEND;TZID=America/New_York:20250122T160000
DTSTAMP:20260419T171241
CREATED:20250103T214657Z
LAST-MODIFIED:20250103T214657Z
UID:15768-1737558000-1737561600@hfrcucc.ca
SUMMARY:HF Online Clergy Gathering
DESCRIPTION:
URL:https://hfrcucc.ca/event/hf-online-clergy-gathering-10/
LOCATION:Online via Zoom
CATEGORIES:Clergy Gathering,Community,Events,Learning Opportunity,Meeting,Ministry Personnel,Online Gathering
ATTACH;FMTTYPE=image/png:https://hfrcucc.ca/wp-content/uploads/2025/01/January-2025-KS.png
ORGANIZER;CN="Kevin Steeper":MAILTO:KSteeper@united-church.ca
END:VEVENT
BEGIN:VEVENT
DTSTART;TZID=America/New_York:20250122T130000
DTEND;TZID=America/New_York:20250122T150000
DTSTAMP:20260419T171241
CREATED:20250106T182416Z
LAST-MODIFIED:20250106T182416Z
UID:15806-1737550800-1737558000@hfrcucc.ca
SUMMARY:HF Human Resources Commission Meeting
DESCRIPTION:
URL:https://hfrcucc.ca/event/hf-human-resources-commission-meeting-15/
LOCATION:Online via Zoom
CATEGORIES:Meeting
END:VEVENT
BEGIN:VEVENT
DTSTART;TZID=America/New_York:20250121T140000
DTEND;TZID=America/New_York:20250121T150000
DTSTAMP:20260419T171241
CREATED:20250103T214615Z
LAST-MODIFIED:20250103T214615Z
UID:15767-1737468000-1737471600@hfrcucc.ca
SUMMARY:ARW Online Clergy Gathering
DESCRIPTION:
URL:https://hfrcucc.ca/event/arw-online-clergy-gathering-11/
LOCATION:Online via Zoom
CATEGORIES:Clergy Gathering,Community,Events,Learning Opportunity,Meeting,Ministry Personnel,Online Gathering
ORGANIZER;CN="Kevin Steeper":MAILTO:KSteeper@united-church.ca
END:VEVENT
BEGIN:VEVENT
DTSTART;TZID=America/New_York:20250121T100000
DTEND;TZID=America/New_York:20250121T120000
DTSTAMP:20260419T171241
CREATED:20250106T182251Z
LAST-MODIFIED:20250106T182251Z
UID:15804-1737453600-1737460800@hfrcucc.ca
SUMMARY:WOW Pastoral Relations Commission Meeting
DESCRIPTION:
URL:https://hfrcucc.ca/event/wow-pastoral-relations-commission-meeting-16-2/
CATEGORIES:Meeting
END:VEVENT
BEGIN:VEVENT
DTSTART;TZID=America/New_York:20250118T140000
DTEND;TZID=America/New_York:20250118T140000
DTSTAMP:20260419T171241
CREATED:20250115T214618Z
LAST-MODIFIED:20250115T214618Z
UID:15876-1737208800-1737208800@hfrcucc.ca
SUMMARY:HF UCW Gathering
DESCRIPTION:Topic: Horseshoe Falls Fall zoom event\nTime: January 18th\, 2025 02:00 PM Eastern Time (US and Canada)\nJoin Zoom Meeting\nhttps://united-church.zoom.us/j/83472886564
URL:https://hfrcucc.ca/event/hf-ucw-gathering-2025/
CATEGORIES:Community,Events,Learning Opportunity,Meeting,Regional Council,Speakers,UCW
ATTACH;FMTTYPE=image/jpeg:https://hfrcucc.ca/wp-content/uploads/2025/01/Rebooked-Fall-Gathering-HFRUCW-Gathering-Jan-18th-2025-2-pm-4-pm_Page_1.jpg
END:VEVENT
BEGIN:VEVENT
DTSTART;TZID=America/New_York:20250115T090000
DTEND;TZID=America/New_York:20250115T110000
DTSTAMP:20260419T171241
CREATED:20250106T182126Z
LAST-MODIFIED:20250106T182126Z
UID:15802-1736931600-1736938800@hfrcucc.ca
SUMMARY:ARW Congregational Support Meeting
DESCRIPTION:
URL:https://hfrcucc.ca/event/arw-congregational-support-meeting-12/
LOCATION:Online via Zoom
CATEGORIES:Meeting
END:VEVENT
BEGIN:VEVENT
DTSTART;TZID=America/New_York:20250114T100000
DTEND;TZID=America/New_York:20250114T100000
DTSTAMP:20260419T171241
CREATED:20250106T182037Z
LAST-MODIFIED:20250106T182603Z
UID:15800-1736848800-1736848800@hfrcucc.ca
SUMMARY:ARW Discipleship & Justice Meeting
DESCRIPTION:
URL:https://hfrcucc.ca/event/arw-discipleship-justice-meeting-12/
LOCATION:Online via Zoom
CATEGORIES:Meeting,Regional Council
END:VEVENT
END:VCALENDAR