BEGIN:VCALENDAR
VERSION:2.0
PRODID:-//Horseshoe Falls Regional Council - ECPv6.15.20//NONSGML v1.0//EN
CALSCALE:GREGORIAN
METHOD:PUBLISH
X-WR-CALNAME:Horseshoe Falls Regional Council
X-ORIGINAL-URL:https://hfrcucc.ca
X-WR-CALDESC:Events for Horseshoe Falls Regional Council
REFRESH-INTERVAL;VALUE=DURATION:PT1H
X-Robots-Tag:noindex
X-PUBLISHED-TTL:PT1H
BEGIN:VTIMEZONE
TZID:America/New_York
BEGIN:DAYLIGHT
TZOFFSETFROM:-0500
TZOFFSETTO:-0400
TZNAME:EDT
DTSTART:20240310T070000
END:DAYLIGHT
BEGIN:STANDARD
TZOFFSETFROM:-0400
TZOFFSETTO:-0500
TZNAME:EST
DTSTART:20241103T060000
END:STANDARD
BEGIN:DAYLIGHT
TZOFFSETFROM:-0500
TZOFFSETTO:-0400
TZNAME:EDT
DTSTART:20250309T070000
END:DAYLIGHT
BEGIN:STANDARD
TZOFFSETFROM:-0400
TZOFFSETTO:-0500
TZNAME:EST
DTSTART:20251102T060000
END:STANDARD
BEGIN:DAYLIGHT
TZOFFSETFROM:-0500
TZOFFSETTO:-0400
TZNAME:EDT
DTSTART:20260308T070000
END:DAYLIGHT
BEGIN:STANDARD
TZOFFSETFROM:-0400
TZOFFSETTO:-0500
TZNAME:EST
DTSTART:20261101T060000
END:STANDARD
END:VTIMEZONE
BEGIN:VTIMEZONE
TZID:America/Toronto
BEGIN:DAYLIGHT
TZOFFSETFROM:-0500
TZOFFSETTO:-0400
TZNAME:EDT
DTSTART:20240310T070000
END:DAYLIGHT
BEGIN:STANDARD
TZOFFSETFROM:-0400
TZOFFSETTO:-0500
TZNAME:EST
DTSTART:20241103T060000
END:STANDARD
BEGIN:DAYLIGHT
TZOFFSETFROM:-0500
TZOFFSETTO:-0400
TZNAME:EDT
DTSTART:20250309T070000
END:DAYLIGHT
BEGIN:STANDARD
TZOFFSETFROM:-0400
TZOFFSETTO:-0500
TZNAME:EST
DTSTART:20251102T060000
END:STANDARD
BEGIN:DAYLIGHT
TZOFFSETFROM:-0500
TZOFFSETTO:-0400
TZNAME:EDT
DTSTART:20260308T070000
END:DAYLIGHT
BEGIN:STANDARD
TZOFFSETFROM:-0400
TZOFFSETTO:-0500
TZNAME:EST
DTSTART:20261101T060000
END:STANDARD
END:VTIMEZONE
BEGIN:VEVENT
DTSTART;TZID=America/New_York:20250610T090000
DTEND;TZID=America/New_York:20250610T090000
DTSTAMP:20260419T205303
CREATED:20250602T180533Z
LAST-MODIFIED:20250602T180533Z
UID:19602-1749546000-1749546000@hfrcucc.ca
SUMMARY:ARW Pastoral Relations Commission Meeting
DESCRIPTION:
URL:https://hfrcucc.ca/event/arw-pastoral-relations-commission-meeting-5/
CATEGORIES:Meeting
END:VEVENT
BEGIN:VEVENT
DTSTART;TZID=America/Toronto:20250607T120000
DTEND;TZID=America/Toronto:20250607T120000
DTSTAMP:20260419T205303
CREATED:20250529T145840Z
LAST-MODIFIED:20250529T145840Z
UID:19404-1749297600-1749297600@hfrcucc.ca
SUMMARY:Tri-Regional Affirming Ministries Network Online Gathering
DESCRIPTION:Saturday June 7\, 12 noon \nThe Tri-Regional Affirming Ministries Network invites you to: \nSpring Into Summer and Have a Gay Old Time \nDon your gay apparel and joining us online to celebrate pride month. \nThis will be a great opportunity to connect with others in the three regions who are working on affirming issues\, and to share resources and questions with them. \nFor a link to the meeting\, please contact John Egger\, Minister\, Social Justice at JEgger@united-church.ca
URL:https://hfrcucc.ca/event/tri-regional-affirming-ministries-network-online-gathering/
LOCATION:Online via Zoom
CATEGORIES:2SLGBTQIA,Affirming,Community,Events,Online Gathering,Regional Council,Social Justice
ATTACH;FMTTYPE=image/png:https://hfrcucc.ca/wp-content/uploads/2025/05/gaysring.png
END:VEVENT
BEGIN:VEVENT
DTSTART;VALUE=DATE:20250606
DTEND;VALUE=DATE:20250608
DTSTAMP:20260419T205303
CREATED:20250407T213139Z
LAST-MODIFIED:20250407T213139Z
UID:17888-1749168000-1749340799@hfrcucc.ca
SUMMARY:Kids Across the Regions 2025
DESCRIPTION:Registration is now open for Kids Across the Regions: \nChild participant registration HERE \nLeader participant registration HERE \nQuestion? Contact: Kathy Douglas\, Minister Faith Formation  KDouglas@united-church.ca
URL:https://hfrcucc.ca/event/kids-across-the-regions-2025/
LOCATION:Camp Bimini\, 3180 Perth Road\, St. Paul’s\, Ontario\, N0K 1V0\, Canada
CATEGORIES:2SLGBTQIA,Affirming,Camps & Retreats,Community,Festival,Learning Opportunity,Regional Council,Social Justice,Youth & Kids
ATTACH;FMTTYPE=image/jpeg:https://hfrcucc.ca/wp-content/uploads/2025/04/KAR-2025-POSTER-Final.jpg
ORGANIZER;CN="Kathy Douglas":MAILTO:kdouglas@united-church.ca
END:VEVENT
BEGIN:VEVENT
DTSTART;TZID=America/New_York:20250604T090000
DTEND;TZID=America/New_York:20250604T110000
DTSTAMP:20260419T205303
CREATED:20250602T180448Z
LAST-MODIFIED:20250602T180448Z
UID:19600-1749027600-1749034800@hfrcucc.ca
SUMMARY:ARW Congregational Support Meeting
DESCRIPTION:
URL:https://hfrcucc.ca/event/arw-congregational-support-meeting-17/
LOCATION:Online via Zoom
CATEGORIES:Meeting
END:VEVENT
BEGIN:VEVENT
DTSTART;VALUE=DATE:20250530
DTEND;VALUE=DATE:20250601
DTSTAMP:20260419T205303
CREATED:20241125T162253Z
LAST-MODIFIED:20250127T204717Z
UID:15580-1748563200-1748735999@hfrcucc.ca
SUMMARY:ARWRC Spring Meeting 2025 (Hybrid)
DESCRIPTION:Hybrid and In-Person \nWhen: May 30th and 31st\nWhere: Grace United Church\, Sarnia \nMore details to come as they become available
URL:https://hfrcucc.ca/event/arwrc-spring-meeting-2025-hybrid/
ATTACH;FMTTYPE=image/png:https://hfrcucc.ca/wp-content/uploads/2024/11/ARW-Spring-2025.png
END:VEVENT
BEGIN:VEVENT
DTSTART;TZID=America/New_York:20250529T093000
DTEND;TZID=America/New_York:20250529T113000
DTSTAMP:20260419T205303
CREATED:20250505T160624Z
LAST-MODIFIED:20250505T160624Z
UID:18563-1748511000-1748518200@hfrcucc.ca
SUMMARY:Regional Council Staff Meeting
DESCRIPTION:
URL:https://hfrcucc.ca/event/regional-council-staff-meeting-69/
LOCATION:Online via Zoom
CATEGORIES:Meeting
END:VEVENT
BEGIN:VEVENT
DTSTART;TZID=America/New_York:20250528T160000
DTEND;TZID=America/New_York:20250528T160000
DTSTAMP:20260419T205303
CREATED:20250505T161220Z
LAST-MODIFIED:20250505T161220Z
UID:18571-1748448000-1748448000@hfrcucc.ca
SUMMARY:HF Regional Council Executive Meeting
DESCRIPTION:
URL:https://hfrcucc.ca/event/hf-regional-council-executive-meeting-15/
CATEGORIES:Meeting
END:VEVENT
BEGIN:VEVENT
DTSTART;TZID=America/New_York:20250527T190000
DTEND;TZID=America/New_York:20250527T190000
DTSTAMP:20260419T205303
CREATED:20250512T140702Z
LAST-MODIFIED:20250512T140702Z
UID:18752-1748372400-1748372400@hfrcucc.ca
SUMMARY:WOW Discipleship and Justice Meeting
DESCRIPTION:
URL:https://hfrcucc.ca/event/wow-discipleship-and-justice-meeting-10/
CATEGORIES:Meeting
END:VEVENT
BEGIN:VEVENT
DTSTART;TZID=America/Toronto:20250527T190000
DTEND;TZID=America/Toronto:20250527T190000
DTSTAMP:20260419T205303
CREATED:20250117T184216Z
LAST-MODIFIED:20250117T184216Z
UID:15896-1748372400-1748372400@hfrcucc.ca
SUMMARY:Liaisons Gathering
DESCRIPTION:A time for connection\, mutual support\, and information sharing. \nWe are meeting on Tuesdays January 28th\, March 25th\, and May 27th at 7PM on Zoom. \nFor more information contact Micol Cottrell at mcottrell@united-church.ca \nRegister now here: https://regionalcouncil789.formstack.com/forms/liaisons_gathering
URL:https://hfrcucc.ca/event/liaisons-gathering-3/
LOCATION:Online via Zoom
CATEGORIES:Events,Learning Opportunity,Meeting,Online Gathering,Pastoral Relations,Regional Council
ORGANIZER;CN="Micol Cottrell":MAILTO:MCottrell@united-church.ca
END:VEVENT
BEGIN:VEVENT
DTSTART;TZID=America/New_York:20250521T130000
DTEND;TZID=America/New_York:20250521T150000
DTSTAMP:20260419T205303
CREATED:20250505T161135Z
LAST-MODIFIED:20250521T142949Z
UID:18569-1747832400-1747839600@hfrcucc.ca
SUMMARY:HF Human Resources Commission Meeting
DESCRIPTION:
URL:https://hfrcucc.ca/event/hf-human-resources-commission-meeting-19/
LOCATION:Online via Zoom
CATEGORIES:Meeting
END:VEVENT
BEGIN:VEVENT
DTSTART;TZID=America/New_York:20250521T093000
DTEND;TZID=America/New_York:20250521T113000
DTSTAMP:20260419T205303
CREATED:20250505T160100Z
LAST-MODIFIED:20250505T160100Z
UID:18551-1747819800-1747827000@hfrcucc.ca
SUMMARY:WOW Regional Council Executive Meeting
DESCRIPTION:
URL:https://hfrcucc.ca/event/wow-regional-council-executive-meeting-17/
CATEGORIES:Meeting
END:VEVENT
BEGIN:VEVENT
DTSTART;TZID=America/New_York:20250520T100000
DTEND;TZID=America/New_York:20250520T120000
DTSTAMP:20260419T205303
CREATED:20250505T161042Z
LAST-MODIFIED:20250505T161042Z
UID:18567-1747735200-1747742400@hfrcucc.ca
SUMMARY:HF Congregational Support Commission Meeting
DESCRIPTION:
URL:https://hfrcucc.ca/event/hf-congregational-support-commission-meeting-19/
END:VEVENT
BEGIN:VEVENT
DTSTART;TZID=America/New_York:20250520T100000
DTEND;TZID=America/New_York:20250520T120000
DTSTAMP:20260419T205303
CREATED:20250505T160951Z
LAST-MODIFIED:20250505T160951Z
UID:18565-1747735200-1747742400@hfrcucc.ca
SUMMARY:WOW Pastoral Relations Commission Meeting
DESCRIPTION:
URL:https://hfrcucc.ca/event/wow-pastoral-relations-commission-meeting-4/
CATEGORIES:Meeting
END:VEVENT
BEGIN:VEVENT
DTSTART;TZID=America/New_York:20250515T093000
DTEND;TZID=America/New_York:20250515T113000
DTSTAMP:20260419T205303
CREATED:20250505T160555Z
LAST-MODIFIED:20250505T160555Z
UID:18561-1747301400-1747308600@hfrcucc.ca
SUMMARY:Regional Council Staff Meeting
DESCRIPTION:
URL:https://hfrcucc.ca/event/regional-council-staff-meeting-68/
LOCATION:Online via Zoom
CATEGORIES:Meeting
END:VEVENT
BEGIN:VEVENT
DTSTART;TZID=America/New_York:20250514T100000
DTEND;TZID=America/New_York:20250514T120000
DTSTAMP:20260419T205303
CREATED:20250505T160450Z
LAST-MODIFIED:20250505T160450Z
UID:18559-1747216800-1747224000@hfrcucc.ca
SUMMARY:ARW Regional Council Executive Meeting
DESCRIPTION:
URL:https://hfrcucc.ca/event/arw-regional-council-executive-meeting-16/
CATEGORIES:Meeting
END:VEVENT
BEGIN:VEVENT
DTSTART;TZID=America/New_York:20250513T100000
DTEND;TZID=America/New_York:20250513T100000
DTSTAMP:20260419T205303
CREATED:20250505T160323Z
LAST-MODIFIED:20250505T160323Z
UID:18557-1747130400-1747130400@hfrcucc.ca
SUMMARY:ARW Discipleship & Justice Meeting
DESCRIPTION:
URL:https://hfrcucc.ca/event/arw-discipleship-justice-meeting-15/
LOCATION:Online via Zoom
CATEGORIES:Meeting,Regional Council
END:VEVENT
BEGIN:VEVENT
DTSTART;TZID=America/New_York:20250513T090000
DTEND;TZID=America/New_York:20250513T090000
DTSTAMP:20260419T205303
CREATED:20250505T160240Z
LAST-MODIFIED:20250505T160240Z
UID:18555-1747126800-1747126800@hfrcucc.ca
SUMMARY:ARW Pastoral Relations Commission Meeting
DESCRIPTION:
URL:https://hfrcucc.ca/event/arw-pastoral-relations-commission-meeting-4/
CATEGORIES:Meeting
END:VEVENT
BEGIN:VEVENT
DTSTART;TZID=America/New_York:20250507T090000
DTEND;TZID=America/New_York:20250507T110000
DTSTAMP:20260419T205303
CREATED:20250505T160152Z
LAST-MODIFIED:20250505T160152Z
UID:18553-1746608400-1746615600@hfrcucc.ca
SUMMARY:ARW Congregational Support Meeting
DESCRIPTION:
URL:https://hfrcucc.ca/event/arw-congregational-support-meeting-16/
LOCATION:Online via Zoom
CATEGORIES:Meeting
END:VEVENT
BEGIN:VEVENT
DTSTART;VALUE=DATE:20250502
DTEND;VALUE=DATE:20250504
DTSTAMP:20260419T205303
CREATED:20241125T162409Z
LAST-MODIFIED:20250127T205016Z
UID:15584-1746144000-1746316799@hfrcucc.ca
SUMMARY:WOWRC Spring Meeting 2025 (Hybrid)
DESCRIPTION:Hybrid and In-Person \nWhen: May 2nd & 3rd\nWhere: Unifor Centre\, Port Elgin \nRegistration will open on March 13th\, 2025. More details to come as they become available.
URL:https://hfrcucc.ca/event/wowrc-spring-meeting-2025-hybrid/
ATTACH;FMTTYPE=image/png:https://hfrcucc.ca/wp-content/uploads/2024/11/WOW-Spring-2025.png
END:VEVENT
BEGIN:VEVENT
DTSTART;TZID=America/Toronto:20250501T140000
DTEND;TZID=America/Toronto:20250501T153000
DTSTAMP:20260419T205303
CREATED:20240923T194516Z
LAST-MODIFIED:20240923T194516Z
UID:14040-1746108000-1746113400@hfrcucc.ca
SUMMARY:Ministry and Personnel Gathering
DESCRIPTION:Ministry & Personnel Gatherings\nA time for collegiality\, learning\, and conversation about issues facing M&P committees. \nParticipants must have completed M&P: The Basics on Zoom or through the recorded training. \nParticipants are required to agree with the confidentiality and group norms agreement as found below.  \nSituations discussed will only be talked about by broad themes without reference to individuals. \nNovember 7th 2024\, 2-3:30 PM \nJanuary 9th 2025\, 2-3:30 PM \nMarch 6th 2025\, 2-3:30 PM \nMay 1st  2025\, 2-3:30 PM \nWorship\, 30 minutes learning time\, 30 minutes of conversation\, Question and Answers\, etc. ending with a time to make suggestions for future learning. \nBy registering you agree to the following \nConfidentiality Agreement: \nI agree to maintain and respect the confidentiality of all information that is shared by group participants.  I will not share individual conversations or situations that are shared by other members of this group.   I understand and agree that failure to maintain confidentiality will result in my being asked to leave this group. \nGroup Norms: \nI will trust that God has gifted me with wisdom to share and with wisdom to gain from others. \nWhen sharing I will attempt to put situations into broad questions and not provide details about individuals.  I will strive not use the names of ministers\, employees\, or congregation members.   For example\, I will ask about a situation. If not sure how to ask a question\, I can private message Micol Cottrell or the host and they will help frame the question in broad terms\, or without context of the church\, minister\, and staff.  Note:   you can always contact Micol Cottrell MCottrell@united-church.ca with situations that you need to talk about and in that conversation can be more candid. \nI will respect that what others share is confidential and will not share that information outside of the group.   This allows for learning drawn from individual experiences. \nI will appreciate that the questions people ask may not be about a situation that they are facing as an M&P Committee at this moment\, rather a question for future learning. \nI will respect that different M&P committees work differently depending on context. \nI will be gentle with myself and with others trusting in God’s Spirit in leading us to learn together. \nRegister Now!
URL:https://hfrcucc.ca/event/ministry-and-personnel-gathering-4/
LOCATION:Online via Zoom
CATEGORIES:Events,Learning Opportunity,Ministry Personnel,Online Gathering,Staff
ORGANIZER;CN="Micol Cottrell":MAILTO:MCottrell@united-church.ca
END:VEVENT
BEGIN:VEVENT
DTSTART;TZID=America/New_York:20250501T093000
DTEND;TZID=America/New_York:20250501T113000
DTSTAMP:20260419T205303
CREATED:20250505T160025Z
LAST-MODIFIED:20250505T160025Z
UID:18548-1746091800-1746099000@hfrcucc.ca
SUMMARY:WOW Regional Council Executive Meeting
DESCRIPTION:
URL:https://hfrcucc.ca/event/wow-regional-council-executive-meeting-16/
CATEGORIES:Meeting
END:VEVENT
BEGIN:VEVENT
DTSTART;TZID=America/Toronto:20250426T084500
DTEND;TZID=America/Toronto:20250426T084500
DTSTAMP:20260419T205303
CREATED:20250213T205728Z
LAST-MODIFIED:20250213T205728Z
UID:16586-1745657100-1745657100@hfrcucc.ca
SUMMARY:ARW UCW Annual Gathering 2025
DESCRIPTION:Click here for Agenda\nClick here for Registration Form
URL:https://hfrcucc.ca/event/arw-ucw-annual-gathering-2025/
CATEGORIES:Community,Events,Indigenous Justice,Learning Opportunity,Meeting,Social Justice,Speakers,UCW
END:VEVENT
BEGIN:VEVENT
DTSTART;TZID=America/New_York:20250423T160000
DTEND;TZID=America/New_York:20250423T160000
DTSTAMP:20260419T205303
CREATED:20250401T173917Z
LAST-MODIFIED:20250401T173917Z
UID:17665-1745424000-1745424000@hfrcucc.ca
SUMMARY:HF Regional Council Executive Meeting
DESCRIPTION:
URL:https://hfrcucc.ca/event/hf-regional-council-executive-meeting-14/
CATEGORIES:Meeting
END:VEVENT
BEGIN:VEVENT
DTSTART;TZID=America/New_York:20250423T130000
DTEND;TZID=America/New_York:20250423T150000
DTSTAMP:20260419T205303
CREATED:20250401T173842Z
LAST-MODIFIED:20250401T173842Z
UID:17663-1745413200-1745420400@hfrcucc.ca
SUMMARY:HF Human Resources Commission Meeting
DESCRIPTION:
URL:https://hfrcucc.ca/event/hf-human-resources-commission-meeting-18/
LOCATION:Online via Zoom
CATEGORIES:Meeting
END:VEVENT
BEGIN:VEVENT
DTSTART;TZID=America/New_York:20250422T190000
DTEND;TZID=America/New_York:20250422T190000
DTSTAMP:20260419T205303
CREATED:20250401T173808Z
LAST-MODIFIED:20250401T173808Z
UID:17661-1745348400-1745348400@hfrcucc.ca
SUMMARY:WOW Discipleship and Justice Meeting
DESCRIPTION:
URL:https://hfrcucc.ca/event/wow-discipleship-and-justice-meeting-9/
CATEGORIES:Meeting
END:VEVENT
BEGIN:VEVENT
DTSTART;TZID=America/Toronto:20250422T100000
DTEND;TZID=America/Toronto:20250422T111500
DTSTAMP:20260419T205303
CREATED:20250325T205955Z
LAST-MODIFIED:20250325T205955Z
UID:17475-1745316000-1745320500@hfrcucc.ca
SUMMARY:Adopt a Body of Water
DESCRIPTION:Children and Youth Ministry Webinar:\nAdopt a Body of Water 🌊🌊🌊\nContact Kathy Douglas\, Tri-Regional Council Minister of Faith Formation for the Zoom link KDouglas@united-church.ca
URL:https://hfrcucc.ca/event/adopt-a-body-of-water/
LOCATION:Online via Zoom
CATEGORIES:Camps & Retreats,Climate Change,Community,Events,Learning Opportunity,Online Gathering,Social Justice,Youth & Kids
ATTACH;FMTTYPE=image/png:https://hfrcucc.ca/wp-content/uploads/2025/03/Adopt-a-Body-of-Water.png
ORGANIZER;CN="Kathy Douglas":MAILTO:kdouglas@united-church.ca
END:VEVENT
BEGIN:VEVENT
DTSTART;TZID=America/New_York:20250417T093000
DTEND;TZID=America/New_York:20250417T113000
DTSTAMP:20260419T205303
CREATED:20250401T173309Z
LAST-MODIFIED:20250401T173309Z
UID:17649-1744882200-1744889400@hfrcucc.ca
SUMMARY:Regional Council Staff Meeting
DESCRIPTION:
URL:https://hfrcucc.ca/event/regional-council-staff-meeting-67/
LOCATION:Online via Zoom
CATEGORIES:Meeting
END:VEVENT
BEGIN:VEVENT
DTSTART;TZID=America/New_York:20250416T093000
DTEND;TZID=America/New_York:20250416T113000
DTSTAMP:20260419T205303
CREATED:20250401T173720Z
LAST-MODIFIED:20250401T173720Z
UID:17659-1744795800-1744803000@hfrcucc.ca
SUMMARY:WOW Regional Council Executive Meeting
DESCRIPTION:
URL:https://hfrcucc.ca/event/wow-regional-council-executive-meeting-15/
CATEGORIES:Meeting
END:VEVENT
BEGIN:VEVENT
DTSTART;TZID=America/New_York:20250415T100000
DTEND;TZID=America/New_York:20250415T120000
DTSTAMP:20260419T205303
CREATED:20250401T173636Z
LAST-MODIFIED:20250401T173636Z
UID:17657-1744711200-1744718400@hfrcucc.ca
SUMMARY:WOW Pastoral Relations Commission Meeting
DESCRIPTION:
URL:https://hfrcucc.ca/event/wow-pastoral-relations-commission-meeting-3/
CATEGORIES:Meeting
END:VEVENT
BEGIN:VEVENT
DTSTART;TZID=America/New_York:20250409T100000
DTEND;TZID=America/New_York:20250409T120000
DTSTAMP:20260419T205303
CREATED:20250401T173556Z
LAST-MODIFIED:20250401T173556Z
UID:17655-1744192800-1744200000@hfrcucc.ca
SUMMARY:ARW Regional Council Executive Meeting
DESCRIPTION:
URL:https://hfrcucc.ca/event/arw-regional-council-executive-meeting-15/
CATEGORIES:Meeting
END:VEVENT
END:VCALENDAR