BEGIN:VCALENDAR
VERSION:2.0
PRODID:-//Horseshoe Falls Regional Council - ECPv6.15.20//NONSGML v1.0//EN
CALSCALE:GREGORIAN
METHOD:PUBLISH
X-ORIGINAL-URL:https://hfrcucc.ca
X-WR-CALDESC:Events for Horseshoe Falls Regional Council
REFRESH-INTERVAL;VALUE=DURATION:PT1H
X-Robots-Tag:noindex
X-PUBLISHED-TTL:PT1H
BEGIN:VTIMEZONE
TZID:America/New_York
BEGIN:DAYLIGHT
TZOFFSETFROM:-0500
TZOFFSETTO:-0400
TZNAME:EDT
DTSTART:20240310T070000
END:DAYLIGHT
BEGIN:STANDARD
TZOFFSETFROM:-0400
TZOFFSETTO:-0500
TZNAME:EST
DTSTART:20241103T060000
END:STANDARD
BEGIN:DAYLIGHT
TZOFFSETFROM:-0500
TZOFFSETTO:-0400
TZNAME:EDT
DTSTART:20250309T070000
END:DAYLIGHT
BEGIN:STANDARD
TZOFFSETFROM:-0400
TZOFFSETTO:-0500
TZNAME:EST
DTSTART:20251102T060000
END:STANDARD
BEGIN:DAYLIGHT
TZOFFSETFROM:-0500
TZOFFSETTO:-0400
TZNAME:EDT
DTSTART:20260308T070000
END:DAYLIGHT
BEGIN:STANDARD
TZOFFSETFROM:-0400
TZOFFSETTO:-0500
TZNAME:EST
DTSTART:20261101T060000
END:STANDARD
END:VTIMEZONE
BEGIN:VTIMEZONE
TZID:America/Toronto
BEGIN:DAYLIGHT
TZOFFSETFROM:-0500
TZOFFSETTO:-0400
TZNAME:EDT
DTSTART:20240310T070000
END:DAYLIGHT
BEGIN:STANDARD
TZOFFSETFROM:-0400
TZOFFSETTO:-0500
TZNAME:EST
DTSTART:20241103T060000
END:STANDARD
BEGIN:DAYLIGHT
TZOFFSETFROM:-0500
TZOFFSETTO:-0400
TZNAME:EDT
DTSTART:20250309T070000
END:DAYLIGHT
BEGIN:STANDARD
TZOFFSETFROM:-0400
TZOFFSETTO:-0500
TZNAME:EST
DTSTART:20251102T060000
END:STANDARD
BEGIN:DAYLIGHT
TZOFFSETFROM:-0500
TZOFFSETTO:-0400
TZNAME:EDT
DTSTART:20260308T070000
END:DAYLIGHT
BEGIN:STANDARD
TZOFFSETFROM:-0400
TZOFFSETTO:-0500
TZNAME:EST
DTSTART:20261101T060000
END:STANDARD
END:VTIMEZONE
BEGIN:VEVENT
DTSTART;TZID=America/New_York:20250318T100000
DTEND;TZID=America/New_York:20250318T120000
DTSTAMP:20260419T203447
CREATED:20250306T183519Z
LAST-MODIFIED:20250306T183519Z
UID:16892-1742292000-1742299200@hfrcucc.ca
SUMMARY:WOW Pastoral Relations Commission Meeting
DESCRIPTION:
URL:https://hfrcucc.ca/event/wow-pastoral-relations-commission-meeting-2/
CATEGORIES:Meeting
END:VEVENT
BEGIN:VEVENT
DTSTART;TZID=America/New_York:20250318T190000
DTEND;TZID=America/New_York:20250318T201500
DTSTAMP:20260419T203447
CREATED:20250220T213159Z
LAST-MODIFIED:20250220T213159Z
UID:16731-1742324400-1742328900@hfrcucc.ca
SUMMARY:Neurodiversity Round Table - Children and Youth Ministry
DESCRIPTION:Children’s Ministry Roundtable\nNeurodiversity at Church – Drawing the Circle Wider\n\nJoin our guest\, Tiffany Jull\, as we discuss neurodiversity at church. As volunteers and staff\, how do we tend the community of children who gather with us for programming and worship and be attentive to the neurodivergent needs of individual children?\nTiffany is a dedicated member of the United Church\, starting in Nova Scotia and now at Knox United Church in Ayr. She has led Sunday School classes\, Youth Groups\, and Vacation Bible School. As a parent and a professional experience as a registered Psychologist\, working with the Waterloo Region District School Board for over 25 years.\nChoose to attend either session at the time that works best for you:\n\nMarch 18th (Tuesday) at 7pm-8:15pm\nOR\nMarch 27 (Thursday) at 11am-12:15pm\n\nThese Children’s Ministry Roundtables are hosted by Regional Faith Formation staff:\nKathy Douglas (Antler River Watershed\, Horseshoe Falls\, Western Ontario Waterways)\nSharon Hull (East Central Ontario)\nShawn Redden (Canadian Shield\, Shining Waters)\n\n\nSign up here: \nChildren’s Ministry Roundtable: Neurodiversity – Shining Waters
URL:https://hfrcucc.ca/event/neurodiversity-round-table-children-and-youth-ministry/
LOCATION:Online via Zoom
CATEGORIES:Community,Events,Learning Opportunity,Meeting,Online Gathering,Youth & Kids
ATTACH;FMTTYPE=image/png:https://hfrcucc.ca/wp-content/uploads/2025/02/Childrens-Ministry-Lent-Roundtable-March18thand27th.png
ORGANIZER;CN="Kathy Douglas":MAILTO:kdouglas@united-church.ca
END:VEVENT
BEGIN:VEVENT
DTSTART;TZID=America/New_York:20250319T093000
DTEND;TZID=America/New_York:20250319T113000
DTSTAMP:20260419T203447
CREATED:20250306T183646Z
LAST-MODIFIED:20250306T183646Z
UID:16896-1742376600-1742383800@hfrcucc.ca
SUMMARY:WOW Regional Council Executive Meeting
DESCRIPTION:
URL:https://hfrcucc.ca/event/wow-regional-council-executive-meeting-13/
CATEGORIES:Meeting
END:VEVENT
BEGIN:VEVENT
DTSTART;TZID=America/New_York:20250320T093000
DTEND;TZID=America/New_York:20250320T113000
DTSTAMP:20260419T203447
CREATED:20250306T182706Z
LAST-MODIFIED:20250306T182706Z
UID:16876-1742463000-1742470200@hfrcucc.ca
SUMMARY:Regional Council Staff Meeting
DESCRIPTION:
URL:https://hfrcucc.ca/event/regional-council-staff-meeting-65/
LOCATION:Online via Zoom
CATEGORIES:Meeting
END:VEVENT
BEGIN:VEVENT
DTSTART;TZID=America/Toronto:20250327T133000
DTEND;TZID=America/Toronto:20250327T133000
DTSTAMP:20260419T203447
CREATED:20250306T183337Z
LAST-MODIFIED:20250306T184116Z
UID:16890-1743082200-1743082200@hfrcucc.ca
SUMMARY:Effective Transitional Leadership Training
DESCRIPTION:
URL:https://hfrcucc.ca/event/effective-transitional-leadership-training-4/
CATEGORIES:Events
END:VEVENT
BEGIN:VEVENT
DTSTART;TZID=America/Toronto:20250325T190000
DTEND;TZID=America/Toronto:20250325T190000
DTSTAMP:20260419T203447
CREATED:20250117T184151Z
LAST-MODIFIED:20250117T184151Z
UID:15894-1742929200-1742929200@hfrcucc.ca
SUMMARY:Liaisons Gathering
DESCRIPTION:A time for connection\, mutual support\, and information sharing. \nWe are meeting on Tuesdays January 28th\, March 25th\, and May 27th at 7PM on Zoom. \nFor more information contact Micol Cottrell at mcottrell@united-church.ca \nRegister now here: https://regionalcouncil789.formstack.com/forms/liaisons_gathering
URL:https://hfrcucc.ca/event/liaisons-gathering-2/
LOCATION:Online via Zoom
CATEGORIES:Events,Learning Opportunity,Meeting,Online Gathering,Pastoral Relations,Regional Council
ORGANIZER;CN="Micol Cottrell":MAILTO:MCottrell@united-church.ca
END:VEVENT
BEGIN:VEVENT
DTSTART;TZID=America/New_York:20250325T190000
DTEND;TZID=America/New_York:20250325T190000
DTSTAMP:20260419T203447
CREATED:20250306T183743Z
LAST-MODIFIED:20250306T183743Z
UID:16898-1742929200-1742929200@hfrcucc.ca
SUMMARY:WOW Discipleship and Justice Meeting
DESCRIPTION:
URL:https://hfrcucc.ca/event/wow-discipleship-and-justice-meeting-8/
CATEGORIES:Meeting
END:VEVENT
BEGIN:VEVENT
DTSTART;TZID=America/New_York:20250326T130000
DTEND;TZID=America/New_York:20250326T150000
DTSTAMP:20260419T203447
CREATED:20250306T183819Z
LAST-MODIFIED:20250306T183819Z
UID:16900-1742994000-1743001200@hfrcucc.ca
SUMMARY:HF Human Resources Commission Meeting
DESCRIPTION:
URL:https://hfrcucc.ca/event/hf-human-resources-commission-meeting-17/
LOCATION:Online via Zoom
CATEGORIES:Meeting
END:VEVENT
BEGIN:VEVENT
DTSTART;TZID=America/New_York:20250326T160000
DTEND;TZID=America/New_York:20250326T160000
DTSTAMP:20260419T203447
CREATED:20250306T183913Z
LAST-MODIFIED:20250306T183913Z
UID:16902-1743004800-1743004800@hfrcucc.ca
SUMMARY:HF Regional Council Executive Meeting
DESCRIPTION:
URL:https://hfrcucc.ca/event/hf-regional-council-executive-meeting-13/
CATEGORIES:Meeting
END:VEVENT
BEGIN:VEVENT
DTSTART;TZID=America/New_York:20250327T110000
DTEND;TZID=America/New_York:20250327T121500
DTSTAMP:20260419T203447
CREATED:20250220T213251Z
LAST-MODIFIED:20250220T213251Z
UID:16734-1743073200-1743077700@hfrcucc.ca
SUMMARY:Neurodiversity Round Table - Children and Youth Ministry
DESCRIPTION:Children’s Ministry Roundtable\nNeurodiversity at Church – Drawing the Circle Wider\n\nJoin our guest\, Tiffany Jull\, as we discuss neurodiversity at church. As volunteers and staff\, how do we tend the community of children who gather with us for programming and worship and be attentive to the neurodivergent needs of individual children?\nTiffany is a dedicated member of the United Church\, starting in Nova Scotia and now at Knox United Church in Ayr. She has led Sunday School classes\, Youth Groups\, and Vacation Bible School. As a parent and a professional experience as a registered Psychologist\, working with the Waterloo Region District School Board for over 25 years.\nChoose to attend either session at the time that works best for you:\n\nMarch 18th (Tuesday) at 7pm-8:15pm\nOR\nMarch 27 (Thursday) at 11am-12:15pm\n\nThese Children’s Ministry Roundtables are hosted by Regional Faith Formation staff:\nKathy Douglas (Antler River Watershed\, Horseshoe Falls\, Western Ontario Waterways)\nSharon Hull (East Central Ontario)\nShawn Redden (Canadian Shield\, Shining Waters)\n\n\nSign up here: \nChildren’s Ministry Roundtable: Neurodiversity – Shining Waters
URL:https://hfrcucc.ca/event/neurodiversity-round-table-children-and-youth-ministry-2/
LOCATION:Online via Zoom
CATEGORIES:Community,Events,Learning Opportunity,Meeting,Online Gathering,Youth & Kids
ATTACH;FMTTYPE=image/png:https://hfrcucc.ca/wp-content/uploads/2025/02/Childrens-Ministry-Lent-Roundtable-March18thand27th.png
ORGANIZER;CN="Kathy Douglas":MAILTO:kdouglas@united-church.ca
END:VEVENT
BEGIN:VEVENT
DTSTART;TZID=America/Toronto:20250327T133000
DTEND;TZID=America/Toronto:20250327T133000
DTSTAMP:20260419T203447
CREATED:20250306T184247Z
LAST-MODIFIED:20250306T184247Z
UID:16906-1743082200-1743082200@hfrcucc.ca
SUMMARY:Effective Transitional Leadership Training
DESCRIPTION:
URL:https://hfrcucc.ca/event/effective-transitional-leadership-training-5/
CATEGORIES:Events
END:VEVENT
BEGIN:VEVENT
DTSTART;TZID=America/Toronto:20250329T093000
DTEND;TZID=America/Toronto:20250329T120000
DTSTAMP:20260419T203447
CREATED:20250212T183813Z
LAST-MODIFIED:20250212T183813Z
UID:16552-1743240600-1743249600@hfrcucc.ca
SUMMARY:Godly Play
DESCRIPTION:
URL:https://hfrcucc.ca/event/godly-play/
CATEGORIES:Events,Regional Council,Youth & Kids
ATTACH;FMTTYPE=image/png:https://hfrcucc.ca/wp-content/uploads/2025/02/godlyplayposter.png
ORGANIZER;CN="Kathy Douglas":MAILTO:kdouglas@united-church.ca
END:VEVENT
BEGIN:VEVENT
DTSTART;TZID=America/New_York:20250401T093000
DTEND;TZID=America/New_York:20250401T113000
DTSTAMP:20260419T203447
CREATED:20250401T173121Z
LAST-MODIFIED:20250401T173121Z
UID:17643-1743499800-1743507000@hfrcucc.ca
SUMMARY:WOW Regional Council Executive Meeting
DESCRIPTION:
URL:https://hfrcucc.ca/event/wow-regional-council-executive-meeting-14/
CATEGORIES:Meeting
END:VEVENT
BEGIN:VEVENT
DTSTART;TZID=America/New_York:20250402T090000
DTEND;TZID=America/New_York:20250402T110000
DTSTAMP:20260419T203447
CREATED:20250401T173204Z
LAST-MODIFIED:20250401T173204Z
UID:17645-1743584400-1743591600@hfrcucc.ca
SUMMARY:ARW Congregational Support Meeting
DESCRIPTION:
URL:https://hfrcucc.ca/event/arw-congregational-support-meeting-15/
LOCATION:Online via Zoom
CATEGORIES:Meeting
END:VEVENT
BEGIN:VEVENT
DTSTART;TZID=America/New_York:20250403T093000
DTEND;TZID=America/New_York:20250403T113000
DTSTAMP:20260419T203447
CREATED:20250401T173240Z
LAST-MODIFIED:20250401T173240Z
UID:17647-1743672600-1743679800@hfrcucc.ca
SUMMARY:Regional Council Staff Meeting
DESCRIPTION:
URL:https://hfrcucc.ca/event/regional-council-staff-meeting-66/
LOCATION:Online via Zoom
CATEGORIES:Meeting
END:VEVENT
BEGIN:VEVENT
DTSTART;TZID=America/Toronto:20250403T140000
DTEND;TZID=America/Toronto:20250403T160000
DTSTAMP:20260419T203447
CREATED:20240904T142430Z
LAST-MODIFIED:20240904T142430Z
UID:13513-1743688800-1743696000@hfrcucc.ca
SUMMARY:Ministry and Personnel The Basics Workshop
DESCRIPTION:‘The Basics’: Ministry & Personnel Committee Workshops \nOnline by Zoom\, Upcoming dates:\nOctober 3rd\, December 5th\, February 6th\, April 3rd\nwith Micol Cottrell\, Minister\, Pastoral Relations \n\nOrdered ministers and designated lay ministers while in paid accountable ministry positions are office holders within The United Church of Canada. While there may be elements similar to employment\, the essential nature of the relationship is a covenant.  \n~ Statement on Ministry in The United Church of Canada (2012) \n\nNew members are often elected to the vital Ministry & Personnel Committee near the start of the year\, although M&P Committee membership can change for many other reasons throughout the year. \nThe Basics will help a new member learn the essentials of this crucial role. More experienced members of M&P Committees are invited to take this workshop as a refresher with their team\, and keep up with changing United Church practices and policies. This workshop is open to members from Western Ontario Waterways\, Antler River Watershed and Horseshoe Falls Regional Councils! \nPlease Note: each member of your M&P Committee attending this workshop is required to register. \nIn your Confirmation Email\, you will receive the Zoom link and material in preparation for the meeting to make the most of our time together. If you have questions about the content\, please email Micol Cottrell\, Minister\, Pastoral Relations\, at MCottrell@united-church.ca\, or better yet\, write down the questions to bring with you.
URL:https://hfrcucc.ca/event/ministry-and-personnel-the-basics-workshop-4/
LOCATION:Online via Zoom
CATEGORIES:Events,Meeting,Training
END:VEVENT
BEGIN:VEVENT
DTSTART;TZID=America/New_York:20250408T090000
DTEND;TZID=America/New_York:20250408T090000
DTSTAMP:20260419T203447
CREATED:20250401T173357Z
LAST-MODIFIED:20250401T173357Z
UID:17651-1744102800-1744102800@hfrcucc.ca
SUMMARY:ARW Pastoral Relations Commission Meeting
DESCRIPTION:
URL:https://hfrcucc.ca/event/arw-pastoral-relations-commission-meeting-3/
CATEGORIES:Meeting
END:VEVENT
BEGIN:VEVENT
DTSTART;TZID=America/New_York:20250408T100000
DTEND;TZID=America/New_York:20250408T120000
DTSTAMP:20260419T203447
CREATED:20250401T173445Z
LAST-MODIFIED:20250401T173445Z
UID:17653-1744106400-1744113600@hfrcucc.ca
SUMMARY:HF Congregational Support Commission Meeting
DESCRIPTION:
URL:https://hfrcucc.ca/event/hf-congregational-support-commission-meeting-18/
END:VEVENT
BEGIN:VEVENT
DTSTART;TZID=America/New_York:20250409T100000
DTEND;TZID=America/New_York:20250409T120000
DTSTAMP:20260419T203447
CREATED:20250401T173556Z
LAST-MODIFIED:20250401T173556Z
UID:17655-1744192800-1744200000@hfrcucc.ca
SUMMARY:ARW Regional Council Executive Meeting
DESCRIPTION:
URL:https://hfrcucc.ca/event/arw-regional-council-executive-meeting-15/
CATEGORIES:Meeting
END:VEVENT
BEGIN:VEVENT
DTSTART;TZID=America/New_York:20250415T100000
DTEND;TZID=America/New_York:20250415T120000
DTSTAMP:20260419T203447
CREATED:20250401T173636Z
LAST-MODIFIED:20250401T173636Z
UID:17657-1744711200-1744718400@hfrcucc.ca
SUMMARY:WOW Pastoral Relations Commission Meeting
DESCRIPTION:
URL:https://hfrcucc.ca/event/wow-pastoral-relations-commission-meeting-3/
CATEGORIES:Meeting
END:VEVENT
BEGIN:VEVENT
DTSTART;TZID=America/New_York:20250416T093000
DTEND;TZID=America/New_York:20250416T113000
DTSTAMP:20260419T203447
CREATED:20250401T173720Z
LAST-MODIFIED:20250401T173720Z
UID:17659-1744795800-1744803000@hfrcucc.ca
SUMMARY:WOW Regional Council Executive Meeting
DESCRIPTION:
URL:https://hfrcucc.ca/event/wow-regional-council-executive-meeting-15/
CATEGORIES:Meeting
END:VEVENT
BEGIN:VEVENT
DTSTART;TZID=America/New_York:20250417T093000
DTEND;TZID=America/New_York:20250417T113000
DTSTAMP:20260419T203447
CREATED:20250401T173309Z
LAST-MODIFIED:20250401T173309Z
UID:17649-1744882200-1744889400@hfrcucc.ca
SUMMARY:Regional Council Staff Meeting
DESCRIPTION:
URL:https://hfrcucc.ca/event/regional-council-staff-meeting-67/
LOCATION:Online via Zoom
CATEGORIES:Meeting
END:VEVENT
BEGIN:VEVENT
DTSTART;TZID=America/Toronto:20250422T100000
DTEND;TZID=America/Toronto:20250422T111500
DTSTAMP:20260419T203447
CREATED:20250325T205955Z
LAST-MODIFIED:20250325T205955Z
UID:17475-1745316000-1745320500@hfrcucc.ca
SUMMARY:Adopt a Body of Water
DESCRIPTION:Children and Youth Ministry Webinar:\nAdopt a Body of Water 🌊🌊🌊\nContact Kathy Douglas\, Tri-Regional Council Minister of Faith Formation for the Zoom link KDouglas@united-church.ca
URL:https://hfrcucc.ca/event/adopt-a-body-of-water/
LOCATION:Online via Zoom
CATEGORIES:Camps & Retreats,Climate Change,Community,Events,Learning Opportunity,Online Gathering,Social Justice,Youth & Kids
ATTACH;FMTTYPE=image/png:https://hfrcucc.ca/wp-content/uploads/2025/03/Adopt-a-Body-of-Water.png
ORGANIZER;CN="Kathy Douglas":MAILTO:kdouglas@united-church.ca
END:VEVENT
BEGIN:VEVENT
DTSTART;TZID=America/New_York:20250422T190000
DTEND;TZID=America/New_York:20250422T190000
DTSTAMP:20260419T203447
CREATED:20250401T173808Z
LAST-MODIFIED:20250401T173808Z
UID:17661-1745348400-1745348400@hfrcucc.ca
SUMMARY:WOW Discipleship and Justice Meeting
DESCRIPTION:
URL:https://hfrcucc.ca/event/wow-discipleship-and-justice-meeting-9/
CATEGORIES:Meeting
END:VEVENT
BEGIN:VEVENT
DTSTART;TZID=America/New_York:20250423T130000
DTEND;TZID=America/New_York:20250423T150000
DTSTAMP:20260419T203447
CREATED:20250401T173842Z
LAST-MODIFIED:20250401T173842Z
UID:17663-1745413200-1745420400@hfrcucc.ca
SUMMARY:HF Human Resources Commission Meeting
DESCRIPTION:
URL:https://hfrcucc.ca/event/hf-human-resources-commission-meeting-18/
LOCATION:Online via Zoom
CATEGORIES:Meeting
END:VEVENT
BEGIN:VEVENT
DTSTART;TZID=America/New_York:20250423T160000
DTEND;TZID=America/New_York:20250423T160000
DTSTAMP:20260419T203447
CREATED:20250401T173917Z
LAST-MODIFIED:20250401T173917Z
UID:17665-1745424000-1745424000@hfrcucc.ca
SUMMARY:HF Regional Council Executive Meeting
DESCRIPTION:
URL:https://hfrcucc.ca/event/hf-regional-council-executive-meeting-14/
CATEGORIES:Meeting
END:VEVENT
BEGIN:VEVENT
DTSTART;TZID=America/Toronto:20250426T084500
DTEND;TZID=America/Toronto:20250426T084500
DTSTAMP:20260419T203447
CREATED:20250213T205728Z
LAST-MODIFIED:20250213T205728Z
UID:16586-1745657100-1745657100@hfrcucc.ca
SUMMARY:ARW UCW Annual Gathering 2025
DESCRIPTION:Click here for Agenda\nClick here for Registration Form
URL:https://hfrcucc.ca/event/arw-ucw-annual-gathering-2025/
CATEGORIES:Community,Events,Indigenous Justice,Learning Opportunity,Meeting,Social Justice,Speakers,UCW
END:VEVENT
BEGIN:VEVENT
DTSTART;TZID=America/New_York:20250501T093000
DTEND;TZID=America/New_York:20250501T113000
DTSTAMP:20260419T203447
CREATED:20250505T160025Z
LAST-MODIFIED:20250505T160025Z
UID:18548-1746091800-1746099000@hfrcucc.ca
SUMMARY:WOW Regional Council Executive Meeting
DESCRIPTION:
URL:https://hfrcucc.ca/event/wow-regional-council-executive-meeting-16/
CATEGORIES:Meeting
END:VEVENT
BEGIN:VEVENT
DTSTART;TZID=America/Toronto:20250501T140000
DTEND;TZID=America/Toronto:20250501T153000
DTSTAMP:20260419T203447
CREATED:20240923T194516Z
LAST-MODIFIED:20240923T194516Z
UID:14040-1746108000-1746113400@hfrcucc.ca
SUMMARY:Ministry and Personnel Gathering
DESCRIPTION:Ministry & Personnel Gatherings\nA time for collegiality\, learning\, and conversation about issues facing M&P committees. \nParticipants must have completed M&P: The Basics on Zoom or through the recorded training. \nParticipants are required to agree with the confidentiality and group norms agreement as found below.  \nSituations discussed will only be talked about by broad themes without reference to individuals. \nNovember 7th 2024\, 2-3:30 PM \nJanuary 9th 2025\, 2-3:30 PM \nMarch 6th 2025\, 2-3:30 PM \nMay 1st  2025\, 2-3:30 PM \nWorship\, 30 minutes learning time\, 30 minutes of conversation\, Question and Answers\, etc. ending with a time to make suggestions for future learning. \nBy registering you agree to the following \nConfidentiality Agreement: \nI agree to maintain and respect the confidentiality of all information that is shared by group participants.  I will not share individual conversations or situations that are shared by other members of this group.   I understand and agree that failure to maintain confidentiality will result in my being asked to leave this group. \nGroup Norms: \nI will trust that God has gifted me with wisdom to share and with wisdom to gain from others. \nWhen sharing I will attempt to put situations into broad questions and not provide details about individuals.  I will strive not use the names of ministers\, employees\, or congregation members.   For example\, I will ask about a situation. If not sure how to ask a question\, I can private message Micol Cottrell or the host and they will help frame the question in broad terms\, or without context of the church\, minister\, and staff.  Note:   you can always contact Micol Cottrell MCottrell@united-church.ca with situations that you need to talk about and in that conversation can be more candid. \nI will respect that what others share is confidential and will not share that information outside of the group.   This allows for learning drawn from individual experiences. \nI will appreciate that the questions people ask may not be about a situation that they are facing as an M&P Committee at this moment\, rather a question for future learning. \nI will respect that different M&P committees work differently depending on context. \nI will be gentle with myself and with others trusting in God’s Spirit in leading us to learn together. \nRegister Now!
URL:https://hfrcucc.ca/event/ministry-and-personnel-gathering-4/
LOCATION:Online via Zoom
CATEGORIES:Events,Learning Opportunity,Ministry Personnel,Online Gathering,Staff
ORGANIZER;CN="Micol Cottrell":MAILTO:MCottrell@united-church.ca
END:VEVENT
BEGIN:VEVENT
DTSTART;VALUE=DATE:20250502
DTEND;VALUE=DATE:20250504
DTSTAMP:20260419T203447
CREATED:20241125T162409Z
LAST-MODIFIED:20250127T205016Z
UID:15584-1746144000-1746316799@hfrcucc.ca
SUMMARY:WOWRC Spring Meeting 2025 (Hybrid)
DESCRIPTION:Hybrid and In-Person \nWhen: May 2nd & 3rd\nWhere: Unifor Centre\, Port Elgin \nRegistration will open on March 13th\, 2025. More details to come as they become available.
URL:https://hfrcucc.ca/event/wowrc-spring-meeting-2025-hybrid/
ATTACH;FMTTYPE=image/png:https://hfrcucc.ca/wp-content/uploads/2024/11/WOW-Spring-2025.png
END:VEVENT
END:VCALENDAR