BEGIN:VCALENDAR
VERSION:2.0
PRODID:-//Horseshoe Falls Regional Council - ECPv6.15.20//NONSGML v1.0//EN
CALSCALE:GREGORIAN
METHOD:PUBLISH
X-WR-CALNAME:Horseshoe Falls Regional Council
X-ORIGINAL-URL:https://hfrcucc.ca
X-WR-CALDESC:Events for Horseshoe Falls Regional Council
REFRESH-INTERVAL;VALUE=DURATION:PT1H
X-Robots-Tag:noindex
X-PUBLISHED-TTL:PT1H
BEGIN:VTIMEZONE
TZID:America/New_York
BEGIN:DAYLIGHT
TZOFFSETFROM:-0500
TZOFFSETTO:-0400
TZNAME:EDT
DTSTART:20230312T070000
END:DAYLIGHT
BEGIN:STANDARD
TZOFFSETFROM:-0400
TZOFFSETTO:-0500
TZNAME:EST
DTSTART:20231105T060000
END:STANDARD
BEGIN:DAYLIGHT
TZOFFSETFROM:-0500
TZOFFSETTO:-0400
TZNAME:EDT
DTSTART:20240310T070000
END:DAYLIGHT
BEGIN:STANDARD
TZOFFSETFROM:-0400
TZOFFSETTO:-0500
TZNAME:EST
DTSTART:20241103T060000
END:STANDARD
BEGIN:DAYLIGHT
TZOFFSETFROM:-0500
TZOFFSETTO:-0400
TZNAME:EDT
DTSTART:20250309T070000
END:DAYLIGHT
BEGIN:STANDARD
TZOFFSETFROM:-0400
TZOFFSETTO:-0500
TZNAME:EST
DTSTART:20251102T060000
END:STANDARD
BEGIN:DAYLIGHT
TZOFFSETFROM:-0500
TZOFFSETTO:-0400
TZNAME:EDT
DTSTART:20260308T070000
END:DAYLIGHT
BEGIN:STANDARD
TZOFFSETFROM:-0400
TZOFFSETTO:-0500
TZNAME:EST
DTSTART:20261101T060000
END:STANDARD
END:VTIMEZONE
BEGIN:VTIMEZONE
TZID:America/Toronto
BEGIN:DAYLIGHT
TZOFFSETFROM:-0500
TZOFFSETTO:-0400
TZNAME:EDT
DTSTART:20230312T070000
END:DAYLIGHT
BEGIN:STANDARD
TZOFFSETFROM:-0400
TZOFFSETTO:-0500
TZNAME:EST
DTSTART:20231105T060000
END:STANDARD
BEGIN:DAYLIGHT
TZOFFSETFROM:-0500
TZOFFSETTO:-0400
TZNAME:EDT
DTSTART:20240310T070000
END:DAYLIGHT
BEGIN:STANDARD
TZOFFSETFROM:-0400
TZOFFSETTO:-0500
TZNAME:EST
DTSTART:20241103T060000
END:STANDARD
BEGIN:DAYLIGHT
TZOFFSETFROM:-0500
TZOFFSETTO:-0400
TZNAME:EDT
DTSTART:20250309T070000
END:DAYLIGHT
BEGIN:STANDARD
TZOFFSETFROM:-0400
TZOFFSETTO:-0500
TZNAME:EST
DTSTART:20251102T060000
END:STANDARD
BEGIN:DAYLIGHT
TZOFFSETFROM:-0500
TZOFFSETTO:-0400
TZNAME:EDT
DTSTART:20260308T070000
END:DAYLIGHT
BEGIN:STANDARD
TZOFFSETFROM:-0400
TZOFFSETTO:-0500
TZNAME:EST
DTSTART:20261101T060000
END:STANDARD
END:VTIMEZONE
BEGIN:VEVENT
DTSTART;TZID=America/New_York:20250108T100000
DTEND;TZID=America/New_York:20250108T120000
DTSTAMP:20260420T012303
CREATED:20250106T181501Z
LAST-MODIFIED:20250106T181501Z
UID:15788-1736330400-1736337600@hfrcucc.ca
SUMMARY:ARW Regional Council Executive Meeting
DESCRIPTION:
URL:https://hfrcucc.ca/event/arw-regional-council-executive-meeting-12/
CATEGORIES:Meeting
END:VEVENT
BEGIN:VEVENT
DTSTART;VALUE=DATE:20241224
DTEND;VALUE=DATE:20250102
DTSTAMP:20260420T012303
CREATED:20241205T160924Z
LAST-MODIFIED:20241205T160924Z
UID:15667-1734998400-1735775999@hfrcucc.ca
SUMMARY:Christmas Office Closure
DESCRIPTION:
URL:https://hfrcucc.ca/event/christmas-office-closure-3/
CATEGORIES:Events,Holiday,Regional Council,Staff
END:VEVENT
BEGIN:VEVENT
DTSTART;TZID=America/New_York:20241219T140000
DTEND;TZID=America/New_York:20241219T150000
DTSTAMP:20260420T012303
CREATED:20241202T214935Z
LAST-MODIFIED:20241202T214935Z
UID:15640-1734616800-1734620400@hfrcucc.ca
SUMMARY:WOW Online Clergy Gathering
DESCRIPTION:
URL:https://hfrcucc.ca/event/wow-online-clergy-gathering-10/
LOCATION:Online via Zoom
CATEGORIES:Clergy Gathering,Community,Events,Learning Opportunity,Meeting,Ministry Personnel,Online Gathering
ORGANIZER;CN="Kevin Steeper":MAILTO:KSteeper@united-church.ca
END:VEVENT
BEGIN:VEVENT
DTSTART;TZID=America/New_York:20241218T150000
DTEND;TZID=America/New_York:20241218T160000
DTSTAMP:20260420T012303
CREATED:20241202T214843Z
LAST-MODIFIED:20241202T214843Z
UID:15638-1734534000-1734537600@hfrcucc.ca
SUMMARY:HF Online Clergy Gathering
DESCRIPTION:
URL:https://hfrcucc.ca/event/hf-online-clergy-gathering-9/
LOCATION:Online via Zoom
CATEGORIES:Clergy Gathering,Community,Events,Learning Opportunity,Meeting,Ministry Personnel,Online Gathering
ATTACH;FMTTYPE=image/png:https://hfrcucc.ca/wp-content/uploads/2024/12/December-2024-KS.png
ORGANIZER;CN="Kevin Steeper":MAILTO:KSteeper@united-church.ca
END:VEVENT
BEGIN:VEVENT
DTSTART;TZID=America/New_York:20241217T140000
DTEND;TZID=America/New_York:20241217T150000
DTSTAMP:20260420T012303
CREATED:20241202T214745Z
LAST-MODIFIED:20241202T214745Z
UID:15635-1734444000-1734447600@hfrcucc.ca
SUMMARY:ARW Online Clergy Gathering
DESCRIPTION:
URL:https://hfrcucc.ca/event/arw-online-clergy-gathering-10/
LOCATION:Online via Zoom
CATEGORIES:Clergy Gathering,Community,Events,Learning Opportunity,Meeting,Ministry Personnel,Online Gathering
ORGANIZER;CN="Kevin Steeper":MAILTO:KSteeper@united-church.ca
END:VEVENT
BEGIN:VEVENT
DTSTART;TZID=America/New_York:20241217T100000
DTEND;TZID=America/New_York:20241217T120000
DTSTAMP:20260420T012303
CREATED:20241101T162059Z
LAST-MODIFIED:20241205T160618Z
UID:14473-1734429600-1734436800@hfrcucc.ca
SUMMARY:WOW Pastoral Relations Commission Meeting
DESCRIPTION:
URL:https://hfrcucc.ca/event/wow-pastoral-relations-commission-meeting-16/
CATEGORIES:Meeting
END:VEVENT
BEGIN:VEVENT
DTSTART;TZID=America/New_York:20241212T130000
DTEND;TZID=America/New_York:20241212T130000
DTSTAMP:20260420T012303
CREATED:20241205T160331Z
LAST-MODIFIED:20241205T160331Z
UID:15663-1734008400-1734008400@hfrcucc.ca
SUMMARY:WOW Congregational Support Meeting
DESCRIPTION:
URL:https://hfrcucc.ca/event/wow-congregational-support-meeting-17/
LOCATION:Online via Zoom
CATEGORIES:Meeting
END:VEVENT
BEGIN:VEVENT
DTSTART;TZID=America/New_York:20241210T190000
DTEND;TZID=America/New_York:20241210T210000
DTSTAMP:20260420T012303
CREATED:20240827T160512Z
LAST-MODIFIED:20240827T161050Z
UID:13387-1733857200-1733864400@hfrcucc.ca
SUMMARY:Search Team Training
DESCRIPTION:Search Team Training\nHas your church begun searching for a new minister? Has a search team been formed? If so\, they will need to be trained. Training can happen in two ways:\n\nWith your liaison\nOnline with Micol Cottrell\, Pastoral Relations Minister (if you have a liaison\, please invite your liaison to attend with you)\n\nTraining is mandatory for all search teams.\nThe online training is two hours and during this time we explore:\n\nThe search process\nWorking to understand and overcome the impact of bias\nThe various types of ministry personnel you will find on ChurchHub\nWhere to find resources for using ChurchHub\nAnd more.\n\nIf you are interested in taking the training online please register at Search Team Training – Formstack.\n\n\n\nThe dates for the fall are the second Tuesday of each month until December: \n\n        Sep 10\, 2024 07:00 PM\n        Oct 8\, 2024 07:00 PM\n        Nov 12\, 2024 07:00 PM\n        Dec 10\, 2024 07:00 PM
URL:https://hfrcucc.ca/event/search-team-training-7/
LOCATION:Online via Zoom
CATEGORIES:Meeting
ORGANIZER;CN="Micol Cottrell":MAILTO:MCottrell@united-church.ca
END:VEVENT
BEGIN:VEVENT
DTSTART;TZID=America/New_York:20241210T190000
DTEND;TZID=America/New_York:20241210T190000
DTSTAMP:20260420T012303
CREATED:20241205T160248Z
LAST-MODIFIED:20241205T160248Z
UID:15661-1733857200-1733857200@hfrcucc.ca
SUMMARY:HF Congregational Support Commission Meeting
DESCRIPTION:
URL:https://hfrcucc.ca/event/hf-congregational-support-commission-meeting-14/
END:VEVENT
BEGIN:VEVENT
DTSTART;TZID=America/New_York:20241210T090000
DTEND;TZID=America/New_York:20241210T090000
DTSTAMP:20260420T012303
CREATED:20241205T160209Z
LAST-MODIFIED:20241205T160209Z
UID:15659-1733821200-1733821200@hfrcucc.ca
SUMMARY:ARW Pastoral Relations Commission Meeting
DESCRIPTION:
URL:https://hfrcucc.ca/event/arw-pastoral-relations-commission-meeting-17/
CATEGORIES:Meeting
END:VEVENT
BEGIN:VEVENT
DTSTART;TZID=America/New_York:20241206T110000
DTEND;TZID=America/New_York:20241206T160000
DTSTAMP:20260420T012303
CREATED:20241205T160100Z
LAST-MODIFIED:20241205T160100Z
UID:15657-1733482800-1733500800@hfrcucc.ca
SUMMARY:Tri-Regional Executive Meeting (Online)
DESCRIPTION:
URL:https://hfrcucc.ca/event/tri-regional-executive-meeting-online-2/
LOCATION:Online via Zoom
CATEGORIES:Meeting,Regional Council,Regional Council Meeting
END:VEVENT
BEGIN:VEVENT
DTSTART;TZID=America/Toronto:20241205T140000
DTEND;TZID=America/Toronto:20241205T160000
DTSTAMP:20260420T012303
CREATED:20240904T142336Z
LAST-MODIFIED:20240904T142336Z
UID:13509-1733407200-1733414400@hfrcucc.ca
SUMMARY:Ministry and Personnel The Basics Workshop
DESCRIPTION:‘The Basics’: Ministry & Personnel Committee Workshops \nOnline by Zoom\, Upcoming dates:\nOctober 3rd\, December 5th\, February 6th\, April 3rd\nwith Micol Cottrell\, Minister\, Pastoral Relations \n\nOrdered ministers and designated lay ministers while in paid accountable ministry positions are office holders within The United Church of Canada. While there may be elements similar to employment\, the essential nature of the relationship is a covenant.  \n~ Statement on Ministry in The United Church of Canada (2012) \n\nNew members are often elected to the vital Ministry & Personnel Committee near the start of the year\, although M&P Committee membership can change for many other reasons throughout the year. \nThe Basics will help a new member learn the essentials of this crucial role. More experienced members of M&P Committees are invited to take this workshop as a refresher with their team\, and keep up with changing United Church practices and policies. This workshop is open to members from Western Ontario Waterways\, Antler River Watershed and Horseshoe Falls Regional Councils! \nPlease Note: each member of your M&P Committee attending this workshop is required to register. \nIn your Confirmation Email\, you will receive the Zoom link and material in preparation for the meeting to make the most of our time together. If you have questions about the content\, please email Micol Cottrell\, Minister\, Pastoral Relations\, at MCottrell@united-church.ca\, or better yet\, write down the questions to bring with you.
URL:https://hfrcucc.ca/event/ministry-and-personnel-the-basics-workshop-2/
LOCATION:Online via Zoom
CATEGORIES:Events,Meeting,Training
END:VEVENT
BEGIN:VEVENT
DTSTART;TZID=America/New_York:20241204T090000
DTEND;TZID=America/New_York:20241204T110000
DTSTAMP:20260420T012303
CREATED:20241205T155939Z
LAST-MODIFIED:20241205T155939Z
UID:15655-1733302800-1733310000@hfrcucc.ca
SUMMARY:ARW Congregational Support Meeting
DESCRIPTION:
URL:https://hfrcucc.ca/event/arw-congregational-support-meeting-11/
LOCATION:Online via Zoom
CATEGORIES:Meeting
END:VEVENT
BEGIN:VEVENT
DTSTART;TZID=America/New_York:20241128T183000
DTEND;TZID=America/New_York:20241128T203000
DTSTAMP:20260420T012303
CREATED:20241004T160329Z
LAST-MODIFIED:20241017T193646Z
UID:14269-1732818600-1732825800@hfrcucc.ca
SUMMARY:Fishbowl – Cross Generational Discussion
DESCRIPTION:Regional Councils of ARW\, HF and WOW in partnership with The Hub and Trinity UC Kitchener-\nThursday November 28th\, 2024\, 6:30-8:30 (all participants are asked to arrive at 6:40). \nBackground: Post-pandemic\, Youth leaders struggle to put together groups. A message often heard from youth in the church is that what’s being offered doesn’t work for them. Being an intercultural church includes finding ways to bridge communication between different age groups/generations. \nGoal– To offer a forum that brings together youth and Elders in the church– a forum that allows the two groups to hear one another and be heard by one another\, and to consider what might be the Spirit’s invitation to the church for youth ministry at this time. \nFISHBOWL PROCESS: \n8 Youth (teens to twenty-somethings) and 8 Elders (45+) from WOW\, HF and ARW Regional Councils and facilitators will gather via Zoom. \n\nDiscussion questions will invite each to share and listen to experiences of their own youth faith formation\, and hopes and challenges for youth ministry then and now.\nOn each question\, using the Zoom spotlight feature to focus on one group of eight:\n\nYouth will invite one another to share\, while the Elders listen.\nPlaces will be switched\, and the Elders will invite one another to share while the Youth listen.\nFor some questions\, the order might be reversed\, with Elders sharing first\n\n\nAfter two rounds of sharing in separate groups\, Youth and Elders will have an opportunity to reflect together as one group.\n\nEach group will be invited to reflect on what they have heard and consider possible next steps. \nParticipants will be given questions for reflection and feedback\, to be submitted in writing following the session. \nThis is a cross-cultural listening event\, and a pilot project. This session will not focus on problem solving or planning. The focus of this event is to listen and learn about one another as a first step of re-visioning youth ministry in ARW\, HF and WOW in this post-pandemic time. \nAn HONORARIUM of $105 is available for participants who are not otherwise paid for their time in this discussion. \nTo apply\, complete the Application Form : \nhttps://forms.office.com/Pages/ResponsePage.aspx?id=qLUYz3gmEUCTEhXw9xV1dPBWSFWIXSNPila5mgKiAchUM0NLV0kyWUtVM1JXUEcyOUw4QlVaRlVDUS4u \nApplication deadline November 18\, 2024 \n  \nFor more information contact \nThérèse Samuel tsamuel@united-church.ca \nKathy Douglas kdouglas@united-church.ca \nAdam Cresswell – hubleadership@gmail.com \nAimee Belanger at youthevents@hubcommunity.ca
URL:https://hfrcucc.ca/event/fishbowl-cross-generational-discussion-2/
LOCATION:Online via Zoom
CATEGORIES:2SLGBTQIA,Affirming,Anti-Racism,Community,Events,Learning Opportunity,Meeting,Online Gathering,Regional Council,Social Justice
ATTACH;FMTTYPE=image/png:https://hfrcucc.ca/wp-content/uploads/2024/10/Fishbowl2024v2.png
ORGANIZER;CN="Kathy Douglas":MAILTO:kdouglas@united-church.ca
END:VEVENT
BEGIN:VEVENT
DTSTART;TZID=America/New_York:20241128T093000
DTEND;TZID=America/New_York:20241128T113000
DTSTAMP:20260420T012303
CREATED:20241101T161923Z
LAST-MODIFIED:20241101T161923Z
UID:14469-1732786200-1732793400@hfrcucc.ca
SUMMARY:Regional Council Staff Meeting
DESCRIPTION:
URL:https://hfrcucc.ca/event/regional-council-staff-meeting-59/
LOCATION:Online via Zoom
CATEGORIES:Meeting
END:VEVENT
BEGIN:VEVENT
DTSTART;TZID=America/New_York:20241127T160000
DTEND;TZID=America/New_York:20241127T160000
DTSTAMP:20260420T012303
CREATED:20241101T162412Z
LAST-MODIFIED:20241101T162412Z
UID:14479-1732723200-1732723200@hfrcucc.ca
SUMMARY:HF Regional Council Executive Meeting
DESCRIPTION:
URL:https://hfrcucc.ca/event/hf-regional-council-executive-meeting-10/
CATEGORIES:Meeting
END:VEVENT
BEGIN:VEVENT
DTSTART;VALUE=DATE:20241125
DTEND;VALUE=DATE:20241130
DTSTAMP:20260420T012303
CREATED:20240416T133035Z
LAST-MODIFIED:20240909T180120Z
UID:11474-1732492800-1732924799@hfrcucc.ca
SUMMARY:Engage Difference
DESCRIPTION:Deepening Understanding for Intercultural Ministry\n\nNovember 25-29\, 2024 at Five Oaks\n\n\nMore information and registration here: https://www.interculturalleadership.ca/engage-difference-nov-2024-5-oaks/
URL:https://hfrcucc.ca/event/engage-difference/
LOCATION:Five Oaks Education and Retreat Centre\, 1 Bethel Road\, Paris\, Ontario\, N3L 3E3\, Canada
CATEGORIES:Community,Events,Learning Opportunity
ATTACH;FMTTYPE=image/jpeg:https://hfrcucc.ca/wp-content/uploads/2024/04/5-Oaks-November-2024-Engage-Difference-Poster.jpg
END:VEVENT
BEGIN:VEVENT
DTSTART;TZID=America/Toronto:20241123T130000
DTEND;TZID=America/Toronto:20241123T160000
DTSTAMP:20260420T012303
CREATED:20241101T170340Z
LAST-MODIFIED:20241101T170340Z
UID:14484-1732366800-1732377600@hfrcucc.ca
SUMMARY:Centering Prayer Workshop
DESCRIPTION:Centering Prayer: Introductory Workshop\nSaturday\, November 23\, 2024\n1:00-4:00 pm\nHarcourt Memorial United Church\n87 Dean Ave. Guelph \nAre you interested in learning more about a new way to pray? \nCentering prayer is an ancient form of Christian prayer that moves beyond word\, image and thought into silence. It has its roots in the wisdom sayings of Jesus and the writings of Christian contemplative masters such as Teresa of Avila\, John of the Cross and Thomas Merton. \nPresenter: The Rev. Kevin Steeper\nRegistration: office@harcourtcommunity.ca\nRegistration deadline: November 22\, 2024
URL:https://hfrcucc.ca/event/centering-prayer-workshop/
CATEGORIES:Events,Learning Opportunity
ORGANIZER;CN="Kevin Steeper":MAILTO:KSteeper@united-church.ca
END:VEVENT
BEGIN:VEVENT
DTSTART;TZID=America/New_York:20241121T140000
DTEND;TZID=America/New_York:20241121T150000
DTSTAMP:20260420T012303
CREATED:20241105T151258Z
LAST-MODIFIED:20241105T151258Z
UID:14523-1732197600-1732201200@hfrcucc.ca
SUMMARY:WOW Online Clergy Gathering
DESCRIPTION:
URL:https://hfrcucc.ca/event/wow-online-clergy-gathering-9/
LOCATION:Online via Zoom
CATEGORIES:Clergy Gathering,Community,Events,Learning Opportunity,Meeting,Ministry Personnel,Online Gathering
ORGANIZER;CN="Kevin Steeper":MAILTO:KSteeper@united-church.ca
END:VEVENT
BEGIN:VEVENT
DTSTART;TZID=America/New_York:20241120T150000
DTEND;TZID=America/New_York:20241120T160000
DTSTAMP:20260420T012303
CREATED:20241105T151134Z
LAST-MODIFIED:20241105T151134Z
UID:14521-1732114800-1732118400@hfrcucc.ca
SUMMARY:HF Online Clergy Gathering
DESCRIPTION:
URL:https://hfrcucc.ca/event/hf-online-clergy-gathering-8/
LOCATION:Online via Zoom
CATEGORIES:Clergy Gathering,Community,Events,Learning Opportunity,Meeting,Ministry Personnel,Online Gathering
ATTACH;FMTTYPE=image/png:https://hfrcucc.ca/wp-content/uploads/2024/11/KS-November-2024.png
ORGANIZER;CN="Kevin Steeper":MAILTO:KSteeper@united-church.ca
END:VEVENT
BEGIN:VEVENT
DTSTART;TZID=America/New_York:20241120T093000
DTEND;TZID=America/New_York:20241120T113000
DTSTAMP:20260420T012303
CREATED:20241101T162157Z
LAST-MODIFIED:20241101T162157Z
UID:14475-1732095000-1732102200@hfrcucc.ca
SUMMARY:WOW Regional Council Executive Meeting
DESCRIPTION:
URL:https://hfrcucc.ca/event/wow-regional-council-executive-meeting-11/
CATEGORIES:Meeting
END:VEVENT
BEGIN:VEVENT
DTSTART;TZID=America/New_York:20241119T140000
DTEND;TZID=America/New_York:20241119T150000
DTSTAMP:20260420T012303
CREATED:20241105T150859Z
LAST-MODIFIED:20241105T150859Z
UID:14518-1732024800-1732028400@hfrcucc.ca
SUMMARY:ARW Online Clergy Gathering
DESCRIPTION:
URL:https://hfrcucc.ca/event/arw-online-clergy-gathering-9/
LOCATION:Online via Zoom
CATEGORIES:Clergy Gathering,Community,Events,Learning Opportunity,Meeting,Ministry Personnel,Online Gathering
ORGANIZER;CN="Kevin Steeper":MAILTO:KSteeper@united-church.ca
END:VEVENT
BEGIN:VEVENT
DTSTART;VALUE=DATE:20241116
DTEND;VALUE=DATE:20241118
DTSTAMP:20260420T012303
CREATED:20240603T144109Z
LAST-MODIFIED:20240603T144109Z
UID:12002-1731715200-1731887999@hfrcucc.ca
SUMMARY:WOW Regional Council Fall Meeting (online)
DESCRIPTION:Fall 2024 Meeting\n\nWOWRC Fall Meeting (online): November 16-17\, 2024 \nCelebration of Ministries: To be confirmed
URL:https://hfrcucc.ca/event/wow-regional-council-fall-meeting-online/
LOCATION:Online via Zoom
CATEGORIES:Community,Events,Learning Opportunity,Meeting,Ministry Personnel,Music,Online Gathering,Regional Council,Regional Council Meeting,Speakers,Staff
END:VEVENT
BEGIN:VEVENT
DTSTART;TZID=America/New_York:20241114T130000
DTEND;TZID=America/New_York:20241114T130000
DTSTAMP:20260420T012303
CREATED:20241101T162012Z
LAST-MODIFIED:20241101T162012Z
UID:14471-1731589200-1731589200@hfrcucc.ca
SUMMARY:WOW Congregational Support Meeting
DESCRIPTION:
URL:https://hfrcucc.ca/event/wow-congregational-support-meeting-16/
LOCATION:Online via Zoom
CATEGORIES:Meeting
END:VEVENT
BEGIN:VEVENT
DTSTART;TZID=America/New_York:20241114T093000
DTEND;TZID=America/New_York:20241114T113000
DTSTAMP:20260420T012303
CREATED:20241101T161855Z
LAST-MODIFIED:20241101T161855Z
UID:14467-1731576600-1731583800@hfrcucc.ca
SUMMARY:Regional Council Staff Meeting
DESCRIPTION:
URL:https://hfrcucc.ca/event/regional-council-staff-meeting-58/
LOCATION:Online via Zoom
CATEGORIES:Meeting
END:VEVENT
BEGIN:VEVENT
DTSTART;TZID=America/New_York:20241113T130000
DTEND;TZID=America/New_York:20241113T141500
DTSTAMP:20260420T012303
CREATED:20241017T192642Z
LAST-MODIFIED:20241017T192642Z
UID:14338-1731502800-1731507300@hfrcucc.ca
SUMMARY:Advent/Christmas Round Table - All Ages Planning
DESCRIPTION:
URL:https://hfrcucc.ca/event/advent-christmas-round-table-all-ages-planning-2/
LOCATION:Online via Zoom
CATEGORIES:Community,Events,Learning Opportunity,Meeting,Online Gathering,Youth & Kids
ATTACH;FMTTYPE=image/png:https://hfrcucc.ca/wp-content/uploads/2024/10/AdventXmasRoundtable.png
ORGANIZER;CN="Kathy Douglas":MAILTO:kdouglas@united-church.ca
END:VEVENT
BEGIN:VEVENT
DTSTART;TZID=America/New_York:20241113T100000
DTEND;TZID=America/New_York:20241113T120000
DTSTAMP:20260420T012303
CREATED:20241101T161727Z
LAST-MODIFIED:20241101T161727Z
UID:14465-1731492000-1731499200@hfrcucc.ca
SUMMARY:ARW Regional Council Executive Meeting
DESCRIPTION:
URL:https://hfrcucc.ca/event/arw-regional-council-executive-meeting-11/
CATEGORIES:Meeting
END:VEVENT
BEGIN:VEVENT
DTSTART;TZID=America/New_York:20241112T190000
DTEND;TZID=America/New_York:20241112T210000
DTSTAMP:20260420T012303
CREATED:20240827T160355Z
LAST-MODIFIED:20240827T161209Z
UID:13385-1731438000-1731445200@hfrcucc.ca
SUMMARY:Search Team Training
DESCRIPTION:Search Team Training\nHas your church begun searching for a new minister? Has a search team been formed? If so\, they will need to be trained. Training can happen in two ways:\n\nWith your liaison\nOnline with Micol Cottrell\, Pastoral Relations Minister (if you have a liaison\, please invite your liaison to attend with you)\n\nTraining is mandatory for all search teams.\nThe online training is two hours and during this time we explore:\n\nThe search process\nWorking to understand and overcome the impact of bias\nThe various types of ministry personnel you will find on ChurchHub\nWhere to find resources for using ChurchHub\nAnd more.\n\nIf you are interested in taking the training online please register at Search Team Training – Formstack.\n\n\n\nThe dates for the fall are the second Tuesday of each month until December: \n\n        Sep 10\, 2024 07:00 PM\n        Oct 8\, 2024 07:00 PM\n        Nov 12\, 2024 07:00 PM\n        Dec 10\, 2024 07:00 PM
URL:https://hfrcucc.ca/event/search-team-training-6/
LOCATION:Online via Zoom
CATEGORIES:Meeting
ORGANIZER;CN="Micol Cottrell":MAILTO:MCottrell@united-church.ca
END:VEVENT
BEGIN:VEVENT
DTSTART;TZID=America/New_York:20241112T190000
DTEND;TZID=America/New_York:20241112T190000
DTSTAMP:20260420T012303
CREATED:20241101T161640Z
LAST-MODIFIED:20241101T161640Z
UID:14463-1731438000-1731438000@hfrcucc.ca
SUMMARY:HF Congregational Support Commission Meeting
DESCRIPTION:
URL:https://hfrcucc.ca/event/hf-congregational-support-commission-meeting-13/
END:VEVENT
BEGIN:VEVENT
DTSTART;TZID=America/New_York:20241112T090000
DTEND;TZID=America/New_York:20241112T090000
DTSTAMP:20260420T012303
CREATED:20241101T161542Z
LAST-MODIFIED:20241101T161542Z
UID:14461-1731402000-1731402000@hfrcucc.ca
SUMMARY:ARW Human Resources Commission Meeting
DESCRIPTION:
URL:https://hfrcucc.ca/event/arw-human-resources-commission-meeting-16/
CATEGORIES:Meeting
END:VEVENT
END:VCALENDAR