BEGIN:VCALENDAR
VERSION:2.0
PRODID:-//Horseshoe Falls Regional Council - ECPv6.15.20//NONSGML v1.0//EN
CALSCALE:GREGORIAN
METHOD:PUBLISH
X-WR-CALNAME:Horseshoe Falls Regional Council
X-ORIGINAL-URL:https://hfrcucc.ca
X-WR-CALDESC:Events for Horseshoe Falls Regional Council
REFRESH-INTERVAL;VALUE=DURATION:PT1H
X-Robots-Tag:noindex
X-PUBLISHED-TTL:PT1H
BEGIN:VTIMEZONE
TZID:America/Toronto
BEGIN:DAYLIGHT
TZOFFSETFROM:-0500
TZOFFSETTO:-0400
TZNAME:EDT
DTSTART:20230312T070000
END:DAYLIGHT
BEGIN:STANDARD
TZOFFSETFROM:-0400
TZOFFSETTO:-0500
TZNAME:EST
DTSTART:20231105T060000
END:STANDARD
BEGIN:DAYLIGHT
TZOFFSETFROM:-0500
TZOFFSETTO:-0400
TZNAME:EDT
DTSTART:20240310T070000
END:DAYLIGHT
BEGIN:STANDARD
TZOFFSETFROM:-0400
TZOFFSETTO:-0500
TZNAME:EST
DTSTART:20241103T060000
END:STANDARD
BEGIN:DAYLIGHT
TZOFFSETFROM:-0500
TZOFFSETTO:-0400
TZNAME:EDT
DTSTART:20250309T070000
END:DAYLIGHT
BEGIN:STANDARD
TZOFFSETFROM:-0400
TZOFFSETTO:-0500
TZNAME:EST
DTSTART:20251102T060000
END:STANDARD
BEGIN:DAYLIGHT
TZOFFSETFROM:-0500
TZOFFSETTO:-0400
TZNAME:EDT
DTSTART:20260308T070000
END:DAYLIGHT
BEGIN:STANDARD
TZOFFSETFROM:-0400
TZOFFSETTO:-0500
TZNAME:EST
DTSTART:20261101T060000
END:STANDARD
END:VTIMEZONE
BEGIN:VTIMEZONE
TZID:America/New_York
BEGIN:DAYLIGHT
TZOFFSETFROM:-0500
TZOFFSETTO:-0400
TZNAME:EDT
DTSTART:20230312T070000
END:DAYLIGHT
BEGIN:STANDARD
TZOFFSETFROM:-0400
TZOFFSETTO:-0500
TZNAME:EST
DTSTART:20231105T060000
END:STANDARD
BEGIN:DAYLIGHT
TZOFFSETFROM:-0500
TZOFFSETTO:-0400
TZNAME:EDT
DTSTART:20240310T070000
END:DAYLIGHT
BEGIN:STANDARD
TZOFFSETFROM:-0400
TZOFFSETTO:-0500
TZNAME:EST
DTSTART:20241103T060000
END:STANDARD
BEGIN:DAYLIGHT
TZOFFSETFROM:-0500
TZOFFSETTO:-0400
TZNAME:EDT
DTSTART:20250309T070000
END:DAYLIGHT
BEGIN:STANDARD
TZOFFSETFROM:-0400
TZOFFSETTO:-0500
TZNAME:EST
DTSTART:20251102T060000
END:STANDARD
BEGIN:DAYLIGHT
TZOFFSETFROM:-0500
TZOFFSETTO:-0400
TZNAME:EDT
DTSTART:20260308T070000
END:DAYLIGHT
BEGIN:STANDARD
TZOFFSETFROM:-0400
TZOFFSETTO:-0500
TZNAME:EST
DTSTART:20261101T060000
END:STANDARD
END:VTIMEZONE
BEGIN:VEVENT
DTSTART;TZID=America/Toronto:20250128T190000
DTEND;TZID=America/Toronto:20250128T190000
DTSTAMP:20260419T234105
CREATED:20250117T184123Z
LAST-MODIFIED:20250117T184123Z
UID:15892-1738090800-1738090800@hfrcucc.ca
SUMMARY:Liaisons Gathering
DESCRIPTION:A time for connection\, mutual support\, and information sharing. \nWe are meeting on Tuesdays January 28th\, March 25th\, and May 27th at 7PM on Zoom. \nFor more information contact Micol Cottrell at mcottrell@united-church.ca \nRegister now here: https://regionalcouncil789.formstack.com/forms/liaisons_gathering
URL:https://hfrcucc.ca/event/liaisons-gathering/
LOCATION:Online via Zoom
CATEGORIES:Events,Learning Opportunity,Meeting,Online Gathering,Pastoral Relations,Regional Council
END:VEVENT
BEGIN:VEVENT
DTSTART;TZID=America/New_York:20250123T140000
DTEND;TZID=America/New_York:20250123T150000
DTSTAMP:20260419T234105
CREATED:20250103T214728Z
LAST-MODIFIED:20250103T214728Z
UID:15769-1737640800-1737644400@hfrcucc.ca
SUMMARY:WOW Online Clergy Gathering
DESCRIPTION:
URL:https://hfrcucc.ca/event/wow-online-clergy-gathering-11/
LOCATION:Online via Zoom
CATEGORIES:Clergy Gathering,Community,Events,Learning Opportunity,Meeting,Ministry Personnel,Online Gathering
ORGANIZER;CN="Kevin Steeper":MAILTO:KSteeper@united-church.ca
END:VEVENT
BEGIN:VEVENT
DTSTART;TZID=America/New_York:20250123T093000
DTEND;TZID=America/New_York:20250123T113000
DTSTAMP:20260419T234105
CREATED:20250106T181615Z
LAST-MODIFIED:20250106T181615Z
UID:15791-1737624600-1737631800@hfrcucc.ca
SUMMARY:Regional Council Staff Meeting
DESCRIPTION:
URL:https://hfrcucc.ca/event/regional-council-staff-meeting-61/
LOCATION:Online via Zoom
CATEGORIES:Meeting
END:VEVENT
BEGIN:VEVENT
DTSTART;TZID=America/New_York:20250122T160000
DTEND;TZID=America/New_York:20250122T160000
DTSTAMP:20260419T234105
CREATED:20250106T182458Z
LAST-MODIFIED:20250106T182458Z
UID:15808-1737561600-1737561600@hfrcucc.ca
SUMMARY:HF Regional Council Executive Meeting
DESCRIPTION:
URL:https://hfrcucc.ca/event/hf-regional-council-executive-meeting-11/
CATEGORIES:Meeting
END:VEVENT
BEGIN:VEVENT
DTSTART;TZID=America/New_York:20250122T150000
DTEND;TZID=America/New_York:20250122T160000
DTSTAMP:20260419T234105
CREATED:20250103T214657Z
LAST-MODIFIED:20250103T214657Z
UID:15768-1737558000-1737561600@hfrcucc.ca
SUMMARY:HF Online Clergy Gathering
DESCRIPTION:
URL:https://hfrcucc.ca/event/hf-online-clergy-gathering-10/
LOCATION:Online via Zoom
CATEGORIES:Clergy Gathering,Community,Events,Learning Opportunity,Meeting,Ministry Personnel,Online Gathering
ATTACH;FMTTYPE=image/png:https://hfrcucc.ca/wp-content/uploads/2025/01/January-2025-KS.png
ORGANIZER;CN="Kevin Steeper":MAILTO:KSteeper@united-church.ca
END:VEVENT
BEGIN:VEVENT
DTSTART;TZID=America/New_York:20250122T130000
DTEND;TZID=America/New_York:20250122T150000
DTSTAMP:20260419T234105
CREATED:20250106T182416Z
LAST-MODIFIED:20250106T182416Z
UID:15806-1737550800-1737558000@hfrcucc.ca
SUMMARY:HF Human Resources Commission Meeting
DESCRIPTION:
URL:https://hfrcucc.ca/event/hf-human-resources-commission-meeting-15/
LOCATION:Online via Zoom
CATEGORIES:Meeting
END:VEVENT
BEGIN:VEVENT
DTSTART;TZID=America/New_York:20250121T140000
DTEND;TZID=America/New_York:20250121T150000
DTSTAMP:20260419T234105
CREATED:20250103T214615Z
LAST-MODIFIED:20250103T214615Z
UID:15767-1737468000-1737471600@hfrcucc.ca
SUMMARY:ARW Online Clergy Gathering
DESCRIPTION:
URL:https://hfrcucc.ca/event/arw-online-clergy-gathering-11/
LOCATION:Online via Zoom
CATEGORIES:Clergy Gathering,Community,Events,Learning Opportunity,Meeting,Ministry Personnel,Online Gathering
ORGANIZER;CN="Kevin Steeper":MAILTO:KSteeper@united-church.ca
END:VEVENT
BEGIN:VEVENT
DTSTART;TZID=America/New_York:20250121T100000
DTEND;TZID=America/New_York:20250121T120000
DTSTAMP:20260419T234105
CREATED:20250106T182251Z
LAST-MODIFIED:20250106T182251Z
UID:15804-1737453600-1737460800@hfrcucc.ca
SUMMARY:WOW Pastoral Relations Commission Meeting
DESCRIPTION:
URL:https://hfrcucc.ca/event/wow-pastoral-relations-commission-meeting-16-2/
CATEGORIES:Meeting
END:VEVENT
BEGIN:VEVENT
DTSTART;TZID=America/New_York:20250118T140000
DTEND;TZID=America/New_York:20250118T140000
DTSTAMP:20260419T234105
CREATED:20250115T214618Z
LAST-MODIFIED:20250115T214618Z
UID:15876-1737208800-1737208800@hfrcucc.ca
SUMMARY:HF UCW Gathering
DESCRIPTION:Topic: Horseshoe Falls Fall zoom event\nTime: January 18th\, 2025 02:00 PM Eastern Time (US and Canada)\nJoin Zoom Meeting\nhttps://united-church.zoom.us/j/83472886564
URL:https://hfrcucc.ca/event/hf-ucw-gathering-2025/
CATEGORIES:Community,Events,Learning Opportunity,Meeting,Regional Council,Speakers,UCW
ATTACH;FMTTYPE=image/jpeg:https://hfrcucc.ca/wp-content/uploads/2025/01/Rebooked-Fall-Gathering-HFRUCW-Gathering-Jan-18th-2025-2-pm-4-pm_Page_1.jpg
END:VEVENT
BEGIN:VEVENT
DTSTART;TZID=America/New_York:20250115T090000
DTEND;TZID=America/New_York:20250115T110000
DTSTAMP:20260419T234105
CREATED:20250106T182126Z
LAST-MODIFIED:20250106T182126Z
UID:15802-1736931600-1736938800@hfrcucc.ca
SUMMARY:ARW Congregational Support Meeting
DESCRIPTION:
URL:https://hfrcucc.ca/event/arw-congregational-support-meeting-12/
LOCATION:Online via Zoom
CATEGORIES:Meeting
END:VEVENT
BEGIN:VEVENT
DTSTART;TZID=America/New_York:20250114T100000
DTEND;TZID=America/New_York:20250114T100000
DTSTAMP:20260419T234105
CREATED:20250106T182037Z
LAST-MODIFIED:20250106T182603Z
UID:15800-1736848800-1736848800@hfrcucc.ca
SUMMARY:ARW Discipleship & Justice Meeting
DESCRIPTION:
URL:https://hfrcucc.ca/event/arw-discipleship-justice-meeting-12/
LOCATION:Online via Zoom
CATEGORIES:Meeting,Regional Council
END:VEVENT
BEGIN:VEVENT
DTSTART;TZID=America/New_York:20250114T100000
DTEND;TZID=America/New_York:20250114T100000
DTSTAMP:20260419T234105
CREATED:20250106T181924Z
LAST-MODIFIED:20250106T181924Z
UID:15798-1736848800-1736848800@hfrcucc.ca
SUMMARY:HF Congregational Support Commission Meeting
DESCRIPTION:
URL:https://hfrcucc.ca/event/hf-congregational-support-commission-meeting-15/
END:VEVENT
BEGIN:VEVENT
DTSTART;TZID=America/New_York:20250114T090000
DTEND;TZID=America/New_York:20250114T090000
DTSTAMP:20260419T234105
CREATED:20250106T181822Z
LAST-MODIFIED:20250106T181822Z
UID:15796-1736845200-1736845200@hfrcucc.ca
SUMMARY:ARW Pastoral Relations Commission Meeting
DESCRIPTION:
URL:https://hfrcucc.ca/event/arw-pastoral-relations-commission-meeting-17-2/
CATEGORIES:Meeting
END:VEVENT
BEGIN:VEVENT
DTSTART;TZID=America/Toronto:20250109T140000
DTEND;TZID=America/Toronto:20250109T153000
DTSTAMP:20260419T234105
CREATED:20240923T194420Z
LAST-MODIFIED:20240923T194420Z
UID:14036-1736431200-1736436600@hfrcucc.ca
SUMMARY:Ministry and Personnel Gathering
DESCRIPTION:Ministry & Personnel Gatherings\nA time for collegiality\, learning\, and conversation about issues facing M&P committees. \nParticipants must have completed M&P: The Basics on Zoom or through the recorded training. \nParticipants are required to agree with the confidentiality and group norms agreement as found below.  \nSituations discussed will only be talked about by broad themes without reference to individuals. \nNovember 7th 2024\, 2-3:30 PM \nJanuary 9th 2025\, 2-3:30 PM \nMarch 6th 2025\, 2-3:30 PM \nMay 1st  2025\, 2-3:30 PM \nWorship\, 30 minutes learning time\, 30 minutes of conversation\, Question and Answers\, etc. ending with a time to make suggestions for future learning. \nBy registering you agree to the following \nConfidentiality Agreement: \nI agree to maintain and respect the confidentiality of all information that is shared by group participants.  I will not share individual conversations or situations that are shared by other members of this group.   I understand and agree that failure to maintain confidentiality will result in my being asked to leave this group. \nGroup Norms: \nI will trust that God has gifted me with wisdom to share and with wisdom to gain from others. \nWhen sharing I will attempt to put situations into broad questions and not provide details about individuals.  I will strive not use the names of ministers\, employees\, or congregation members.   For example\, I will ask about a situation. If not sure how to ask a question\, I can private message Micol Cottrell or the host and they will help frame the question in broad terms\, or without context of the church\, minister\, and staff.  Note:   you can always contact Micol Cottrell MCottrell@united-church.ca with situations that you need to talk about and in that conversation can be more candid. \nI will respect that what others share is confidential and will not share that information outside of the group.   This allows for learning drawn from individual experiences. \nI will appreciate that the questions people ask may not be about a situation that they are facing as an M&P Committee at this moment\, rather a question for future learning. \nI will respect that different M&P committees work differently depending on context. \nI will be gentle with myself and with others trusting in God’s Spirit in leading us to learn together. \nRegister Now!
URL:https://hfrcucc.ca/event/ministry-and-personnel-gathering-2/
LOCATION:Online via Zoom
CATEGORIES:Events,Learning Opportunity,Ministry Personnel,Online Gathering,Staff
ORGANIZER;CN="Micol Cottrell":MAILTO:MCottrell@united-church.ca
END:VEVENT
BEGIN:VEVENT
DTSTART;TZID=America/New_York:20250109T130000
DTEND;TZID=America/New_York:20250109T130000
DTSTAMP:20260419T234105
CREATED:20250106T181717Z
LAST-MODIFIED:20250106T181717Z
UID:15794-1736427600-1736427600@hfrcucc.ca
SUMMARY:WOW Congregational Support Meeting
DESCRIPTION:
URL:https://hfrcucc.ca/event/wow-congregational-support-meeting-18/
LOCATION:Online via Zoom
CATEGORIES:Meeting
END:VEVENT
BEGIN:VEVENT
DTSTART;TZID=America/New_York:20250109T093000
DTEND;TZID=America/New_York:20250109T113000
DTSTAMP:20260419T234105
CREATED:20250106T181553Z
LAST-MODIFIED:20250106T181553Z
UID:15790-1736415000-1736422200@hfrcucc.ca
SUMMARY:Regional Council Staff Meeting
DESCRIPTION:
URL:https://hfrcucc.ca/event/regional-council-staff-meeting-60/
LOCATION:Online via Zoom
CATEGORIES:Meeting
END:VEVENT
BEGIN:VEVENT
DTSTART;TZID=America/New_York:20250108T100000
DTEND;TZID=America/New_York:20250108T120000
DTSTAMP:20260419T234105
CREATED:20250106T181501Z
LAST-MODIFIED:20250106T181501Z
UID:15788-1736330400-1736337600@hfrcucc.ca
SUMMARY:ARW Regional Council Executive Meeting
DESCRIPTION:
URL:https://hfrcucc.ca/event/arw-regional-council-executive-meeting-12/
CATEGORIES:Meeting
END:VEVENT
BEGIN:VEVENT
DTSTART;VALUE=DATE:20241224
DTEND;VALUE=DATE:20250102
DTSTAMP:20260419T234105
CREATED:20241205T160924Z
LAST-MODIFIED:20241205T160924Z
UID:15667-1734998400-1735775999@hfrcucc.ca
SUMMARY:Christmas Office Closure
DESCRIPTION:
URL:https://hfrcucc.ca/event/christmas-office-closure-3/
CATEGORIES:Events,Holiday,Regional Council,Staff
END:VEVENT
BEGIN:VEVENT
DTSTART;TZID=America/New_York:20241219T140000
DTEND;TZID=America/New_York:20241219T150000
DTSTAMP:20260419T234105
CREATED:20241202T214935Z
LAST-MODIFIED:20241202T214935Z
UID:15640-1734616800-1734620400@hfrcucc.ca
SUMMARY:WOW Online Clergy Gathering
DESCRIPTION:
URL:https://hfrcucc.ca/event/wow-online-clergy-gathering-10/
LOCATION:Online via Zoom
CATEGORIES:Clergy Gathering,Community,Events,Learning Opportunity,Meeting,Ministry Personnel,Online Gathering
ORGANIZER;CN="Kevin Steeper":MAILTO:KSteeper@united-church.ca
END:VEVENT
BEGIN:VEVENT
DTSTART;TZID=America/New_York:20241218T150000
DTEND;TZID=America/New_York:20241218T160000
DTSTAMP:20260419T234105
CREATED:20241202T214843Z
LAST-MODIFIED:20241202T214843Z
UID:15638-1734534000-1734537600@hfrcucc.ca
SUMMARY:HF Online Clergy Gathering
DESCRIPTION:
URL:https://hfrcucc.ca/event/hf-online-clergy-gathering-9/
LOCATION:Online via Zoom
CATEGORIES:Clergy Gathering,Community,Events,Learning Opportunity,Meeting,Ministry Personnel,Online Gathering
ATTACH;FMTTYPE=image/png:https://hfrcucc.ca/wp-content/uploads/2024/12/December-2024-KS.png
ORGANIZER;CN="Kevin Steeper":MAILTO:KSteeper@united-church.ca
END:VEVENT
BEGIN:VEVENT
DTSTART;TZID=America/New_York:20241217T140000
DTEND;TZID=America/New_York:20241217T150000
DTSTAMP:20260419T234105
CREATED:20241202T214745Z
LAST-MODIFIED:20241202T214745Z
UID:15635-1734444000-1734447600@hfrcucc.ca
SUMMARY:ARW Online Clergy Gathering
DESCRIPTION:
URL:https://hfrcucc.ca/event/arw-online-clergy-gathering-10/
LOCATION:Online via Zoom
CATEGORIES:Clergy Gathering,Community,Events,Learning Opportunity,Meeting,Ministry Personnel,Online Gathering
ORGANIZER;CN="Kevin Steeper":MAILTO:KSteeper@united-church.ca
END:VEVENT
BEGIN:VEVENT
DTSTART;TZID=America/New_York:20241217T100000
DTEND;TZID=America/New_York:20241217T120000
DTSTAMP:20260419T234105
CREATED:20241101T162059Z
LAST-MODIFIED:20241205T160618Z
UID:14473-1734429600-1734436800@hfrcucc.ca
SUMMARY:WOW Pastoral Relations Commission Meeting
DESCRIPTION:
URL:https://hfrcucc.ca/event/wow-pastoral-relations-commission-meeting-16/
CATEGORIES:Meeting
END:VEVENT
BEGIN:VEVENT
DTSTART;TZID=America/New_York:20241212T130000
DTEND;TZID=America/New_York:20241212T130000
DTSTAMP:20260419T234105
CREATED:20241205T160331Z
LAST-MODIFIED:20241205T160331Z
UID:15663-1734008400-1734008400@hfrcucc.ca
SUMMARY:WOW Congregational Support Meeting
DESCRIPTION:
URL:https://hfrcucc.ca/event/wow-congregational-support-meeting-17/
LOCATION:Online via Zoom
CATEGORIES:Meeting
END:VEVENT
BEGIN:VEVENT
DTSTART;TZID=America/New_York:20241210T190000
DTEND;TZID=America/New_York:20241210T210000
DTSTAMP:20260419T234105
CREATED:20240827T160512Z
LAST-MODIFIED:20240827T161050Z
UID:13387-1733857200-1733864400@hfrcucc.ca
SUMMARY:Search Team Training
DESCRIPTION:Search Team Training\nHas your church begun searching for a new minister? Has a search team been formed? If so\, they will need to be trained. Training can happen in two ways:\n\nWith your liaison\nOnline with Micol Cottrell\, Pastoral Relations Minister (if you have a liaison\, please invite your liaison to attend with you)\n\nTraining is mandatory for all search teams.\nThe online training is two hours and during this time we explore:\n\nThe search process\nWorking to understand and overcome the impact of bias\nThe various types of ministry personnel you will find on ChurchHub\nWhere to find resources for using ChurchHub\nAnd more.\n\nIf you are interested in taking the training online please register at Search Team Training – Formstack.\n\n\n\nThe dates for the fall are the second Tuesday of each month until December: \n\n        Sep 10\, 2024 07:00 PM\n        Oct 8\, 2024 07:00 PM\n        Nov 12\, 2024 07:00 PM\n        Dec 10\, 2024 07:00 PM
URL:https://hfrcucc.ca/event/search-team-training-7/
LOCATION:Online via Zoom
CATEGORIES:Meeting
ORGANIZER;CN="Micol Cottrell":MAILTO:MCottrell@united-church.ca
END:VEVENT
BEGIN:VEVENT
DTSTART;TZID=America/New_York:20241210T190000
DTEND;TZID=America/New_York:20241210T190000
DTSTAMP:20260419T234105
CREATED:20241205T160248Z
LAST-MODIFIED:20241205T160248Z
UID:15661-1733857200-1733857200@hfrcucc.ca
SUMMARY:HF Congregational Support Commission Meeting
DESCRIPTION:
URL:https://hfrcucc.ca/event/hf-congregational-support-commission-meeting-14/
END:VEVENT
BEGIN:VEVENT
DTSTART;TZID=America/New_York:20241210T090000
DTEND;TZID=America/New_York:20241210T090000
DTSTAMP:20260419T234105
CREATED:20241205T160209Z
LAST-MODIFIED:20241205T160209Z
UID:15659-1733821200-1733821200@hfrcucc.ca
SUMMARY:ARW Pastoral Relations Commission Meeting
DESCRIPTION:
URL:https://hfrcucc.ca/event/arw-pastoral-relations-commission-meeting-17/
CATEGORIES:Meeting
END:VEVENT
BEGIN:VEVENT
DTSTART;TZID=America/New_York:20241206T110000
DTEND;TZID=America/New_York:20241206T160000
DTSTAMP:20260419T234105
CREATED:20241205T160100Z
LAST-MODIFIED:20241205T160100Z
UID:15657-1733482800-1733500800@hfrcucc.ca
SUMMARY:Tri-Regional Executive Meeting (Online)
DESCRIPTION:
URL:https://hfrcucc.ca/event/tri-regional-executive-meeting-online-2/
LOCATION:Online via Zoom
CATEGORIES:Meeting,Regional Council,Regional Council Meeting
END:VEVENT
BEGIN:VEVENT
DTSTART;TZID=America/Toronto:20241205T140000
DTEND;TZID=America/Toronto:20241205T160000
DTSTAMP:20260419T234105
CREATED:20240904T142336Z
LAST-MODIFIED:20240904T142336Z
UID:13509-1733407200-1733414400@hfrcucc.ca
SUMMARY:Ministry and Personnel The Basics Workshop
DESCRIPTION:‘The Basics’: Ministry & Personnel Committee Workshops \nOnline by Zoom\, Upcoming dates:\nOctober 3rd\, December 5th\, February 6th\, April 3rd\nwith Micol Cottrell\, Minister\, Pastoral Relations \n\nOrdered ministers and designated lay ministers while in paid accountable ministry positions are office holders within The United Church of Canada. While there may be elements similar to employment\, the essential nature of the relationship is a covenant.  \n~ Statement on Ministry in The United Church of Canada (2012) \n\nNew members are often elected to the vital Ministry & Personnel Committee near the start of the year\, although M&P Committee membership can change for many other reasons throughout the year. \nThe Basics will help a new member learn the essentials of this crucial role. More experienced members of M&P Committees are invited to take this workshop as a refresher with their team\, and keep up with changing United Church practices and policies. This workshop is open to members from Western Ontario Waterways\, Antler River Watershed and Horseshoe Falls Regional Councils! \nPlease Note: each member of your M&P Committee attending this workshop is required to register. \nIn your Confirmation Email\, you will receive the Zoom link and material in preparation for the meeting to make the most of our time together. If you have questions about the content\, please email Micol Cottrell\, Minister\, Pastoral Relations\, at MCottrell@united-church.ca\, or better yet\, write down the questions to bring with you.
URL:https://hfrcucc.ca/event/ministry-and-personnel-the-basics-workshop-2/
LOCATION:Online via Zoom
CATEGORIES:Events,Meeting,Training
END:VEVENT
BEGIN:VEVENT
DTSTART;TZID=America/New_York:20241204T090000
DTEND;TZID=America/New_York:20241204T110000
DTSTAMP:20260419T234105
CREATED:20241205T155939Z
LAST-MODIFIED:20241205T155939Z
UID:15655-1733302800-1733310000@hfrcucc.ca
SUMMARY:ARW Congregational Support Meeting
DESCRIPTION:
URL:https://hfrcucc.ca/event/arw-congregational-support-meeting-11/
LOCATION:Online via Zoom
CATEGORIES:Meeting
END:VEVENT
BEGIN:VEVENT
DTSTART;TZID=America/New_York:20241128T183000
DTEND;TZID=America/New_York:20241128T203000
DTSTAMP:20260419T234105
CREATED:20241004T160329Z
LAST-MODIFIED:20241017T193646Z
UID:14269-1732818600-1732825800@hfrcucc.ca
SUMMARY:Fishbowl – Cross Generational Discussion
DESCRIPTION:Regional Councils of ARW\, HF and WOW in partnership with The Hub and Trinity UC Kitchener-\nThursday November 28th\, 2024\, 6:30-8:30 (all participants are asked to arrive at 6:40). \nBackground: Post-pandemic\, Youth leaders struggle to put together groups. A message often heard from youth in the church is that what’s being offered doesn’t work for them. Being an intercultural church includes finding ways to bridge communication between different age groups/generations. \nGoal– To offer a forum that brings together youth and Elders in the church– a forum that allows the two groups to hear one another and be heard by one another\, and to consider what might be the Spirit’s invitation to the church for youth ministry at this time. \nFISHBOWL PROCESS: \n8 Youth (teens to twenty-somethings) and 8 Elders (45+) from WOW\, HF and ARW Regional Councils and facilitators will gather via Zoom. \n\nDiscussion questions will invite each to share and listen to experiences of their own youth faith formation\, and hopes and challenges for youth ministry then and now.\nOn each question\, using the Zoom spotlight feature to focus on one group of eight:\n\nYouth will invite one another to share\, while the Elders listen.\nPlaces will be switched\, and the Elders will invite one another to share while the Youth listen.\nFor some questions\, the order might be reversed\, with Elders sharing first\n\n\nAfter two rounds of sharing in separate groups\, Youth and Elders will have an opportunity to reflect together as one group.\n\nEach group will be invited to reflect on what they have heard and consider possible next steps. \nParticipants will be given questions for reflection and feedback\, to be submitted in writing following the session. \nThis is a cross-cultural listening event\, and a pilot project. This session will not focus on problem solving or planning. The focus of this event is to listen and learn about one another as a first step of re-visioning youth ministry in ARW\, HF and WOW in this post-pandemic time. \nAn HONORARIUM of $105 is available for participants who are not otherwise paid for their time in this discussion. \nTo apply\, complete the Application Form : \nhttps://forms.office.com/Pages/ResponsePage.aspx?id=qLUYz3gmEUCTEhXw9xV1dPBWSFWIXSNPila5mgKiAchUM0NLV0kyWUtVM1JXUEcyOUw4QlVaRlVDUS4u \nApplication deadline November 18\, 2024 \n  \nFor more information contact \nThérèse Samuel tsamuel@united-church.ca \nKathy Douglas kdouglas@united-church.ca \nAdam Cresswell – hubleadership@gmail.com \nAimee Belanger at youthevents@hubcommunity.ca
URL:https://hfrcucc.ca/event/fishbowl-cross-generational-discussion-2/
LOCATION:Online via Zoom
CATEGORIES:2SLGBTQIA,Affirming,Anti-Racism,Community,Events,Learning Opportunity,Meeting,Online Gathering,Regional Council,Social Justice
ATTACH;FMTTYPE=image/png:https://hfrcucc.ca/wp-content/uploads/2024/10/Fishbowl2024v2.png
ORGANIZER;CN="Kathy Douglas":MAILTO:kdouglas@united-church.ca
END:VEVENT
END:VCALENDAR