BEGIN:VCALENDAR
VERSION:2.0
PRODID:-//Horseshoe Falls Regional Council - ECPv6.15.20//NONSGML v1.0//EN
CALSCALE:GREGORIAN
METHOD:PUBLISH
X-WR-CALNAME:Horseshoe Falls Regional Council
X-ORIGINAL-URL:https://hfrcucc.ca
X-WR-CALDESC:Events for Horseshoe Falls Regional Council
REFRESH-INTERVAL;VALUE=DURATION:PT1H
X-Robots-Tag:noindex
X-PUBLISHED-TTL:PT1H
BEGIN:VTIMEZONE
TZID:America/New_York
BEGIN:DAYLIGHT
TZOFFSETFROM:-0500
TZOFFSETTO:-0400
TZNAME:EDT
DTSTART:20230312T070000
END:DAYLIGHT
BEGIN:STANDARD
TZOFFSETFROM:-0400
TZOFFSETTO:-0500
TZNAME:EST
DTSTART:20231105T060000
END:STANDARD
BEGIN:DAYLIGHT
TZOFFSETFROM:-0500
TZOFFSETTO:-0400
TZNAME:EDT
DTSTART:20240310T070000
END:DAYLIGHT
BEGIN:STANDARD
TZOFFSETFROM:-0400
TZOFFSETTO:-0500
TZNAME:EST
DTSTART:20241103T060000
END:STANDARD
BEGIN:DAYLIGHT
TZOFFSETFROM:-0500
TZOFFSETTO:-0400
TZNAME:EDT
DTSTART:20250309T070000
END:DAYLIGHT
BEGIN:STANDARD
TZOFFSETFROM:-0400
TZOFFSETTO:-0500
TZNAME:EST
DTSTART:20251102T060000
END:STANDARD
END:VTIMEZONE
BEGIN:VTIMEZONE
TZID:America/Toronto
BEGIN:DAYLIGHT
TZOFFSETFROM:-0500
TZOFFSETTO:-0400
TZNAME:EDT
DTSTART:20230312T070000
END:DAYLIGHT
BEGIN:STANDARD
TZOFFSETFROM:-0400
TZOFFSETTO:-0500
TZNAME:EST
DTSTART:20231105T060000
END:STANDARD
BEGIN:DAYLIGHT
TZOFFSETFROM:-0500
TZOFFSETTO:-0400
TZNAME:EDT
DTSTART:20240310T070000
END:DAYLIGHT
BEGIN:STANDARD
TZOFFSETFROM:-0400
TZOFFSETTO:-0500
TZNAME:EST
DTSTART:20241103T060000
END:STANDARD
BEGIN:DAYLIGHT
TZOFFSETFROM:-0500
TZOFFSETTO:-0400
TZNAME:EDT
DTSTART:20250309T070000
END:DAYLIGHT
BEGIN:STANDARD
TZOFFSETFROM:-0400
TZOFFSETTO:-0500
TZNAME:EST
DTSTART:20251102T060000
END:STANDARD
END:VTIMEZONE
BEGIN:VEVENT
DTSTART;TZID=America/New_York:20241008T100000
DTEND;TZID=America/New_York:20241008T100000
DTSTAMP:20260420T033454
CREATED:20240930T144833Z
LAST-MODIFIED:20240930T144833Z
UID:14182-1728381600-1728381600@hfrcucc.ca
SUMMARY:ARW Discipleship & Justice Meeting
DESCRIPTION:
URL:https://hfrcucc.ca/event/arw-discipleship-justice-meeting-10/
LOCATION:Online via Zoom
CATEGORIES:Meeting,Regional Council
END:VEVENT
BEGIN:VEVENT
DTSTART;TZID=America/New_York:20241008T090000
DTEND;TZID=America/New_York:20241008T090000
DTSTAMP:20260420T033454
CREATED:20240930T144724Z
LAST-MODIFIED:20240930T144724Z
UID:14180-1728378000-1728378000@hfrcucc.ca
SUMMARY:ARW Human Resources Commission Meeting
DESCRIPTION:
URL:https://hfrcucc.ca/event/arw-human-resources-commission-meeting-15/
CATEGORIES:Meeting
END:VEVENT
BEGIN:VEVENT
DTSTART;VALUE=DATE:20241004
DTEND;VALUE=DATE:20241006
DTSTAMP:20260420T033454
CREATED:20240603T143946Z
LAST-MODIFIED:20240802T171609Z
UID:12000-1728000000-1728172799@hfrcucc.ca
SUMMARY:HF Regional Council Fall Meeting (online)
DESCRIPTION:Fall 2024 Meetings\n\nHFRC Fall Meeting (online): October 4-5\, 2024 \nCelebration of Ministries: To be confirmed
URL:https://hfrcucc.ca/event/hf-regional-council-fall-meeting-online/
LOCATION:Online via Zoom
CATEGORIES:Events,General Council,Learning Opportunity,Meeting,Ministry Personnel,Music,Online Gathering,Regional Council,Regional Council Meeting,Speakers,Staff
ATTACH;FMTTYPE=image/png:https://hfrcucc.ca/wp-content/uploads/2024/08/hfrc-fall-meeting-2024.png
END:VEVENT
BEGIN:VEVENT
DTSTART;TZID=America/Toronto:20241003T140000
DTEND;TZID=America/Toronto:20241003T160000
DTSTAMP:20260420T033454
CREATED:20240904T142246Z
LAST-MODIFIED:20240904T142246Z
UID:13507-1727964000-1727971200@hfrcucc.ca
SUMMARY:Ministry and Personnel The Basics Workshop
DESCRIPTION:‘The Basics’: Ministry & Personnel Committee Workshops \nOnline by Zoom\, Upcoming dates:\nOctober 3rd\, December 5th\, February 6th\, April 3rd\nwith Micol Cottrell\, Minister\, Pastoral Relations \n\nOrdered ministers and designated lay ministers while in paid accountable ministry positions are office holders within The United Church of Canada. While there may be elements similar to employment\, the essential nature of the relationship is a covenant.  \n~ Statement on Ministry in The United Church of Canada (2012) \n\nNew members are often elected to the vital Ministry & Personnel Committee near the start of the year\, although M&P Committee membership can change for many other reasons throughout the year. \nThe Basics will help a new member learn the essentials of this crucial role. More experienced members of M&P Committees are invited to take this workshop as a refresher with their team\, and keep up with changing United Church practices and policies. This workshop is open to members from Western Ontario Waterways\, Antler River Watershed and Horseshoe Falls Regional Councils! \nPlease Note: each member of your M&P Committee attending this workshop is required to register. \nIn your Confirmation Email\, you will receive the Zoom link and material in preparation for the meeting to make the most of our time together. If you have questions about the content\, please email Micol Cottrell\, Minister\, Pastoral Relations\, at MCottrell@united-church.ca\, or better yet\, write down the questions to bring with you.
URL:https://hfrcucc.ca/event/ministry-and-personnel-the-basics-workshop/
LOCATION:Online via Zoom
CATEGORIES:Events,Meeting,Training
END:VEVENT
BEGIN:VEVENT
DTSTART;TZID=America/New_York:20241003T093000
DTEND;TZID=America/New_York:20241003T113000
DTSTAMP:20260420T033454
CREATED:20240930T144502Z
LAST-MODIFIED:20240930T144502Z
UID:14174-1727947800-1727955000@hfrcucc.ca
SUMMARY:Regional Council Staff Meeting
DESCRIPTION:
URL:https://hfrcucc.ca/event/regional-council-staff-meeting-55/
LOCATION:Online via Zoom
CATEGORIES:Meeting
END:VEVENT
BEGIN:VEVENT
DTSTART;TZID=America/New_York:20241002T090000
DTEND;TZID=America/New_York:20241002T110000
DTSTAMP:20260420T033454
CREATED:20240930T144357Z
LAST-MODIFIED:20240930T144357Z
UID:14172-1727859600-1727866800@hfrcucc.ca
SUMMARY:ARW Congregational Support Meeting
DESCRIPTION:
URL:https://hfrcucc.ca/event/arw-congregational-support-meeting-9/
LOCATION:Online via Zoom
CATEGORIES:Meeting
END:VEVENT
BEGIN:VEVENT
DTSTART;VALUE=DATE:20240930
DTEND;VALUE=DATE:20241001
DTSTAMP:20260420T033454
CREATED:20240829T161258Z
LAST-MODIFIED:20240829T161258Z
UID:13435-1727654400-1727740799@hfrcucc.ca
SUMMARY:National Day for Truth and Reconciliation
DESCRIPTION:
URL:https://hfrcucc.ca/event/national-day-for-truth-and-reconciliation-3/
CATEGORIES:Indigenous Justice
END:VEVENT
BEGIN:VEVENT
DTSTART;TZID=America/Toronto:20240926T140000
DTEND;TZID=America/Toronto:20240926T150000
DTSTAMP:20260420T033454
CREATED:20240830T163337Z
LAST-MODIFIED:20240830T163337Z
UID:13447-1727359200-1727362800@hfrcucc.ca
SUMMARY:Tri-Regional Representatives Gathering
DESCRIPTION:Join together with Regional Reps from across the Tri-Regions.\nThursday September 26\, 2024\, from 2:00 – 3:00 PM \nWe will be spending time on: \n\nGetting to know each other\nOrientation to the Regional Rep Role\nQuestions\nOpen discussion\n\nPlease send any questions ahead of time to John Neff \nJoin Zoom Meeting\nhttps://united-church.zoom.us/j/82045257636?pwd=Wp8oCbHqjON3ZrgInDYNHw4JdKiOPG.1 \nMeeting ID: 820 4525 7636\nPassword: 305621
URL:https://hfrcucc.ca/event/tri-regional-representatives-gathering/
CATEGORIES:Events,Meeting
END:VEVENT
BEGIN:VEVENT
DTSTART;TZID=America/New_York:20240925T183000
DTEND;TZID=America/New_York:20240925T183000
DTSTAMP:20260420T033454
CREATED:20250829T165054Z
LAST-MODIFIED:20250829T165054Z
UID:23839-1727289000-1727289000@hfrcucc.ca
SUMMARY:HF Discipleship & Justice Meeting
DESCRIPTION:
URL:https://hfrcucc.ca/event/hf-discipleship-justice-meeting-13/
LOCATION:Online via Zoom
CATEGORIES:Meeting,Regional Council
END:VEVENT
BEGIN:VEVENT
DTSTART;TZID=America/New_York:20240925T160000
DTEND;TZID=America/New_York:20240925T160000
DTSTAMP:20260420T033454
CREATED:20240829T161150Z
LAST-MODIFIED:20240829T161150Z
UID:13433-1727280000-1727280000@hfrcucc.ca
SUMMARY:HF Regional Council Executive Meeting
DESCRIPTION:
URL:https://hfrcucc.ca/event/hf-regional-council-executive-meeting-8/
CATEGORIES:Meeting
END:VEVENT
BEGIN:VEVENT
DTSTART;TZID=America/New_York:20240925T130000
DTEND;TZID=America/New_York:20240925T130000
DTSTAMP:20260420T033454
CREATED:20240829T161034Z
LAST-MODIFIED:20240829T161034Z
UID:13431-1727269200-1727269200@hfrcucc.ca
SUMMARY:HF Human Resources Commission Meeting
DESCRIPTION:
URL:https://hfrcucc.ca/event/hf-human-resources-commission-meeting-12/
LOCATION:Online via Zoom
CATEGORIES:Meeting
END:VEVENT
BEGIN:VEVENT
DTSTART;TZID=America/New_York:20240920T093000
DTEND;TZID=America/New_York:20240920T113000
DTSTAMP:20260420T033454
CREATED:20240829T154928Z
LAST-MODIFIED:20240905T150241Z
UID:13417-1726824600-1726831800@hfrcucc.ca
SUMMARY:Regional Council Staff Meeting
DESCRIPTION:
URL:https://hfrcucc.ca/event/regional-council-staff-meeting-54/
LOCATION:Online via Zoom
CATEGORIES:Meeting
END:VEVENT
BEGIN:VEVENT
DTSTART;TZID=America/Toronto:20240918T190000
DTEND;TZID=America/Toronto:20240918T200000
DTSTAMP:20260420T033454
CREATED:20240628T181238Z
LAST-MODIFIED:20240628T181238Z
UID:12251-1726686000-1726689600@hfrcucc.ca
SUMMARY:Ask An Expert
DESCRIPTION:We’re trying something new. We’re introducing an Ask An Expert series in partnership with the General Council Office. You ask the questions\, and we’ll provide the expertise. \nWho are the experts? Well\, it depends on the topic and staff availability. \nMaybe you want to know more about the insurance partnership between the GCO and Communities of Faith. Or what you do when the local newspaper calls (or when you want to get a good story out). Or what the new government relations officer does. Or what the cost-of-living-adjustment is. \nIt’s kind of like a Pick-Your-Own-Adventure book. Here’s how it works: \n1. You send us your questions here: https://forms.office.com/r/q7UM9spU9z \n2. We find the expert who can answer them. \n3. We all tune in on Wednesday September 18th\, 7-8 p.m. by Zoom here: https://united-church.zoom.us/j/89972136949 \n4. As many questions will be answered as can be within the allotted time. Unanswered questions will carry over to the next session\, or we’ll answer them on our Regional Council Facebook group. \n5. Tough questions are okay. We’ll do our best to answer them\, and if we can’t on the spot\, we’ll follow up with the right information. \nSo\, pick your adventure. Will it be insurance? Or grants? Climate justice? Governance? Media relations? Government relations? Global partnerships? Or something else? \nYou pick. Ask your question here: https://forms.office.com/r/q7UM9spU9z.  Join us on Wednesday September 18th at 7 p.m. to get an answer in real time. Don’t have a question right now? Listeners welcome! \nThis session will be facilitated by: Michelle Owens
URL:https://hfrcucc.ca/event/ask-an-expert/
LOCATION:Online via Zoom
CATEGORIES:2SLGBTQIA,Affirming,Anti-Racism,Camps & Retreats,Climate Change,Community,Events,General Council,Indigenous Justice,Intercultural Ministry,Learning Opportunity,Meeting,Ministry Personnel,Mission Support Grants,Music,Online Gathering,Regional Council,Social Justice,Speakers,Staff,Stewardship,UCW,Youth & Kids
ATTACH;FMTTYPE=image/png:https://hfrcucc.ca/wp-content/uploads/2024/06/Ask-An-Expert-v5.png
END:VEVENT
BEGIN:VEVENT
DTSTART;TZID=America/New_York:20240918T093000
DTEND;TZID=America/New_York:20240918T113000
DTSTAMP:20260420T033454
CREATED:20240829T160934Z
LAST-MODIFIED:20240829T160934Z
UID:13429-1726651800-1726659000@hfrcucc.ca
SUMMARY:WOW Regional Council Executive Meeting
DESCRIPTION:
URL:https://hfrcucc.ca/event/wow-regional-council-executive-meeting-9/
CATEGORIES:Meeting
END:VEVENT
BEGIN:VEVENT
DTSTART;TZID=America/New_York:20240917T100000
DTEND;TZID=America/New_York:20240917T120000
DTSTAMP:20260420T033454
CREATED:20240829T160619Z
LAST-MODIFIED:20240829T160619Z
UID:13427-1726567200-1726574400@hfrcucc.ca
SUMMARY:WOW Human Resources Commission Meeting
DESCRIPTION:
URL:https://hfrcucc.ca/event/wow-human-resources-commission-meeting-14/
CATEGORIES:Meeting
END:VEVENT
BEGIN:VEVENT
DTSTART;TZID=America/New_York:20240912T130000
DTEND;TZID=America/New_York:20240912T130000
DTSTAMP:20260420T033454
CREATED:20240829T160520Z
LAST-MODIFIED:20240829T160520Z
UID:13425-1726146000-1726146000@hfrcucc.ca
SUMMARY:WOW Congregational Support Meeting
DESCRIPTION:
URL:https://hfrcucc.ca/event/wow-congregational-support-meeting-14/
LOCATION:Online via Zoom
CATEGORIES:Meeting
END:VEVENT
BEGIN:VEVENT
DTSTART;TZID=America/New_York:20240911T100000
DTEND;TZID=America/New_York:20240911T100000
DTSTAMP:20260420T033454
CREATED:20240829T160426Z
LAST-MODIFIED:20240829T160426Z
UID:13423-1726048800-1726048800@hfrcucc.ca
SUMMARY:ARW Regional Council Executive Meeting
DESCRIPTION:
URL:https://hfrcucc.ca/event/arw-regional-council-executive-meeting-9/
CATEGORIES:Meeting
END:VEVENT
BEGIN:VEVENT
DTSTART;TZID=America/New_York:20240910T190000
DTEND;TZID=America/New_York:20240910T210000
DTSTAMP:20260420T033454
CREATED:20240829T160208Z
LAST-MODIFIED:20240829T160208Z
UID:13421-1725994800-1726002000@hfrcucc.ca
SUMMARY:HF Congregational Support Commission Meeting
DESCRIPTION:
URL:https://hfrcucc.ca/event/hf-congregational-support-commission-meeting-11/
END:VEVENT
BEGIN:VEVENT
DTSTART;TZID=America/New_York:20240910T190000
DTEND;TZID=America/New_York:20240910T210000
DTSTAMP:20260420T033454
CREATED:20240827T160248Z
LAST-MODIFIED:20240827T161000Z
UID:13381-1725994800-1726002000@hfrcucc.ca
SUMMARY:Search Team Training
DESCRIPTION:Search Team Training\nHas your church begun searching for a new minister? Has a search team been formed? If so\, they will need to be trained. Training can happen in two ways:\n\nWith your liaison\nOnline with Micol Cottrell\, Pastoral Relations Minister (if you have a liaison\, please invite your liaison to attend with you)\n\nTraining is mandatory for all search teams.\nThe online training is two hours and during this time we explore:\n\nThe search process\nWorking to understand and overcome the impact of bias\nThe various types of ministry personnel you will find on ChurchHub\nWhere to find resources for using ChurchHub\nAnd more.\n\nIf you are interested in taking the training online please register at Search Team Training – Formstack.\n\n\n\nThe dates for the fall are the second Tuesday of each month until December: \n\n        Sep 10\, 2024 07:00 PM\n        Oct 8\, 2024 07:00 PM\n        Nov 12\, 2024 07:00 PM\n        Dec 10\, 2024 07:00 PM
URL:https://hfrcucc.ca/event/search-team-training-4/
LOCATION:Online via Zoom
CATEGORIES:Meeting
ORGANIZER;CN="Micol Cottrell":MAILTO:MCottrell@united-church.ca
END:VEVENT
BEGIN:VEVENT
DTSTART;TZID=America/New_York:20240910T100000
DTEND;TZID=America/New_York:20240910T100000
DTSTAMP:20260420T033455
CREATED:20240603T182630Z
LAST-MODIFIED:20240829T160253Z
UID:12009-1725962400-1725962400@hfrcucc.ca
SUMMARY:ARW Discipleship & Justice Meeting
DESCRIPTION:
URL:https://hfrcucc.ca/event/arw-discipleship-justice-meeting-9/
LOCATION:Online via Zoom
CATEGORIES:Meeting,Regional Council
END:VEVENT
BEGIN:VEVENT
DTSTART;TZID=America/New_York:20240910T090000
DTEND;TZID=America/New_York:20240910T090000
DTSTAMP:20260420T033455
CREATED:20240829T160105Z
LAST-MODIFIED:20240829T160105Z
UID:13419-1725958800-1725958800@hfrcucc.ca
SUMMARY:ARW Human Resources Commission Meeting
DESCRIPTION:
URL:https://hfrcucc.ca/event/arw-human-resources-commission-meeting-14/
CATEGORIES:Meeting
END:VEVENT
BEGIN:VEVENT
DTSTART;TZID=America/Toronto:20240906T130000
DTEND;TZID=America/Toronto:20240906T150000
DTSTAMP:20260420T033455
CREATED:20240802T170605Z
LAST-MODIFIED:20240830T154616Z
UID:13233-1725627600-1725634800@hfrcucc.ca
SUMMARY:Sue's Retirement Party
DESCRIPTION:All invited to celebrate the retirement of ARW\, HF\, WOW Regional Councils Executive Assistant\, Susan Duliban on Friday September 6th from 1 to 3pm at the Regional Council Office 1552 Hwy 6\, Waterdown\, ON L8N 2Z7 or via Zoom at this link: https://united-church.zoom.us/j/81252105843
URL:https://hfrcucc.ca/event/sues-retirement-party/
LOCATION:In-person & Online via Zoom
CATEGORIES:Community,Events,Staff
ATTACH;FMTTYPE=image/png:https://hfrcucc.ca/wp-content/uploads/2024/08/Sues-Retirement-BLEU.png
END:VEVENT
BEGIN:VEVENT
DTSTART;TZID=America/New_York:20240905T093000
DTEND;TZID=America/New_York:20240905T113000
DTSTAMP:20260420T033455
CREATED:20240829T154827Z
LAST-MODIFIED:20240829T154827Z
UID:13415-1725528600-1725535800@hfrcucc.ca
SUMMARY:Regional Council Staff Meeting
DESCRIPTION:
URL:https://hfrcucc.ca/event/regional-council-staff-meeting-53/
LOCATION:Online via Zoom
CATEGORIES:Meeting
END:VEVENT
BEGIN:VEVENT
DTSTART;TZID=America/Toronto:20240904T190000
DTEND;TZID=America/Toronto:20240904T201500
DTSTAMP:20260420T033455
CREATED:20240726T155420Z
LAST-MODIFIED:20240726T155420Z
UID:13089-1725476400-1725480900@hfrcucc.ca
SUMMARY:Curriculum Round Table
DESCRIPTION:“We Are Not Alone” in Children and Youth Ministry. \nWhat are your plans for children’s ministry this fall? Are you wondering about curriculum options? Do you want to connect\, share\, and learn from others in the field? Then don’t miss our Curriculum Round Table webinar!\nTo register or for more information\, contact: \nKdouglas@united-church.ca Kathy Douglas (she/her): Faith Formation Minister\, ARW\, HF\, WOW Regional Councils \nShull@united-church.ca Sharon Hull (she/her) Minister for Spiritual Nurture\, Respectful Relationships and Justice with All Ages\, East Central Ontario Regional Council \nSredden@united-church.ca Shawn Redden (she/her): Justice and Faith Formation Minister\, Canadian Shield & Shining Waters Regional Councils
URL:https://hfrcucc.ca/event/curriculum-round-table-2/
LOCATION:Online via Zoom
CATEGORIES:2SLGBTQIA,Affirming,Anti-Racism,Community,Events,Learning Opportunity,Meeting,Online Gathering,Social Justice,Speakers,Youth & Kids
ATTACH;FMTTYPE=image/png:https://hfrcucc.ca/wp-content/uploads/2024/07/Curriculum-Round-Table-1.png
END:VEVENT
BEGIN:VEVENT
DTSTART;TZID=America/New_York:20240904T090000
DTEND;TZID=America/New_York:20240904T110000
DTSTAMP:20260420T033455
CREATED:20240829T154734Z
LAST-MODIFIED:20240829T154734Z
UID:13413-1725440400-1725447600@hfrcucc.ca
SUMMARY:ARW Congregational Support Meeting
DESCRIPTION:
URL:https://hfrcucc.ca/event/arw-congregational-support-meeting-8/
LOCATION:Online via Zoom
CATEGORIES:Meeting
END:VEVENT
BEGIN:VEVENT
DTSTART;TZID=America/New_York:20240828T130000
DTEND;TZID=America/New_York:20240828T130000
DTSTAMP:20260420T033455
CREATED:20240802T194654Z
LAST-MODIFIED:20240802T194654Z
UID:13263-1724850000-1724850000@hfrcucc.ca
SUMMARY:HF Human Resources Commission Meeting
DESCRIPTION:
URL:https://hfrcucc.ca/event/hf-human-resources-commission-meeting-11/
LOCATION:Online via Zoom
CATEGORIES:Meeting
END:VEVENT
BEGIN:VEVENT
DTSTART;TZID=America/New_York:20240822T093000
DTEND;TZID=America/New_York:20240822T113000
DTSTAMP:20260420T033455
CREATED:20240802T194339Z
LAST-MODIFIED:20240802T194339Z
UID:13254-1724319000-1724326200@hfrcucc.ca
SUMMARY:Regional Council Staff Meeting
DESCRIPTION:
URL:https://hfrcucc.ca/event/regional-council-staff-meeting-52/
LOCATION:Online via Zoom
CATEGORIES:Meeting
END:VEVENT
BEGIN:VEVENT
DTSTART;TZID=America/Toronto:20240821T100000
DTEND;TZID=America/Toronto:20240821T111500
DTSTAMP:20260420T033455
CREATED:20240726T155336Z
LAST-MODIFIED:20240726T155336Z
UID:13086-1724234400-1724238900@hfrcucc.ca
SUMMARY:Curriculum Round Table
DESCRIPTION:“We Are Not Alone” in Children and Youth Ministry. \nWhat are your plans for children’s ministry this fall? Are you wondering about curriculum options? Do you want to connect\, share\, and learn from others in the field? Then don’t miss our Curriculum Round Table webinar!\nTo register or for more information\, contact: \nKdouglas@united-church.ca Kathy Douglas (she/her): Faith Formation Minister\, ARW\, HF\, WOW Regional Councils \nShull@united-church.ca Sharon Hull (she/her) Minister for Spiritual Nurture\, Respectful Relationships and Justice with All Ages\, East Central Ontario Regional Council \nSredden@united-church.ca Shawn Redden (she/her): Justice and Faith Formation Minister\, Canadian Shield & Shining Waters Regional Councils
URL:https://hfrcucc.ca/event/curriculum-round-table/
LOCATION:Online via Zoom
CATEGORIES:2SLGBTQIA,Affirming,Anti-Racism,Community,Events,Learning Opportunity,Meeting,Online Gathering,Social Justice,Speakers,Youth & Kids
ATTACH;FMTTYPE=image/png:https://hfrcucc.ca/wp-content/uploads/2024/07/Curriculum-Round-Table-1.png
END:VEVENT
BEGIN:VEVENT
DTSTART;TZID=America/New_York:20240820T100000
DTEND;TZID=America/New_York:20240820T120000
DTSTAMP:20260420T033455
CREATED:20240802T194600Z
LAST-MODIFIED:20240802T194600Z
UID:13261-1724148000-1724155200@hfrcucc.ca
SUMMARY:WOW Human Resources Commission Meeting
DESCRIPTION:
URL:https://hfrcucc.ca/event/wow-human-resources-commission-meeting-13/
CATEGORIES:Meeting
END:VEVENT
BEGIN:VEVENT
DTSTART;TZID=America/New_York:20240813T090000
DTEND;TZID=America/New_York:20240813T090000
DTSTAMP:20260420T033455
CREATED:20240802T194505Z
LAST-MODIFIED:20240802T194505Z
UID:13259-1723539600-1723539600@hfrcucc.ca
SUMMARY:ARW Human Resources Commission Meeting
DESCRIPTION:
URL:https://hfrcucc.ca/event/arw-human-resources-commission-meeting-13/
CATEGORIES:Meeting
END:VEVENT
END:VCALENDAR